{"text_format":"1","workbook":"xlsx","n_sheets":4,"sheets":["ddlb_control","Rank","ILD-Data-1-Ref","Picture"],"not_rendered":{"charts":0,"images":8,"macros":1,"external_links":0,"defined_names":37,"comments":0,"pivot_tables":0},"unopened":[],"bounds":{"document_bytes":16777216,"sheet_cells":100000,"rows_first":2000,"rows_last":500,"rows_between":2000,"halvings":0,"cell_chars":16384,"cell_head_chars":4096},"cells_cut":0,"cells_raw":0,"read":"whole","date_system":"1900"}

{"sheet":"ddlb_control","index":0,"n_rows":401,"n_cols":19,"rows_kept":401,"cut":false,"hidden":true,"merged":[]}
["Time Ddlb",null,"Attr1 Ddlb",null,"Attr2 Ddlb",null,"Attr3 Ddlb",null,"Attr4 Ddlb",null,"RankCol",1,null,"All","All","All","All",null,"Attrib DESCRIPTION"]
[" Latest 52 Weeks Ending Nov 27, 2016",1,"All",1,"All",1,"All",1,"All",1,"$H:$H",0,null,"TOTAL GATORADE SD","PLASTIC BOTTLE","FRUIT PUNCH",20]
[null,null,"TOTAL GATORADE SD",null,"PLASTIC BOTTLE",null,"FRUIT PUNCH",null,20,null,"D","Descending",null,"TOTAL GATORADE SD","PLASTIC BOTTLE","ORANGE",12]
[null,null,"POWERADE",null,"CANISTER",null,"ORANGE",null,12,null,"Dollar Sales",0,null,"TOTAL GATORADE SD","PLASTIC BOTTLE","FRUIT PUNCH",12]
[null,null,"BODYARMOR",null,"PLASTIC CONTAINER",null,"LEMON LIME",null,32,null,null,5,null,"TOTAL GATORADE SD","PLASTIC BOTTLE","LEMON LIME",12]
[null,null,"DR PEPPER BASE",null,12,null,"GRAPE",null,128,null,null,10,null,"TOTAL GATORADE SD","PLASTIC BOTTLE","GRAPE",20]
[null,null,"COKE ZERO",null,67.6,null,"COOL BLUE",null,51,null,null,15,null,"TOTAL GATORADE SD","PLASTIC BOTTLE","COOL BLUE",20]
[null,null,"A & W",null,20,null,"GLACIER FREEZE",null,64,null,null,20,null,"TOTAL GATORADE SD","PLASTIC BOTTLE","ORANGE",32]
[null,null,"SIERRA MIST BASE",null,16.9,null,"ASSORTED",null,16,null,null,25,null,"TOTAL GATORADE SD","PLASTIC BOTTLE","GLACIER FREEZE",12]
[null,null,"7UP BASE",null,42.2,null,"GLACIER CHERRY",null,18.4,null,null,30,null,"TOTAL GATORADE SD","PLASTIC BOTTLE","GRAPE",12]
[null,null,"SPRITE BASE",null,7.5,null,"MIXED BERRY",null,19.6,null,null,35,null,"TOTAL GATORADE SD","PLASTIC BOTTLE","LEMON LIME",32]
[null,null,"BIG RED",null,16,null,"BERRY",null,20.1,null,null,40,null,"TOTAL GATORADE SD","PLASTIC BOTTLE","FRUIT PUNCH",32]
[null,null,"CANADA DRY",null,33.8,null,"MOUNTAIN BERRY BLAST",null,"DIET",null,null,45,null,"TOTAL GATORADE SD","PLASTIC BOTTLE","GLACIER FREEZE",32]
[null,null,"DR PEPPER TEN",null,10,null,"RASPBERRY LEMONADE",null,"REGULAR",null,null,50,null,"TOTAL GATORADE SD","PLASTIC BOTTLE","ORANGE",20]
[null,null,"MELLO YELLO BASE",null,42.26,null,"ICE PUNCH",null,"MID CALORIE",null,null,55,null,"TOTAL GATORADE SD","PLASTIC BOTTLE","FRUIT PUNCH",20]
[null,null,"MTN DEW VOLTAGE (DEWMOCRACY I)",null,101.4,null,"FIERCE GRAPE",null,"REGULAR/DIET",null,null,60,null,"TOTAL GATORADE SD","PLASTIC BOTTLE","ASSORTED",12]
[null,null,"SEAGRAMS",null,8.5,null,"CITRUS COOLER",null,null,null,null,65,null,"TOTAL GATORADE SD","PLASTIC BOTTLE","GLACIER CHERRY",20]
[null,null,"PEPSI WILD CHERRY",null,8,null,"RIPTIDE RUSH",null,null,null,null,70,null,"POWERADE","PLASTIC BOTTLE","MIXED BERRY",20]
[null,null,"MTN DEW THROWBACK",null,24,null,"ARCTIC BLITZ",null,null,null,null,75,null,"TOTAL GATORADE SD","PLASTIC BOTTLE","BERRY",12]
[null,null,"RC",null,7,null,"STRAWBERRY WATERMELON",null,null,null,null,80,null,"TOTAL GATORADE SD","PLASTIC BOTTLE","GLACIER FREEZE",20]
[null,null,"CRUSH",null,12.7,null,"BLUE CHERRY",null,null,null,null,85,null,"TOTAL GATORADE SD","PLASTIC BOTTLE","ASSORTED",12]
[null,null,"MUG",null,50.7,null,"GREEN APPLE",null,null,null,null,90,null,"TOTAL GATORADE SD","PLASTIC BOTTLE","GLACIER CHERRY",12]
[null,null,"COKE WITH SPLENDA",null,12.5,null,"TROPICAL MANGO",null,null,null,null,95,null,"TOTAL GATORADE SD","PLASTIC BOTTLE","LEMON LIME",20]
[null,null,"PEPSI BASE",null,6.8,null,"STRAWBERRY LEMONADE",null,null,null,null,100,null,"POWERADE","PLASTIC BOTTLE","MOUNTAIN BERRY BLAST",20]
[null,null,"MTN DEW BASE",null,null,null,"TROPICAL COOLER",null,null,null,null,null,null,"TOTAL GATORADE SD","PLASTIC BOTTLE","RASPBERRY LEMONADE",20]
[null,null,"SCHWEPPES",null,null,null,"ICY CHARGE",null,null,null,null,null,null,"TOTAL GATORADE SD","PLASTIC BOTTLE","ICE PUNCH",12]
[null,null,"SUNKIST",null,null,null,"ORANGE MANGO",null,null,null,null,null,null,"TOTAL GATORADE SD","PLASTIC BOTTLE","FIERCE GRAPE",20]
[null,null,"FANTA",null,null,null,"STRAWBERRY BANANA",null,null,null,null,null,null,"TOTAL GATORADE SD","PLASTIC BOTTLE","CITRUS COOLER",20]
[null,null,"IBC",null,null,null,"TROPICAL PUNCH",null,null,null,null,null,null,"TOTAL GATORADE SD","PLASTIC BOTTLE","RIPTIDE RUSH",20]
[null,null,"VERNORS",null,null,null,"WHITE CHERRY",null,null,null,null,null,null,"TOTAL GATORADE SD","PLASTIC BOTTLE","ARCTIC BLITZ",20]
[null,null,"PEPSI MAX",null,null,null,"BLACKOUT BERRY",null,null,null,null,null,null,"TOTAL GATORADE SD","PLASTIC BOTTLE","GRAPE",32]
[null,null,"BARQS",null,null,null,"MELON",null,null,null,null,null,null,"POWERADE","PLASTIC BOTTLE","FRUIT PUNCH",20]
[null,null,"FRESCA",null,null,null,"STRAWBERRY",null,null,null,null,null,null,"POWERADE","PLASTIC BOTTLE","FRUIT PUNCH",20]
[null,null,"7UP ANTIOXIDANT",null,null,null,"FRUIT PUNCH WITH BERRY",null,null,null,null,null,null,"TOTAL GATORADE SD","PLASTIC BOTTLE","GLACIER CHERRY",32]
[null,null,"DIET RITE PURE ZERO",null,null,null,"TWISTED BLACKBERRY",null,null,null,null,null,null,"TOTAL GATORADE SD","PLASTIC BOTTLE","FIERCE GRAPE",32]
[null,null,"MTN DEW KICK START",null,null,null,"WATERMELON STRAWBERRY",null,null,null,null,null,null,"POWERADE","PLASTIC BOTTLE","ORANGE",20]
[null,null,"PIBB XTRA",null,null,null,"LEMONADE",null,null,null,null,null,null,"TOTAL GATORADE SD","PLASTIC BOTTLE","ARCTIC BLITZ",32]
[null,null,"COKE CHERRY",null,null,null,"FIERCE MELON",null,null,null,null,null,null,"POWERADE","PLASTIC BOTTLE","MOUNTAIN BERRY BLAST",32]
[null,null,"SQUIRT",null,null,null,"FIERCE STRAWBERRY",null,null,null,null,null,null,"TOTAL GATORADE SD","PLASTIC BOTTLE","STRAWBERRY WATERMELON",32]
[null,null,"REEDS EXTRA GINGER BREW",null,null,null,"BLUEBERRY POMEGRANATE",null,null,null,null,null,null,"TOTAL GATORADE SD","PLASTIC BOTTLE","COOL BLUE",32]
[null,null,"TAB",null,null,null,"CAFFEINE",null,null,null,null,null,null,"TOTAL GATORADE SD","PLASTIC BOTTLE","CITRUS COOLER",32]
[null,null,"COKE CLASSIC",null,null,null,"CAFFEINE FREE",null,null,null,null,null,null,"TOTAL GATORADE SD","PLASTIC BOTTLE","BLUE CHERRY",32]
[null,null,"PEPSI STORE SPECIAL",null,null,null,"CAFFEINE/CAFFEINE FREE",null,null,null,null,null,null,"POWERADE","PLASTIC BOTTLE","MIXED BERRY",32]
[null,null,"DR PEPPER CHERRY",null,null,null,null,null,null,null,null,null,null,"TOTAL GATORADE SD","PLASTIC BOTTLE","RIPTIDE RUSH",32]
[null,null,"PEPSI REAL SUGAR (INCLUDING TB)",null,null,null,null,null,null,null,null,null,null,"TOTAL GATORADE SD","PLASTIC BOTTLE","GREEN APPLE",32]
[null,null,"SUN DROP",null,null,null,null,null,null,null,null,null,null,"TOTAL GATORADE SD","PLASTIC BOTTLE","FRUIT PUNCH",32]
[null,null,"MANZANITA SOL",null,null,null,null,null,null,null,null,null,null,"TOTAL GATORADE SD","PLASTIC BOTTLE","TROPICAL MANGO",32]
[null,null,"MEXICAN COCA COLA",null,null,null,null,null,null,null,null,null,null,"TOTAL GATORADE SD","PLASTIC BOTTLE","GLACIER FREEZE",128]
[null,null,"PEPSI CHERRY VANILLA",null,null,null,null,null,null,null,null,null,null,"TOTAL GATORADE SD","PLASTIC BOTTLE","LEMON LIME",32]
[null,null,"MTN DEW CODE RED",null,null,null,null,null,null,null,null,null,null,"POWERADE","PLASTIC BOTTLE","FRUIT PUNCH",32]
[null,null,"GOYA MALTA",null,null,null,null,null,null,null,null,null,null,"TOTAL GATORADE SD","PLASTIC BOTTLE","BLUE CHERRY",20]
[null,null,"DIET RITE",null,null,null,null,null,null,null,null,null,null,"TOTAL GATORADE SD","CANISTER","ORANGE",51]
[null,null,"COKE STORE SPECIAL",null,null,null,null,null,null,null,null,null,null,"TOTAL GATORADE SD","PLASTIC BOTTLE","STRAWBERRY LEMONADE",32]
[null,null,"GOSLINGS",null,null,null,null,null,null,null,null,null,null,"POWERADE","PLASTIC BOTTLE","ORANGE",32]
[null,null,"HENRY WEINHARDS",null,null,null,null,null,null,null,null,null,null,"POWERADE","PLASTIC BOTTLE","GRAPE",32]
[null,null,"MTN DEW LIVE WIRE",null,null,null,null,null,null,null,null,null,null,"TOTAL GATORADE SD","PLASTIC BOTTLE","GLACIER FREEZE",64]
[null,null,"STEWARTS FOUNTAIN CLASSICS",null,null,null,null,null,null,null,null,null,null,"TOTAL GATORADE SD","PLASTIC BOTTLE","ORANGE",128]
[null,null,"ZEVIA",null,null,null,null,null,null,null,null,null,null,"TOTAL GATORADE SD","PLASTIC BOTTLE","LEMON LIME",64]
[null,null,"ALE 8 ONE",null,null,null,null,null,null,null,null,null,null,"POWERADE","PLASTIC BOTTLE","GRAPE",20]
[null,null,"COKE LIFE",null,null,null,null,null,null,null,null,null,null,"TOTAL GATORADE SD","PLASTIC BOTTLE","ORANGE",64]
[null,null,"CANADA DRY TEN",null,null,null,null,null,null,null,null,null,null,"TOTAL GATORADE SD","PLASTIC BOTTLE","TROPICAL COOLER",20]
[null,null,"CACTUS COOLER",null,null,null,null,null,null,null,null,null,null,"TOTAL GATORADE SD","PLASTIC BOTTLE","ICY CHARGE",32]
[null,null,"BUNDABERG",null,null,null,null,null,null,null,null,null,null,"POWERADE","PLASTIC BOTTLE","GRAPE",32]
[null,null,"VIRGILS",null,null,null,null,null,null,null,null,null,null,"TOTAL GATORADE SD","PLASTIC BOTTLE","FRUIT PUNCH",64]
[null,null,"JARRITOS",null,null,null,null,null,null,null,null,null,null,"TOTAL GATORADE SD","PLASTIC BOTTLE","BERRY",32]
[null,null,"DR PEPPER HERITAGE",null,null,null,null,null,null,null,null,null,null,"TOTAL GATORADE SD","PLASTIC BOTTLE","LEMON LIME",128]
[null,null,"SHASTA",null,null,null,null,null,null,null,null,null,null,"TOTAL GATORADE SD","PLASTIC BOTTLE","ICY CHARGE",20]
[null,null,"TAHITIAN TREAT",null,null,null,null,null,null,null,null,null,null,"BODYARMOR","PLASTIC BOTTLE","ORANGE MANGO",16]
[null,null,"A & W TEN",null,null,null,null,null,null,null,null,null,null,"POWERADE","PLASTIC BOTTLE","LEMON LIME",32]
[null,null,"COCK & BULL",null,null,null,null,null,null,null,null,null,null,"BODYARMOR","PLASTIC BOTTLE","STRAWBERRY BANANA",16]
[null,null,"SQUIRT RUBY RED",null,null,null,null,null,null,null,null,null,null,"BODYARMOR","PLASTIC BOTTLE","FRUIT PUNCH",16]
[null,null,"MTN DEW WHITE OUT (DEWMOCRACY II)",null,null,null,null,null,null,null,null,null,null,"POWERADE","PLASTIC BOTTLE","GRAPE",20]
[null,null,"JARRITOS MINERAGUA",null,null,null,null,null,null,null,null,null,null,"BODYARMOR","PLASTIC BOTTLE","TROPICAL PUNCH",16]
[null,null,"FEVER TREE",null,null,null,null,null,null,null,null,null,null,"TOTAL GATORADE SD","PLASTIC BOTTLE","GRAPE",64]
[null,null,"FAYGO",null,null,null,null,null,null,null,null,null,null,"TOTAL GATORADE SD","CANISTER","LEMON LIME",18.4]
[null,null,"SIDRAL MUNDET",null,null,null,null,null,null,null,null,null,null,"TOTAL GATORADE SD","CANISTER","ORANGE",18.4]
[null,null,"SANGRIA SENORIAL",null,null,null,null,null,null,null,null,null,null,"POWERADE","PLASTIC BOTTLE","FRUIT PUNCH",32]
[null,null,null,null,null,null,null,null,null,null,null,null,null,"TOTAL GATORADE SD","PLASTIC BOTTLE","ASSORTED",20]
[null,null,null,null,null,null,null,null,null,null,null,null,null,"POWERADE","PLASTIC BOTTLE","WHITE CHERRY",32]
[null,null,null,null,null,null,null,null,null,null,null,null,null,"BODYARMOR","PLASTIC BOTTLE","BLACKOUT BERRY",16]
[null,null,null,null,null,null,null,null,null,null,null,null,null,"POWERADE","PLASTIC BOTTLE","MELON",32]
[null,null,null,null,null,null,null,null,null,null,null,null,null,"POWERADE","PLASTIC BOTTLE","MOUNTAIN BERRY BLAST",12]
[null,null,null,null,null,null,null,null,null,null,null,null,null,"POWERADE","PLASTIC BOTTLE","STRAWBERRY",32]
[null,null,null,null,null,null,null,null,null,null,null,null,null,"POWERADE","PLASTIC BOTTLE","STRAWBERRY LEMONADE",32]
[null,null,null,null,null,null,null,null,null,null,null,null,null,"POWERADE","PLASTIC BOTTLE","FRUIT PUNCH",12]
[null,null,null,null,null,null,null,null,null,null,null,null,null,"POWERADE","PLASTIC BOTTLE","TROPICAL MANGO",32]
[null,null,null,null,null,null,null,null,null,null,null,null,null,"TOTAL GATORADE SD","PLASTIC BOTTLE","FRUIT PUNCH WITH BERRY",20]
[null,null,null,null,null,null,null,null,null,null,null,null,null,"POWERADE","PLASTIC BOTTLE","FRUIT PUNCH",12]
[null,null,null,null,null,null,null,null,null,null,null,null,null,"POWERADE","PLASTIC BOTTLE","MOUNTAIN BERRY BLAST",12]
[null,null,null,null,null,null,null,null,null,null,null,null,null,"POWERADE","PLASTIC CONTAINER","MOUNTAIN BERRY BLAST",19.6]
[null,null,null,null,null,null,null,null,null,null,null,null,null,"POWERADE","PLASTIC BOTTLE","TWISTED BLACKBERRY",32]
[null,null,null,null,null,null,null,null,null,null,null,null,null,"BODYARMOR","PLASTIC BOTTLE","LEMON LIME",16]
[null,null,null,null,null,null,null,null,null,null,null,null,null,"POWERADE","PLASTIC BOTTLE","WATERMELON STRAWBERRY",32]
[null,null,null,null,null,null,null,null,null,null,null,null,null,"TOTAL GATORADE SD","PLASTIC BOTTLE","STRAWBERRY LEMONADE",20]
[null,null,null,null,null,null,null,null,null,null,null,null,null,"TOTAL GATORADE SD","PLASTIC BOTTLE","BERRY",12]
[null,null,null,null,null,null,null,null,null,null,null,null,null,"TOTAL GATORADE SD","PLASTIC BOTTLE","TROPICAL COOLER",32]
[null,null,null,null,null,null,null,null,null,null,null,null,null,"POWERADE","PLASTIC BOTTLE","LEMONADE",32]
[null,null,null,null,null,null,null,null,null,null,null,null,null,"POWERADE","PLASTIC BOTTLE","ORANGE",12]
[null,null,null,null,null,null,null,null,null,null,null,null,null,"TOTAL GATORADE SD","PLASTIC BOTTLE","COOL BLUE",20]
[null,null,null,null,null,null,null,null,null,null,null,null,null,"POWERADE","PLASTIC CONTAINER","FRUIT PUNCH",20.1]
[null,null,null,null,null,null,null,null,null,null,null,null,null,"POWERADE","PLASTIC BOTTLE","ORANGE",12]
[null,null,null,null,null,null,null,null,null,null,null,null,null,"POWERADE","PLASTIC BOTTLE","ORANGE",32]
[null,null,null,null,null,null,null,null,null,null,null,null,null,"POWERADE","PLASTIC BOTTLE","GRAPE",12]
[null,null,null,null,null,null,null,null,null,null,null,null,null,"POWERADE","PLASTIC BOTTLE","GRAPE",12]
[null,null,null,null,null,null,null,null,null,null,null,null,null,"TOTAL GATORADE SD","PLASTIC BOTTLE","GLACIER FREEZE",20]
[null,null,null,null,null,null,null,null,null,null,null,null,null,"TOTAL GATORADE SD","PLASTIC BOTTLE","LEMON LIME",20]
[null,null,null,null,null,null,null,null,null,null,null,null,null,"TOTAL GATORADE SD","PLASTIC BOTTLE","FIERCE GRAPE",20]
[null,null,null,null,null,null,null,null,null,null,null,null,null,"TOTAL GATORADE SD","PLASTIC BOTTLE","GRAPE",20]
[null,null,null,null,null,null,null,null,null,null,null,null,null,"TOTAL GATORADE SD","PLASTIC BOTTLE","FRUIT PUNCH",20]
[null,null,null,null,null,null,null,null,null,null,null,null,null,"TOTAL GATORADE SD","PLASTIC BOTTLE","FRUIT PUNCH",128]
[null,null,null,null,null,null,null,null,null,null,null,null,null,"POWERADE","PLASTIC BOTTLE","LEMON LIME",32]
[null,null,null,null,null,null,null,null,null,null,null,null,null,"TOTAL GATORADE SD","CANISTER","LEMON LIME",51]
[null,null,null,null,null,null,null,null,null,null,null,null,null,"TOTAL GATORADE SD","PLASTIC BOTTLE","FIERCE GRAPE",64]
[null,null,null,null,null,null,null,null,null,null,null,null,null,"TOTAL GATORADE SD","PLASTIC BOTTLE","FIERCE MELON",32]
[null,null,null,null,null,null,null,null,null,null,null,null,null,"TOTAL GATORADE SD","PLASTIC BOTTLE","FIERCE STRAWBERRY",32]
[null,null,null,null,null,null,null,null,null,null,null,null,null,"TOTAL GATORADE SD","PLASTIC BOTTLE","FRUIT PUNCH WITH BERRY",32]
[null,null,null,null,null,null,null,null,null,null,null,null,null,"TOTAL GATORADE SD","PLASTIC BOTTLE","LEMONADE",32]
[null,null,null,null,null,null,null,null,null,null,null,null,null,"POWERADE","PLASTIC BOTTLE","GRAPE",20]
[null,null,null,null,null,null,null,null,null,null,null,null,null,"TOTAL GATORADE SD","PLASTIC BOTTLE","GRAPE",12]
[null,null,null,null,null,null,null,null,null,null,null,null,null,"TOTAL GATORADE SD","PLASTIC BOTTLE","FRUIT PUNCH",20]
[null,null,null,null,null,null,null,null,null,null,null,null,null,"TOTAL GATORADE SD","PLASTIC BOTTLE","ORANGE",32]
[null,null,null,null,null,null,null,null,null,null,null,null,null,"POWERADE","PLASTIC BOTTLE","MOUNTAIN BERRY BLAST",20]
[null,null,null,null,null,null,null,null,null,null,null,null,null,"TOTAL GATORADE SD","PLASTIC BOTTLE","GLACIER FREEZE",32]
[null,null,null,null,null,null,null,null,null,null,null,null,null,"POWERADE","PLASTIC BOTTLE","FRUIT PUNCH",20]
[null,null,null,null,null,null,null,null,null,null,null,null,null,"TOTAL GATORADE SD","PLASTIC BOTTLE","BLUEBERRY POMEGRANATE",32]
[null,null,null,null,null,null,null,null,null,null,null,null,null,"TOTAL GATORADE SD","PLASTIC BOTTLE","BERRY",20]
[null,null,null,null,null,null,null,null,null,null,null,null,null,"TOTAL GATORADE SD","PLASTIC BOTTLE","STRAWBERRY",12]
[null,null,null,null,null,null,null,null,null,null,null,null,null,"POWERADE","PLASTIC BOTTLE","ORANGE",20]
[null,null,null,null,null,null,null,null,null,null,null,null,null,"POWERADE","PLASTIC BOTTLE","STRAWBERRY",20]
[null,null,null,null,null,null,null,null,null,null,null,null,null,"TOTAL GATORADE SD","PLASTIC BOTTLE","RIPTIDE RUSH",20]
[null,null,null,null,null,null,null,null,null,null,null,null,null,"TOTAL GATORADE SD","PLASTIC BOTTLE","RASPBERRY LEMONADE",32]
[null,null,null,null,null,null,null,null,null,null,null,null,null,"DR PEPPER BASE",12,"CAFFEINE","DIET"]
[null,null,null,null,null,null,null,null,null,null,null,null,null,"COKE ZERO",12,"CAFFEINE FREE","DIET"]
[null,null,null,null,null,null,null,null,null,null,null,null,null,"A & W",67.6,"CAFFEINE FREE","DIET"]
[null,null,null,null,null,null,null,null,null,null,null,null,null,"SIERRA MIST BASE",67.6,"CAFFEINE FREE","REGULAR"]
[null,null,null,null,null,null,null,null,null,null,null,null,null,"A & W",20,"CAFFEINE FREE","REGULAR"]
[null,null,null,null,null,null,null,null,null,null,null,null,null,"7UP BASE",16.9,"CAFFEINE FREE","DIET"]
[null,null,null,null,null,null,null,null,null,null,null,null,null,"SPRITE BASE",42.2,"CAFFEINE FREE","REGULAR"]
[null,null,null,null,null,null,null,null,null,null,null,null,null,"DR PEPPER BASE",12,"CAFFEINE FREE","DIET"]
[null,null,null,null,null,null,null,null,null,null,null,null,null,"BIG RED",12,"CAFFEINE","REGULAR"]
[null,null,null,null,null,null,null,null,null,null,null,null,null,"DR PEPPER BASE",7.5,"CAFFEINE","REGULAR"]
[null,null,null,null,null,null,null,null,null,null,null,null,null,"CANADA DRY",12,"CAFFEINE FREE","REGULAR"]
[null,null,null,null,null,null,null,null,null,null,null,null,null,"DR PEPPER TEN",12,"CAFFEINE","DIET"]
[null,null,null,null,null,null,null,null,null,null,null,null,null,"MELLO YELLO BASE",12,"CAFFEINE","REGULAR"]
[null,null,null,null,null,null,null,null,null,null,null,null,null,"COKE ZERO",12,"CAFFEINE","DIET"]
[null,null,null,null,null,null,null,null,null,null,null,null,null,"MTN DEW VOLTAGE (DEWMOCRACY I)",12,"CAFFEINE","REGULAR"]
[null,null,null,null,null,null,null,null,null,null,null,null,null,"SEAGRAMS",67.6,"CAFFEINE FREE","REGULAR"]
[null,null,null,null,null,null,null,null,null,null,null,null,null,"A & W",12,"CAFFEINE","REGULAR"]
[null,null,null,null,null,null,null,null,null,null,null,null,null,"A & W",16.9,"CAFFEINE FREE","DIET"]
[null,null,null,null,null,null,null,null,null,null,null,null,null,"PEPSI WILD CHERRY",67.6,"CAFFEINE","DIET"]
[null,null,null,null,null,null,null,null,null,null,null,null,null,"COKE ZERO",7.5,"CAFFEINE","DIET"]
[null,null,null,null,null,null,null,null,null,null,null,null,null,"MTN DEW THROWBACK",12,"CAFFEINE","REGULAR"]
[null,null,null,null,null,null,null,null,null,null,null,null,null,"PEPSI WILD CHERRY",16.9,"CAFFEINE","REGULAR"]
[null,null,null,null,null,null,null,null,null,null,null,null,null,"RC",67.6,"CAFFEINE","REGULAR"]
[null,null,null,null,null,null,null,null,null,null,null,null,null,"CRUSH",12,"CAFFEINE FREE","REGULAR"]
[null,null,null,null,null,null,null,null,null,null,null,null,null,"COKE ZERO",12,"CAFFEINE","DIET"]
[null,null,null,null,null,null,null,null,null,null,null,null,null,"MUG",67.6,"CAFFEINE FREE","REGULAR"]
[null,null,null,null,null,null,null,null,null,null,null,null,null,"CANADA DRY",20,"CAFFEINE FREE","REGULAR"]
[null,null,null,null,null,null,null,null,null,null,null,null,null,"COKE WITH SPLENDA",12,"CAFFEINE","DIET"]
[null,null,null,null,null,null,null,null,null,null,null,null,null,"PEPSI BASE",7.5,"CAFFEINE","DIET"]
[null,null,null,null,null,null,null,null,null,null,null,null,null,"PEPSI WILD CHERRY",20,"CAFFEINE","REGULAR"]
[null,null,null,null,null,null,null,null,null,null,null,null,null,"MTN DEW BASE",16,"CAFFEINE","REGULAR"]
[null,null,null,null,null,null,null,null,null,null,null,null,null,"SPRITE BASE",16.9,"CAFFEINE FREE","DIET"]
[null,null,null,null,null,null,null,null,null,null,null,null,null,"SCHWEPPES",33.8,"CAFFEINE FREE","REGULAR"]
[null,null,null,null,null,null,null,null,null,null,null,null,null,"PEPSI BASE",67.6,"CAFFEINE","DIET"]
[null,null,null,null,null,null,null,null,null,null,null,null,null,"SUNKIST",67.6,"CAFFEINE","DIET"]
[null,null,null,null,null,null,null,null,null,null,null,null,null,"CRUSH",16.9,"CAFFEINE FREE","REGULAR"]
[null,null,null,null,null,null,null,null,null,null,null,null,null,"SCHWEPPES",33.8,"CAFFEINE FREE","DIET"]
[null,null,null,null,null,null,null,null,null,null,null,null,null,"FANTA",67.6,"CAFFEINE FREE","REGULAR"]
[null,null,null,null,null,null,null,null,null,null,null,null,null,"SUNKIST",16.9,"CAFFEINE","REGULAR"]
[null,null,null,null,null,null,null,null,null,null,null,null,null,"PEPSI BASE",16,"CAFFEINE","DIET"]
[null,null,null,null,null,null,null,null,null,null,null,null,null,"SUNKIST",20,"CAFFEINE","REGULAR"]
[null,null,null,null,null,null,null,null,null,null,null,null,null,"DR PEPPER BASE",42.2,"CAFFEINE","REGULAR"]
[null,null,null,null,null,null,null,null,null,null,null,null,null,"SCHWEPPES",10,"CAFFEINE FREE","REGULAR"]
[null,null,null,null,null,null,null,null,null,null,null,null,null,"IBC",12,"CAFFEINE FREE","REGULAR"]
[null,null,null,null,null,null,null,null,null,null,null,null,null,"VERNORS",12,"CAFFEINE FREE","REGULAR"]
[null,null,null,null,null,null,null,null,null,null,null,null,null,"MTN DEW BASE",12,"CAFFEINE","DIET"]
[null,null,null,null,null,null,null,null,null,null,null,null,null,"PEPSI MAX",67.6,"CAFFEINE","DIET"]
[null,null,null,null,null,null,null,null,null,null,null,null,null,"PEPSI BASE",12,"CAFFEINE","REGULAR"]
[null,null,null,null,null,null,null,null,null,null,null,null,null,"MTN DEW BASE",12,"CAFFEINE","REGULAR"]
[null,null,null,null,null,null,null,null,null,null,null,null,null,"SPRITE BASE",12,"CAFFEINE FREE","REGULAR"]
[null,null,null,null,null,null,null,null,null,null,null,null,null,"BARQS",12,"CAFFEINE FREE","DIET"]
[null,null,null,null,null,null,null,null,null,null,null,null,null,"FRESCA",67.6,"CAFFEINE FREE","DIET"]
[null,null,null,null,null,null,null,null,null,null,null,null,null,"BIG RED",67.6,"CAFFEINE","REGULAR"]
[null,null,null,null,null,null,null,null,null,null,null,null,null,"7UP ANTIOXIDANT",12,"CAFFEINE FREE","REGULAR"]
[null,null,null,null,null,null,null,null,null,null,null,null,null,"DIET RITE PURE ZERO",12,"CAFFEINE FREE","DIET"]
[null,null,null,null,null,null,null,null,null,null,null,null,null,"7UP BASE",20,"CAFFEINE FREE","REGULAR"]
[null,null,null,null,null,null,null,null,null,null,null,null,null,"FANTA",67.6,"CAFFEINE FREE","REGULAR"]
[null,null,null,null,null,null,null,null,null,null,null,null,null,"SUNKIST",16.9,"CAFFEINE","DIET"]
[null,null,null,null,null,null,null,null,null,null,null,null,null,"CRUSH",12,"CAFFEINE FREE","DIET"]
[null,null,null,null,null,null,null,null,null,null,null,null,null,"MTN DEW KICK START",16,"CAFFEINE","MID CALORIE"]
[null,null,null,null,null,null,null,null,null,null,null,null,null,"FANTA",12,"CAFFEINE FREE","REGULAR"]
[null,null,null,null,null,null,null,null,null,null,null,null,null,"PIBB XTRA",12,"CAFFEINE","REGULAR"]
[null,null,null,null,null,null,null,null,null,null,null,null,null,"CANADA DRY",33.8,"CAFFEINE FREE","REGULAR"]
[null,null,null,null,null,null,null,null,null,null,null,null,null,"7UP ANTIOXIDANT",67.6,"CAFFEINE FREE","REGULAR"]
[null,null,null,null,null,null,null,null,null,null,null,null,null,"MTN DEW KICK START",16,"CAFFEINE","MID CALORIE"]
[null,null,null,null,null,null,null,null,null,null,null,null,null,"CANADA DRY",67.6,"CAFFEINE FREE","REGULAR"]
[null,null,null,null,null,null,null,null,null,null,null,null,null,"7UP BASE",12,"CAFFEINE FREE","REGULAR"]
[null,null,null,null,null,null,null,null,null,null,null,null,null,"SIERRA MIST BASE",67.6,"CAFFEINE FREE","DIET"]
[null,null,null,null,null,null,null,null,null,null,null,null,null,"COKE CHERRY",12,"CAFFEINE","DIET"]
[null,null,null,null,null,null,null,null,null,null,null,null,null,"SQUIRT",12,"CAFFEINE FREE","DIET"]
[null,null,null,null,null,null,null,null,null,null,null,null,null,"BARQS",67.6,"CAFFEINE","REGULAR"]
[null,null,null,null,null,null,null,null,null,null,null,null,null,"PEPSI BASE",67.6,"CAFFEINE FREE","REGULAR"]
[null,null,null,null,null,null,null,null,null,null,null,null,null,"REEDS EXTRA GINGER BREW",12,"CAFFEINE FREE","REGULAR"]
[null,null,null,null,null,null,null,null,null,null,null,null,null,"FANTA",12,"CAFFEINE FREE","REGULAR"]
[null,null,null,null,null,null,null,null,null,null,null,null,null,"PEPSI BASE",42.26,"CAFFEINE","DIET"]
[null,null,null,null,null,null,null,null,null,null,null,null,null,"TAB",12,"CAFFEINE","DIET"]
[null,null,null,null,null,null,null,null,null,null,null,null,null,"MTN DEW KICK START",16,"CAFFEINE","REGULAR"]
[null,null,null,null,null,null,null,null,null,null,null,null,null,"MTN DEW BASE",7.5,"CAFFEINE","REGULAR"]
[null,null,null,null,null,null,null,null,null,null,null,null,null,"SCHWEPPES",7.5,"CAFFEINE FREE","REGULAR"]
[null,null,null,null,null,null,null,null,null,null,null,null,null,"PEPSI BASE",12,"CAFFEINE","REGULAR"]
[null,null,null,null,null,null,null,null,null,null,null,null,null,"MTN DEW KICK START",16,"CAFFEINE","MID CALORIE"]
[null,null,null,null,null,null,null,null,null,null,null,null,null,"CRUSH",20,"CAFFEINE FREE","REGULAR"]
[null,null,null,null,null,null,null,null,null,null,null,null,null,"CANADA DRY",10,"CAFFEINE FREE","DIET"]
[null,null,null,null,null,null,null,null,null,null,null,null,null,"COKE CLASSIC",67.6,"CAFFEINE FREE","REGULAR"]
[null,null,null,null,null,null,null,null,null,null,null,null,null,"DR PEPPER BASE",12,"CAFFEINE","REGULAR"]
[null,null,null,null,null,null,null,null,null,null,null,null,null,"A & W",12,"CAFFEINE FREE","REGULAR"]
[null,null,null,null,null,null,null,null,null,null,null,null,null,"PEPSI BASE",16.9,"CAFFEINE","REGULAR"]
[null,null,null,null,null,null,null,null,null,null,null,null,null,"CANADA DRY",33.8,"CAFFEINE FREE","DIET"]
[null,null,null,null,null,null,null,null,null,null,null,null,null,"COKE ZERO",67.6,"CAFFEINE","DIET"]
[null,null,null,null,null,null,null,null,null,null,null,null,null,"CRUSH",12,"CAFFEINE FREE","REGULAR"]
[null,null,null,null,null,null,null,null,null,null,null,null,null,"COKE ZERO",42.2,"CAFFEINE","DIET"]
[null,null,null,null,null,null,null,null,null,null,null,null,null,"VERNORS",67.6,"CAFFEINE FREE","REGULAR"]
[null,null,null,null,null,null,null,null,null,null,null,null,null,"7UP ANTIOXIDANT",12,"CAFFEINE FREE","DIET"]
[null,null,null,null,null,null,null,null,null,null,null,null,null,"CANADA DRY",10,"CAFFEINE FREE","REGULAR/DIET"]
[null,null,null,null,null,null,null,null,null,null,null,null,null,"SCHWEPPES",16.9,"CAFFEINE FREE","REGULAR"]
[null,null,null,null,null,null,null,null,null,null,null,null,null,"SCHWEPPES",10,"CAFFEINE FREE","DIET"]
[null,null,null,null,null,null,null,null,null,null,null,null,null,"CANADA DRY",10,"CAFFEINE FREE","REGULAR"]
[null,null,null,null,null,null,null,null,null,null,null,null,null,"PEPSI STORE SPECIAL",12,"CAFFEINE/CAFFEINE FREE","REGULAR/DIET"]
[null,null,null,null,null,null,null,null,null,null,null,null,null,"DR PEPPER CHERRY",67.6,"CAFFEINE","REGULAR"]
[null,null,null,null,null,null,null,null,null,null,null,null,null,"DR PEPPER BASE",12,"CAFFEINE","DIET"]
[null,null,null,null,null,null,null,null,null,null,null,null,null,"MTN DEW BASE",16.9,"CAFFEINE","REGULAR"]
[null,null,null,null,null,null,null,null,null,null,null,null,null,"COKE CLASSIC",101.4,"CAFFEINE","REGULAR"]
[null,null,null,null,null,null,null,null,null,null,null,null,null,"MTN DEW BASE",16,"CAFFEINE","DIET"]
[null,null,null,null,null,null,null,null,null,null,null,null,null,"PEPSI REAL SUGAR (INCLUDING TB)",7.5,"CAFFEINE","REGULAR"]
[null,null,null,null,null,null,null,null,null,null,null,null,null,"CANADA DRY",33.8,"CAFFEINE FREE","REGULAR"]
[null,null,null,null,null,null,null,null,null,null,null,null,null,"SUN DROP",12,"CAFFEINE","REGULAR"]
[null,null,null,null,null,null,null,null,null,null,null,null,null,"DR PEPPER CHERRY",67.6,"CAFFEINE","DIET"]
[null,null,null,null,null,null,null,null,null,null,null,null,null,"MANZANITA SOL",12,"CAFFEINE FREE","REGULAR"]
[null,null,null,null,null,null,null,null,null,null,null,null,null,"COKE ZERO",12,"CAFFEINE","DIET"]
[null,null,null,null,null,null,null,null,null,null,null,null,null,"MTN DEW BASE",12,"CAFFEINE","REGULAR"]
[null,null,null,null,null,null,null,null,null,null,null,null,null,"MTN DEW KICK START",12,"CAFFEINE","MID CALORIE"]
[null,null,null,null,null,null,null,null,null,null,null,null,null,"A & W",12,"CAFFEINE","DIET"]
[null,null,null,null,null,null,null,null,null,null,null,null,null,"CANADA DRY",33.8,"CAFFEINE FREE","DIET"]
[null,null,null,null,null,null,null,null,null,null,null,null,null,"A & W",67.6,"CAFFEINE","REGULAR"]
[null,null,null,null,null,null,null,null,null,null,null,null,null,"FANTA",7.5,"CAFFEINE FREE","REGULAR"]
[null,null,null,null,null,null,null,null,null,null,null,null,null,"PEPSI BASE",16.9,"CAFFEINE","DIET"]
[null,null,null,null,null,null,null,null,null,null,null,null,null,"SUNKIST",12,"CAFFEINE FREE","REGULAR"]
[null,null,null,null,null,null,null,null,null,null,null,null,null,"COKE CLASSIC",8.5,"CAFFEINE","REGULAR"]
[null,null,null,null,null,null,null,null,null,null,null,null,null,"SEAGRAMS",7.5,"CAFFEINE FREE","REGULAR"]
[null,null,null,null,null,null,null,null,null,null,null,null,null,"MUG",12,"CAFFEINE FREE","DIET"]
[null,null,null,null,null,null,null,null,null,null,null,null,null,"FANTA",67.6,"CAFFEINE FREE","REGULAR"]
[null,null,null,null,null,null,null,null,null,null,null,null,null,"FANTA",12,"CAFFEINE FREE","REGULAR"]
[null,null,null,null,null,null,null,null,null,null,null,null,null,"MEXICAN COCA COLA",12,"CAFFEINE","REGULAR"]
[null,null,null,null,null,null,null,null,null,null,null,null,null,"PEPSI CHERRY VANILLA",12,"CAFFEINE","REGULAR"]
[null,null,null,null,null,null,null,null,null,null,null,null,null,"7UP BASE",8,"CAFFEINE FREE","REGULAR"]
[null,null,null,null,null,null,null,null,null,null,null,null,null,"PEPSI REAL SUGAR (INCLUDING TB)",12,"CAFFEINE","REGULAR"]
[null,null,null,null,null,null,null,null,null,null,null,null,null,"MTN DEW KICK START",16,"CAFFEINE","MID CALORIE"]
[null,null,null,null,null,null,null,null,null,null,null,null,null,"CANADA DRY",16.9,"CAFFEINE FREE","DIET"]
[null,null,null,null,null,null,null,null,null,null,null,null,null,"PEPSI BASE",24,"CAFFEINE","DIET"]
[null,null,null,null,null,null,null,null,null,null,null,null,null,"SUNKIST",12,"CAFFEINE FREE","REGULAR"]
[null,null,null,null,null,null,null,null,null,null,null,null,null,"MTN DEW KICK START",12,"CAFFEINE","DIET"]
[null,null,null,null,null,null,null,null,null,null,null,null,null,"FRESCA",12,"CAFFEINE FREE","DIET"]
[null,null,null,null,null,null,null,null,null,null,null,null,null,"SCHWEPPES",12,"CAFFEINE FREE","DIET"]
[null,null,null,null,null,null,null,null,null,null,null,null,null,"FRESCA",12,"CAFFEINE FREE","DIET"]
[null,null,null,null,null,null,null,null,null,null,null,null,null,"MTN DEW BASE",12,"CAFFEINE FREE","DIET"]
[null,null,null,null,null,null,null,null,null,null,null,null,null,"SCHWEPPES",33.8,"CAFFEINE FREE","DIET"]
[null,null,null,null,null,null,null,null,null,null,null,null,null,"A & W",8,"CAFFEINE FREE","REGULAR"]
[null,null,null,null,null,null,null,null,null,null,null,null,null,"MTN DEW CODE RED",67.6,"CAFFEINE","REGULAR"]
[null,null,null,null,null,null,null,null,null,null,null,null,null,"GOYA MALTA",7,"CAFFEINE FREE","REGULAR"]
[null,null,null,null,null,null,null,null,null,null,null,null,null,"VERNORS",12,"CAFFEINE FREE","DIET"]
[null,null,null,null,null,null,null,null,null,null,null,null,null,"PEPSI BASE",24,"CAFFEINE","REGULAR"]
[null,null,null,null,null,null,null,null,null,null,null,null,null,"SIERRA MIST BASE",16.9,"CAFFEINE FREE","REGULAR"]
[null,null,null,null,null,null,null,null,null,null,null,null,null,"PEPSI MAX",16.9,"CAFFEINE","DIET"]
[null,null,null,null,null,null,null,null,null,null,null,null,null,"MTN DEW KICK START",12,"CAFFEINE","MID CALORIE"]
[null,null,null,null,null,null,null,null,null,null,null,null,null,"SQUIRT",16.9,"CAFFEINE FREE","REGULAR"]
[null,null,null,null,null,null,null,null,null,null,null,null,null,"BIG RED",20,"CAFFEINE","REGULAR"]
[null,null,null,null,null,null,null,null,null,null,null,null,null,"MEXICAN COCA COLA",16.9,"CAFFEINE","REGULAR"]
[null,null,null,null,null,null,null,null,null,null,null,null,null,"CANADA DRY",7.5,"CAFFEINE FREE","REGULAR"]
[null,null,null,null,null,null,null,null,null,null,null,null,null,"CANADA DRY",8,"CAFFEINE FREE","REGULAR"]
[null,null,null,null,null,null,null,null,null,null,null,null,null,"PEPSI BASE",12,"CAFFEINE","REGULAR"]
[null,null,null,null,null,null,null,null,null,null,null,null,null,"MTN DEW BASE",33.8,"CAFFEINE","REGULAR"]
[null,null,null,null,null,null,null,null,null,null,null,null,null,"CANADA DRY",7.5,"CAFFEINE FREE","REGULAR"]
[null,null,null,null,null,null,null,null,null,null,null,null,null,"DIET RITE",67.6,"CAFFEINE FREE","DIET"]
[null,null,null,null,null,null,null,null,null,null,null,null,null,"SUNKIST",12,"CAFFEINE","REGULAR"]
[null,null,null,null,null,null,null,null,null,null,null,null,null,"FANTA",12,"CAFFEINE FREE","REGULAR"]
[null,null,null,null,null,null,null,null,null,null,null,null,null,"MTN DEW BASE",24,"CAFFEINE","REGULAR"]
[null,null,null,null,null,null,null,null,null,null,null,null,null,"COKE STORE SPECIAL",12,"CAFFEINE/CAFFEINE FREE","REGULAR/DIET"]
[null,null,null,null,null,null,null,null,null,null,null,null,null,"GOSLINGS",12,"CAFFEINE FREE","REGULAR"]
[null,null,null,null,null,null,null,null,null,null,null,null,null,"CRUSH",67.6,"CAFFEINE","REGULAR"]
[null,null,null,null,null,null,null,null,null,null,null,null,null,"PEPSI WILD CHERRY",16.9,"CAFFEINE","DIET"]
[null,null,null,null,null,null,null,null,null,null,null,null,null,"SQUIRT",20,"CAFFEINE FREE","REGULAR"]
[null,null,null,null,null,null,null,null,null,null,null,null,null,"RC",67.6,"CAFFEINE","REGULAR"]
[null,null,null,null,null,null,null,null,null,null,null,null,null,"HENRY WEINHARDS",12,"CAFFEINE FREE","REGULAR"]
[null,null,null,null,null,null,null,null,null,null,null,null,null,"7UP BASE",12,"CAFFEINE FREE","REGULAR"]
[null,null,null,null,null,null,null,null,null,null,null,null,null,"SCHWEPPES",67.6,"CAFFEINE FREE","DIET"]
[null,null,null,null,null,null,null,null,null,null,null,null,null,"MTN DEW LIVE WIRE",12,"CAFFEINE","REGULAR"]
[null,null,null,null,null,null,null,null,null,null,null,null,null,"MTN DEW KICK START",12,"CAFFEINE","REGULAR"]
[null,null,null,null,null,null,null,null,null,null,null,null,null,"7UP BASE",12,"CAFFEINE FREE","DIET"]
[null,null,null,null,null,null,null,null,null,null,null,null,null,"DR PEPPER BASE",7.5,"CAFFEINE","DIET"]
[null,null,null,null,null,null,null,null,null,null,null,null,null,"MTN DEW KICK START",12,"CAFFEINE","REGULAR"]
[null,null,null,null,null,null,null,null,null,null,null,null,null,"STEWARTS FOUNTAIN CLASSICS",12,"CAFFEINE FREE","REGULAR"]
[null,null,null,null,null,null,null,null,null,null,null,null,null,"7UP BASE",20,"CAFFEINE FREE","DIET"]
[null,null,null,null,null,null,null,null,null,null,null,null,null,"PEPSI BASE",33.8,"CAFFEINE","REGULAR"]
[null,null,null,null,null,null,null,null,null,null,null,null,null,"SUN DROP",67.6,"CAFFEINE","REGULAR"]
[null,null,null,null,null,null,null,null,null,null,null,null,null,"DR PEPPER BASE",12,"CAFFEINE","DIET"]
[null,null,null,null,null,null,null,null,null,null,null,null,null,"MELLO YELLO BASE",67.6,"CAFFEINE","REGULAR"]
[null,null,null,null,null,null,null,null,null,null,null,null,null,"A & W",20,"CAFFEINE FREE","DIET"]
[null,null,null,null,null,null,null,null,null,null,null,null,null,"MELLO YELLO BASE",20,"CAFFEINE","REGULAR"]
[null,null,null,null,null,null,null,null,null,null,null,null,null,"PEPSI WILD CHERRY",12,"CAFFEINE","REGULAR"]
[null,null,null,null,null,null,null,null,null,null,null,null,null,"ZEVIA",12,"CAFFEINE","DIET"]
[null,null,null,null,null,null,null,null,null,null,null,null,null,"SQUIRT",67.6,"CAFFEINE FREE","DIET"]
[null,null,null,null,null,null,null,null,null,null,null,null,null,"ALE 8 ONE",12,"CAFFEINE","REGULAR"]
[null,null,null,null,null,null,null,null,null,null,null,null,null,"BIG RED",16.9,"CAFFEINE","REGULAR"]
[null,null,null,null,null,null,null,null,null,null,null,null,null,"MTN DEW VOLTAGE (DEWMOCRACY I)",67.6,"CAFFEINE","REGULAR"]
[null,null,null,null,null,null,null,null,null,null,null,null,null,"PEPSI BASE",16,"CAFFEINE FREE","DIET"]
[null,null,null,null,null,null,null,null,null,null,null,null,null,"COKE LIFE",8,"CAFFEINE","MID CALORIE"]
[null,null,null,null,null,null,null,null,null,null,null,null,null,"PEPSI BASE",12,"CAFFEINE","DIET"]
[null,null,null,null,null,null,null,null,null,null,null,null,null,"CANADA DRY TEN",12,"CAFFEINE FREE","DIET"]
[null,null,null,null,null,null,null,null,null,null,null,null,null,"STEWARTS FOUNTAIN CLASSICS",12,"CAFFEINE FREE","REGULAR"]
[null,null,null,null,null,null,null,null,null,null,null,null,null,"CACTUS COOLER",12,"CAFFEINE FREE","REGULAR"]
[null,null,null,null,null,null,null,null,null,null,null,null,null,"DR PEPPER BASE",12,"CAFFEINE","REGULAR"]
[null,null,null,null,null,null,null,null,null,null,null,null,null,"PEPSI CHERRY VANILLA",20,"CAFFEINE","REGULAR"]
[null,null,null,null,null,null,null,null,null,null,null,null,null,"MTN DEW BASE",24,"CAFFEINE","DIET"]
[null,null,null,null,null,null,null,null,null,null,null,null,null,"BUNDABERG",12.7,"CAFFEINE FREE","REGULAR"]
[null,null,null,null,null,null,null,null,null,null,null,null,null,"SPRITE BASE",12,"CAFFEINE FREE","DIET"]
[null,null,null,null,null,null,null,null,null,null,null,null,null,"COKE LIFE",12,"CAFFEINE","MID CALORIE"]
[null,null,null,null,null,null,null,null,null,null,null,null,null,"MTN DEW CODE RED",20,"CAFFEINE","REGULAR"]
[null,null,null,null,null,null,null,null,null,null,null,null,null,"SCHWEPPES",67.6,"CAFFEINE FREE","REGULAR"]
[null,null,null,null,null,null,null,null,null,null,null,null,null,"MANZANITA SOL",67.6,"CAFFEINE FREE","REGULAR"]
[null,null,null,null,null,null,null,null,null,null,null,null,null,"SUN DROP",16.9,"CAFFEINE","REGULAR"]
[null,null,null,null,null,null,null,null,null,null,null,null,null,"VIRGILS",12,"CAFFEINE FREE","REGULAR"]
[null,null,null,null,null,null,null,null,null,null,null,null,null,"JARRITOS",50.7,"CAFFEINE FREE","REGULAR"]
[null,null,null,null,null,null,null,null,null,null,null,null,null,"DR PEPPER HERITAGE",12,"CAFFEINE","REGULAR"]
[null,null,null,null,null,null,null,null,null,null,null,null,null,"PEPSI BASE",12,"CAFFEINE FREE","DIET"]
[null,null,null,null,null,null,null,null,null,null,null,null,null,"RC",16.9,"CAFFEINE","REGULAR"]
[null,null,null,null,null,null,null,null,null,null,null,null,null,"SHASTA",12,"CAFFEINE","REGULAR"]
[null,null,null,null,null,null,null,null,null,null,null,null,null,"DR PEPPER BASE",33.8,"CAFFEINE","REGULAR"]
[null,null,null,null,null,null,null,null,null,null,null,null,null,"PEPSI BASE",12,"CAFFEINE","REGULAR"]
[null,null,null,null,null,null,null,null,null,null,null,null,null,"SQUIRT",12,"CAFFEINE FREE","REGULAR"]
[null,null,null,null,null,null,null,null,null,null,null,null,null,"MTN DEW CODE RED",12,"CAFFEINE","DIET"]
[null,null,null,null,null,null,null,null,null,null,null,null,null,"TAHITIAN TREAT",12,"CAFFEINE FREE","REGULAR"]
[null,null,null,null,null,null,null,null,null,null,null,null,null,"IBC",12,"CAFFEINE FREE","DIET"]
[null,null,null,null,null,null,null,null,null,null,null,null,null,"ZEVIA",12,"CAFFEINE FREE","DIET"]
[null,null,null,null,null,null,null,null,null,null,null,null,null,"MTN DEW BASE",16.9,"CAFFEINE","DIET"]
[null,null,null,null,null,null,null,null,null,null,null,null,null,"CRUSH",67.6,"CAFFEINE FREE","DIET"]
[null,null,null,null,null,null,null,null,null,null,null,null,null,"VERNORS",12,"CAFFEINE FREE","REGULAR"]
[null,null,null,null,null,null,null,null,null,null,null,null,null,"A & W TEN",12,"CAFFEINE FREE","DIET"]
[null,null,null,null,null,null,null,null,null,null,null,null,null,"MTN DEW BASE",12,"CAFFEINE","DIET"]
[null,null,null,null,null,null,null,null,null,null,null,null,null,"COKE CLASSIC",33.8,"CAFFEINE","REGULAR"]
[null,null,null,null,null,null,null,null,null,null,null,null,null,"COCK & BULL",12,"CAFFEINE FREE","REGULAR"]
[null,null,null,null,null,null,null,null,null,null,null,null,null,"JARRITOS",12.5,"CAFFEINE FREE","REGULAR"]
[null,null,null,null,null,null,null,null,null,null,null,null,null,"SCHWEPPES",20,"CAFFEINE FREE","REGULAR"]
[null,null,null,null,null,null,null,null,null,null,null,null,null,"PEPSI STORE SPECIAL",12,"CAFFEINE/CAFFEINE FREE","REGULAR/DIET"]
[null,null,null,null,null,null,null,null,null,null,null,null,null,"VERNORS",67.6,"CAFFEINE FREE","DIET"]
[null,null,null,null,null,null,null,null,null,null,null,null,null,"SCHWEPPES",10,"CAFFEINE FREE","REGULAR"]
[null,null,null,null,null,null,null,null,null,null,null,null,null,"SQUIRT RUBY RED",12,"CAFFEINE","REGULAR"]
[null,null,null,null,null,null,null,null,null,null,null,null,null,"DR PEPPER BASE",16,"CAFFEINE","REGULAR"]
[null,null,null,null,null,null,null,null,null,null,null,null,null,"CRUSH",67.6,"CAFFEINE FREE","REGULAR"]
[null,null,null,null,null,null,null,null,null,null,null,null,null,"ZEVIA",12,"CAFFEINE FREE","DIET"]
[null,null,null,null,null,null,null,null,null,null,null,null,null,"SIERRA MIST BASE",7.5,"CAFFEINE FREE","REGULAR"]
[null,null,null,null,null,null,null,null,null,null,null,null,null,"SUN DROP",16.9,"CAFFEINE","DIET"]
[null,null,null,null,null,null,null,null,null,null,null,null,null,"FANTA",12,"CAFFEINE FREE","REGULAR"]
[null,null,null,null,null,null,null,null,null,null,null,null,null,"PEPSI REAL SUGAR (INCLUDING TB)",67.6,"CAFFEINE","REGULAR"]
[null,null,null,null,null,null,null,null,null,null,null,null,null,"MTN DEW WHITE OUT (DEWMOCRACY II)",12,"CAFFEINE","REGULAR"]
[null,null,null,null,null,null,null,null,null,null,null,null,null,"DR PEPPER BASE",12,"CAFFEINE","REGULAR"]
[null,null,null,null,null,null,null,null,null,null,null,null,null,"JARRITOS MINERAGUA",12.5,"CAFFEINE FREE","DIET"]
[null,null,null,null,null,null,null,null,null,null,null,null,null,"FANTA",12,"CAFFEINE FREE","DIET"]
[null,null,null,null,null,null,null,null,null,null,null,null,null,"FEVER TREE",6.8,"CAFFEINE FREE","REGULAR"]
[null,null,null,null,null,null,null,null,null,null,null,null,null,"SPRITE BASE",7.5,"CAFFEINE FREE","DIET"]
[null,null,null,null,null,null,null,null,null,null,null,null,null,"SUN DROP",12,"CAFFEINE","DIET"]
[null,null,null,null,null,null,null,null,null,null,null,null,null,"PEPSI BASE",12,"CAFFEINE FREE","DIET"]
[null,null,null,null,null,null,null,null,null,null,null,null,null,"IBC",12,"CAFFEINE FREE","REGULAR"]
[null,null,null,null,null,null,null,null,null,null,null,null,null,"FAYGO",12,"CAFFEINE","REGULAR"]
[null,null,null,null,null,null,null,null,null,null,null,null,null,"FANTA",12,"CAFFEINE FREE","REGULAR"]
[null,null,null,null,null,null,null,null,null,null,null,null,null,"SEAGRAMS",12,"CAFFEINE FREE","DIET"]
[null,null,null,null,null,null,null,null,null,null,null,null,null,"SUNKIST",67.6,"CAFFEINE FREE","REGULAR"]
[null,null,null,null,null,null,null,null,null,null,null,null,null,"7UP BASE",7.5,"CAFFEINE FREE","REGULAR"]
[null,null,null,null,null,null,null,null,null,null,null,null,null,"CANADA DRY",67.6,"CAFFEINE FREE","DIET"]
[null,null,null,null,null,null,null,null,null,null,null,null,null,"SUNKIST",20,"CAFFEINE","DIET"]
[null,null,null,null,null,null,null,null,null,null,null,null,null,"DR PEPPER BASE",12,"CAFFEINE","REGULAR"]
[null,null,null,null,null,null,null,null,null,null,null,null,null,"CANADA DRY",12,"CAFFEINE FREE","REGULAR"]
[null,null,null,null,null,null,null,null,null,null,null,null,null,"CRUSH",12,"CAFFEINE FREE","REGULAR"]
[null,null,null,null,null,null,null,null,null,null,null,null,null,"MELLO YELLO BASE",16.9,"CAFFEINE","REGULAR"]
[null,null,null,null,null,null,null,null,null,null,null,null,null,"SIDRAL MUNDET",50.7,"CAFFEINE FREE","REGULAR"]
[null,null,null,null,null,null,null,null,null,null,null,null,null,"PEPSI BASE",12,"CAFFEINE","DIET"]
[null,null,null,null,null,null,null,null,null,null,null,null,null,"COKE CLASSIC",12,"CAFFEINE FREE","DIET"]
[null,null,null,null,null,null,null,null,null,null,null,null,null,"SANGRIA SENORIAL",50.7,"CAFFEINE FREE","REGULAR"]
[null,null,null,null,null,null,null,null,null,null,null,null,null,"SPRITE BASE",8.5,"CAFFEINE FREE","REGULAR"]
[null,null,null,null,null,null,null,null,null,null,null,null,null,"CANADA DRY TEN",67.6,"CAFFEINE FREE","DIET"]
[null,null,null,null,null,null,null,null,null,null,null,null,null,"VERNORS",16.9,"CAFFEINE FREE","REGULAR"]
[null,null,null,null,null,null,null,null,null,null,null,null,null,"A & W",20,"CAFFEINE","REGULAR"]
[null,null,null,null,null,null,null,null,null,null,null,null,null,"PEPSI CHERRY VANILLA",16.9,"CAFFEINE","REGULAR"]
[null,null,null,null,null,null,null,null,null,null,null,null,null,"SUNKIST",8,"CAFFEINE","REGULAR"]
[null,null,null,null,null,null,null,null,null,null,null,null,null,"COKE ZERO",67.6,"CAFFEINE FREE","DIET"]
[null,null,null,null,null,null,null,null,null,null,null,null,null,"BARQS",12,"CAFFEINE FREE","REGULAR"]
[null,null,null,null,null,null,null,null,null,null,null,null,null,"SEAGRAMS",16.9,"CAFFEINE FREE","REGULAR"]
[null,null,null,null,null,null,null,null,null,null,null,null,null,"SPRITE BASE",12,"CAFFEINE FREE","REGULAR"]
[null,null,null,null,null,null,null,null,null,null,null,null,null,"DIET RITE",16.9,"CAFFEINE","DIET"]
[null,null,null,null,null,null,null,null,null,null,null,null,null,"RC",12,"CAFFEINE","REGULAR"]
[null,null,null,null,null,null,null,null,null,null,null,null,null,"COKE CLASSIC",7.5,"CAFFEINE FREE","DIET"]

{"sheet":"Rank","index":1,"n_rows":412,"n_cols":28,"rows_kept":412,"cut":false,"hidden":false,"merged":[]}
[]
[]
[]
[]
[]
[]
[{"$f":"\"Ranked On \"&ddlb_control!K4&\" in \"&ddlb_control!L3&\" Order\"","v":"Ranked On Dollar Sales in Descending Order"}]
[]
["Rank",null,"UPC Code",{"$f":"ddlb_control!S2","v":0},{"$f":"ddlb_control!S3","v":0},{"$f":"ddlb_control!S4","v":0},{"$f":"ddlb_control!S5","v":0},"Dollar Sales","Dollar Sales % Change vs YA","Dollar Share of Cat","Unit Sales","Unit Sales % Change vs YA","Volume Sales","Volume Sales % Change vs YA","Avg Prc/Unit","Avg Prc/Unit Change vs YA","Dol/$MM ACV","Dol/$MM ACV % Change vs YA","Average Weekly ACV Distribution","Average Weekly ACV Distribution Change vs YA","Average Weekly ACV Distribution Any Merchandising","Average Weekly ACV Distribution Any Merchandising Change vs YA","Average Weekly ACV Distribution Any Feature","Average Weekly ACV Distribution Any Feature Change vs YA","Average Weekly ACV Distribution Any Display","Average Weekly ACV Distribution Any Display Change vs YA","Units/Store/Week","Decision\nN = New\nD = Delete"]
[]
[]
[1]
[1]
[2]
[3]
[4]
[5]
[6]
[7]
[8]
[9]
[10]
[11]
[12]
[13]
[14]
[15]
[16]
[17]
[18]
[19]
[20]
[21]
[22]
[23]
[24]
[25]
[26]
[27]
[28]
[29]
[30]
[31]
[32]
[33]
[34]
[35]
[36]
[37]
[38]
[39]
[40]
[41]
[42]
[43]
[44]
[45]
[46]
[47]
[48]
[49]
[50]
[51]
[52]
[53]
[54]
[55]
[56]
[57]
[58]
[59]
[60]
[61]
[62]
[63]
[64]
[65]
[66]
[67]
[68]
[69]
[70]
[71]
[72]
[73]
[74]
[75]
[76]
[77]
[78]
[79]
[80]
[81]
[82]
[83]
[84]
[85]
[86]
[87]
[88]
[89]
[90]
[91]
[92]
[93]
[94]
[95]
[96]
[97]
[98]
[99]
[100]
[101]
[102]
[103]
[104]
[105]
[106]
[107]
[108]
[109]
[110]
[111]
[112]
[113]
[114]
[115]
[116]
[117]
[118]
[119]
[120]
[121]
[122]
[123]
[124]
[125]
[126]
[127]
[128]
[129]
[130]
[131]
[132]
[133]
[134]
[135]
[136]
[137]
[138]
[139]
[140]
[141]
[142]
[143]
[144]
[145]
[146]
[147]
[148]
[149]
[150]
[151]
[152]
[153]
[154]
[155]
[156]
[157]
[158]
[159]
[160]
[161]
[162]
[163]
[164]
[165]
[166]
[167]
[168]
[169]
[170]
[171]
[172]
[173]
[174]
[175]
[176]
[177]
[178]
[179]
[180]
[181]
[182]
[183]
[184]
[185]
[186]
[187]
[188]
[189]
[190]
[191]
[192]
[193]
[194]
[195]
[196]
[197]
[198]
[199]
[200]
[201]
[202]
[203]
[204]
[205]
[206]
[207]
[208]
[209]
[210]
[211]
[212]
[213]
[214]
[215]
[216]
[217]
[218]
[219]
[220]
[221]
[222]
[223]
[224]
[225]
[226]
[227]
[228]
[229]
[230]
[231]
[232]
[233]
[234]
[235]
[236]
[237]
[238]
[239]
[240]
[241]
[242]
[243]
[244]
[245]
[246]
[247]
[248]
[249]
[250]
[251]
[252]
[253]
[254]
[255]
[256]
[257]
[258]
[259]
[260]
[261]
[262]
[263]
[264]
[265]
[266]
[267]
[268]
[269]
[270]
[271]
[272]
[273]
[274]
[275]
[276]
[277]
[278]
[279]
[280]
[281]
[282]
[283]
[284]
[285]
[286]
[287]
[288]
[289]
[290]
[291]
[292]
[293]
[294]
[295]
[296]
[297]
[298]
[299]
[300]
[301]
[302]
[303]
[304]
[305]
[306]
[307]
[308]
[309]
[310]
[311]
[312]
[313]
[314]
[315]
[316]
[317]
[318]
[319]
[320]
[321]
[322]
[323]
[324]
[325]
[326]
[327]
[328]
[329]
[330]
[331]
[332]
[333]
[334]
[335]
[336]
[337]
[338]
[339]
[340]
[341]
[342]
[343]
[344]
[345]
[346]
[347]
[348]
[349]
[350]
[351]
[352]
[353]
[354]
[355]
[356]
[357]
[358]
[359]
[360]
[361]
[362]
[363]
[364]
[365]
[366]
[367]
[368]
[369]
[370]
[371]
[372]
[373]
[374]
[375]
[376]
[377]
[378]
[379]
[380]
[381]
[382]
[383]
[384]
[385]
[386]
[387]
[388]
[389]
[390]
[391]
[392]
[393]
[394]
[395]
[396]
[397]
[398]
[399]
[400]

{"sheet":"ILD-Data-1-Ref","index":2,"n_rows":256,"n_cols":52,"rows_kept":256,"cut":false,"hidden":true,"merged":[]}
[{"$f":"Picture!A10","v":0},{"$f":"Picture!B10","v":0},{"$f":"Picture!C10","v":0},{"$f":"Picture!D10","v":0},{"$f":"Picture!E10","v":0},{"$f":"Picture!F10","v":0},{"$f":"Picture!G10","v":0},{"$f":"Picture!H10","v":0},{"$f":"Picture!I10","v":0},{"$f":"Picture!J10","v":0},{"$f":"Picture!K10","v":0},{"$f":"Picture!L10","v":0},{"$f":"Picture!M10","v":0},{"$f":"Picture!N10","v":0},{"$f":"Picture!O10","v":0},{"$f":"Picture!P10","v":0},{"$f":"Picture!Q10","v":0},{"$f":"Picture!R10","v":0},{"$f":"Picture!S10","v":0},{"$f":"Picture!T10","v":0},{"$f":"Picture!U10","v":0},{"$f":"Picture!V10","v":0},{"$f":"Picture!W10","v":0},{"$f":"Picture!X10","v":0},{"$f":"Picture!Y10","v":0},{"$f":"Picture!Z10","v":0},{"$f":"Picture!AA10","v":0},{"$f":"Picture!AB10","v":0},{"$f":"Picture!AC10","v":0},{"$f":"Picture!AD10","v":0},{"$f":"Picture!AE10","v":0},{"$f":"Picture!AF10","v":0},{"$f":"Picture!AG10","v":0},{"$f":"Picture!AH10","v":0},{"$f":"Picture!AI10","v":0},{"$f":"Picture!AJ10","v":0},{"$f":"Picture!AK10","v":0},{"$f":"Picture!AL10","v":0},{"$f":"Picture!AM10","v":0},{"$f":"Picture!AN10","v":0},{"$f":"Picture!AO10","v":0},{"$f":"Picture!AP10","v":0},{"$f":"Picture!AQ10","v":0},{"$f":"Picture!AR10","v":0},{"$f":"Picture!AS10","v":0},{"$f":"Picture!AT10","v":0},{"$f":"Picture!AU10","v":0},{"$f":"Picture!AV10","v":0},{"$f":"Picture!AW10","v":0},{"$f":"Picture!AX10","v":0},{"$f":"Picture!AY10","v":0},{"$f":"Picture!AZ10","v":0}]
[{"$f":"Picture!A11","v":0},{"$f":"Picture!B11","v":0},{"$f":"Picture!C11","v":0},{"$f":"Picture!D11","v":0},{"$f":"Picture!E11","v":0},{"$f":"Picture!F11","v":0},{"$f":"Picture!G11","v":0},{"$f":"Picture!H11","v":0},{"$f":"Picture!I11","v":0},{"$f":"Picture!J11","v":0},{"$f":"Picture!K11","v":0},{"$f":"Picture!L11","v":0},{"$f":"Picture!M11","v":0},{"$f":"Picture!N11","v":0},{"$f":"Picture!O11","v":0},{"$f":"Picture!P11","v":0},{"$f":"Picture!Q11","v":0},{"$f":"Picture!R11","v":0},{"$f":"Picture!S11","v":0},{"$f":"Picture!T11","v":0},{"$f":"Picture!U11","v":0},{"$f":"Picture!V11","v":0},{"$f":"Picture!W11","v":0},{"$f":"Picture!X11","v":0},{"$f":"Picture!Y11","v":0},{"$f":"Picture!Z11","v":0},{"$f":"Picture!AA11","v":0},{"$f":"Picture!AB11","v":0},{"$f":"Picture!AC11","v":0},{"$f":"Picture!AD11","v":0},{"$f":"Picture!AE11","v":0},{"$f":"Picture!AF11","v":0},{"$f":"Picture!AG11","v":0},{"$f":"Picture!AH11","v":0},{"$f":"Picture!AI11","v":0},{"$f":"Picture!AJ11","v":0},{"$f":"Picture!AK11","v":0},{"$f":"Picture!AL11","v":0},{"$f":"Picture!AM11","v":0},{"$f":"Picture!AN11","v":0},{"$f":"Picture!AO11","v":0},{"$f":"Picture!AP11","v":0},{"$f":"Picture!AQ11","v":0},{"$f":"Picture!AR11","v":0},{"$f":"Picture!AS11","v":0},{"$f":"Picture!AT11","v":0},{"$f":"Picture!AU11","v":0},{"$f":"Picture!AV11","v":0},{"$f":"Picture!AW11","v":0},{"$f":"Picture!AX11","v":0},{"$f":"Picture!AY11","v":0},{"$f":"Picture!AZ11","v":0}]
[{"$f":"Picture!A12","v":0},{"$f":"Picture!B12","v":0},{"$f":"Picture!C12","v":0},{"$f":"Picture!D12","v":0},{"$f":"Picture!E12","v":0},{"$f":"Picture!F12","v":0},{"$f":"Picture!G12","v":0},{"$f":"Picture!H12","v":0},{"$f":"Picture!I12","v":0},{"$f":"Picture!J12","v":0},{"$f":"Picture!K12","v":0},{"$f":"Picture!L12","v":0},{"$f":"Picture!M12","v":0},{"$f":"Picture!N12","v":0},{"$f":"Picture!O12","v":0},{"$f":"Picture!P12","v":0},{"$f":"Picture!Q12","v":0},{"$f":"Picture!R12","v":0},{"$f":"Picture!S12","v":0},{"$f":"Picture!T12","v":0},{"$f":"Picture!U12","v":0},{"$f":"Picture!V12","v":0},{"$f":"Picture!W12","v":0},{"$f":"Picture!X12","v":0},{"$f":"Picture!Y12","v":0},{"$f":"Picture!Z12","v":0},{"$f":"Picture!AA12","v":0},{"$f":"Picture!AB12","v":0},{"$f":"Picture!AC12","v":0},{"$f":"Picture!AD12","v":0},{"$f":"Picture!AE12","v":0},{"$f":"Picture!AF12","v":0},{"$f":"Picture!AG12","v":0},{"$f":"Picture!AH12","v":0},{"$f":"Picture!AI12","v":0},{"$f":"Picture!AJ12","v":0},{"$f":"Picture!AK12","v":0},{"$f":"Picture!AL12","v":0},{"$f":"Picture!AM12","v":0},{"$f":"Picture!AN12","v":0},{"$f":"Picture!AO12","v":0},{"$f":"Picture!AP12","v":0},{"$f":"Picture!AQ12","v":0},{"$f":"Picture!AR12","v":0},{"$f":"Picture!AS12","v":0},{"$f":"Picture!AT12","v":0},{"$f":"Picture!AU12","v":0},{"$f":"Picture!AV12","v":0},{"$f":"Picture!AW12","v":0},{"$f":"Picture!AX12","v":0},{"$f":"Picture!AY12","v":0},{"$f":"Picture!AZ12","v":0}]
[{"$f":"Picture!A13","v":0},{"$f":"Picture!B13","v":0},{"$f":"Picture!C13","v":0},{"$f":"Picture!D13","v":0},{"$f":"Picture!E13","v":0},{"$f":"Picture!F13","v":0},{"$f":"Picture!G13","v":0},{"$f":"Picture!H13","v":0},{"$f":"Picture!I13","v":0},{"$f":"Picture!J13","v":0},{"$f":"Picture!K13","v":0},{"$f":"Picture!L13","v":0},{"$f":"Picture!M13","v":0},{"$f":"Picture!N13","v":0},{"$f":"Picture!O13","v":0},{"$f":"Picture!P13","v":0},{"$f":"Picture!Q13","v":0},{"$f":"Picture!R13","v":0},{"$f":"Picture!S13","v":0},{"$f":"Picture!T13","v":0},{"$f":"Picture!U13","v":0},{"$f":"Picture!V13","v":0},{"$f":"Picture!W13","v":0},{"$f":"Picture!X13","v":0},{"$f":"Picture!Y13","v":0},{"$f":"Picture!Z13","v":0},{"$f":"Picture!AA13","v":0},{"$f":"Picture!AB13","v":0},{"$f":"Picture!AC13","v":0},{"$f":"Picture!AD13","v":0},{"$f":"Picture!AE13","v":0},{"$f":"Picture!AF13","v":0},{"$f":"Picture!AG13","v":0},{"$f":"Picture!AH13","v":0},{"$f":"Picture!AI13","v":0},{"$f":"Picture!AJ13","v":0},{"$f":"Picture!AK13","v":0},{"$f":"Picture!AL13","v":0},{"$f":"Picture!AM13","v":0},{"$f":"Picture!AN13","v":0},{"$f":"Picture!AO13","v":0},{"$f":"Picture!AP13","v":0},{"$f":"Picture!AQ13","v":0},{"$f":"Picture!AR13","v":0},{"$f":"Picture!AS13","v":0},{"$f":"Picture!AT13","v":0},{"$f":"Picture!AU13","v":0},{"$f":"Picture!AV13","v":0},{"$f":"Picture!AW13","v":0},{"$f":"Picture!AX13","v":0},{"$f":"Picture!AY13","v":0},{"$f":"Picture!AZ13","v":0}]
[{"$f":"Picture!A14","v":0},{"$f":"Picture!B14","v":0},{"$f":"Picture!C14","v":0},{"$f":"Picture!D14","v":0},{"$f":"Picture!E14","v":0},{"$f":"Picture!F14","v":0},{"$f":"Picture!G14","v":0},{"$f":"Picture!H14","v":0},{"$f":"Picture!I14","v":0},{"$f":"Picture!J14","v":0},{"$f":"Picture!K14","v":0},{"$f":"Picture!L14","v":0},{"$f":"Picture!M14","v":0},{"$f":"Picture!N14","v":0},{"$f":"Picture!O14","v":0},{"$f":"Picture!P14","v":0},{"$f":"Picture!Q14","v":0},{"$f":"Picture!R14","v":0},{"$f":"Picture!S14","v":0},{"$f":"Picture!T14","v":0},{"$f":"Picture!U14","v":0},{"$f":"Picture!V14","v":0},{"$f":"Picture!W14","v":0},{"$f":"Picture!X14","v":0},{"$f":"Picture!Y14","v":0},{"$f":"Picture!Z14","v":0},{"$f":"Picture!AA14","v":0},{"$f":"Picture!AB14","v":0},{"$f":"Picture!AC14","v":0},{"$f":"Picture!AD14","v":0},{"$f":"Picture!AE14","v":0},{"$f":"Picture!AF14","v":0},{"$f":"Picture!AG14","v":0},{"$f":"Picture!AH14","v":0},{"$f":"Picture!AI14","v":0},{"$f":"Picture!AJ14","v":0},{"$f":"Picture!AK14","v":0},{"$f":"Picture!AL14","v":0},{"$f":"Picture!AM14","v":0},{"$f":"Picture!AN14","v":0},{"$f":"Picture!AO14","v":0},{"$f":"Picture!AP14","v":0},{"$f":"Picture!AQ14","v":0},{"$f":"Picture!AR14","v":0},{"$f":"Picture!AS14","v":0},{"$f":"Picture!AT14","v":0},{"$f":"Picture!AU14","v":0},{"$f":"Picture!AV14","v":0},{"$f":"Picture!AW14","v":0},{"$f":"Picture!AX14","v":0},{"$f":"Picture!AY14","v":0},{"$f":"Picture!AZ14","v":0}]
[{"$f":"Picture!A15","v":0},{"$f":"Picture!B15","v":0},{"$f":"Picture!C15","v":0},{"$f":"Picture!D15","v":0},{"$f":"Picture!E15","v":0},{"$f":"Picture!F15","v":0},{"$f":"Picture!G15","v":0},{"$f":"Picture!H15","v":0},{"$f":"Picture!I15","v":0},{"$f":"Picture!J15","v":0},{"$f":"Picture!K15","v":0},{"$f":"Picture!L15","v":0},{"$f":"Picture!M15","v":0},{"$f":"Picture!N15","v":0},{"$f":"Picture!O15","v":0},{"$f":"Picture!P15","v":0},{"$f":"Picture!Q15","v":0},{"$f":"Picture!R15","v":0},{"$f":"Picture!S15","v":0},{"$f":"Picture!T15","v":0},{"$f":"Picture!U15","v":0},{"$f":"Picture!V15","v":0},{"$f":"Picture!W15","v":0},{"$f":"Picture!X15","v":0},{"$f":"Picture!Y15","v":0},{"$f":"Picture!Z15","v":0},{"$f":"Picture!AA15","v":0},{"$f":"Picture!AB15","v":0},{"$f":"Picture!AC15","v":0},{"$f":"Picture!AD15","v":0},{"$f":"Picture!AE15","v":0},{"$f":"Picture!AF15","v":0},{"$f":"Picture!AG15","v":0},{"$f":"Picture!AH15","v":0},{"$f":"Picture!AI15","v":0},{"$f":"Picture!AJ15","v":0},{"$f":"Picture!AK15","v":0},{"$f":"Picture!AL15","v":0},{"$f":"Picture!AM15","v":0},{"$f":"Picture!AN15","v":0},{"$f":"Picture!AO15","v":0},{"$f":"Picture!AP15","v":0},{"$f":"Picture!AQ15","v":0},{"$f":"Picture!AR15","v":0},{"$f":"Picture!AS15","v":0},{"$f":"Picture!AT15","v":0},{"$f":"Picture!AU15","v":0},{"$f":"Picture!AV15","v":0},{"$f":"Picture!AW15","v":0},{"$f":"Picture!AX15","v":0},{"$f":"Picture!AY15","v":0},{"$f":"Picture!AZ15","v":0}]
[{"$f":"Picture!A16","v":0},{"$f":"Picture!B16","v":0},{"$f":"Picture!C16","v":0},{"$f":"Picture!D16","v":0},{"$f":"Picture!E16","v":0},{"$f":"Picture!F16","v":0},{"$f":"Picture!G16","v":0},{"$f":"Picture!H16","v":0},{"$f":"Picture!I16","v":0},{"$f":"Picture!J16","v":0},{"$f":"Picture!K16","v":0},{"$f":"Picture!L16","v":0},{"$f":"Picture!M16","v":0},{"$f":"Picture!N16","v":0},{"$f":"Picture!O16","v":0},{"$f":"Picture!P16","v":0},{"$f":"Picture!Q16","v":0},{"$f":"Picture!R16","v":0},{"$f":"Picture!S16","v":0},{"$f":"Picture!T16","v":0},{"$f":"Picture!U16","v":0},{"$f":"Picture!V16","v":0},{"$f":"Picture!W16","v":0},{"$f":"Picture!X16","v":0},{"$f":"Picture!Y16","v":0},{"$f":"Picture!Z16","v":0},{"$f":"Picture!AA16","v":0},{"$f":"Picture!AB16","v":0},{"$f":"Picture!AC16","v":0},{"$f":"Picture!AD16","v":0},{"$f":"Picture!AE16","v":0},{"$f":"Picture!AF16","v":0},{"$f":"Picture!AG16","v":0},{"$f":"Picture!AH16","v":0},{"$f":"Picture!AI16","v":0},{"$f":"Picture!AJ16","v":0},{"$f":"Picture!AK16","v":0},{"$f":"Picture!AL16","v":0},{"$f":"Picture!AM16","v":0},{"$f":"Picture!AN16","v":0},{"$f":"Picture!AO16","v":0},{"$f":"Picture!AP16","v":0},{"$f":"Picture!AQ16","v":0},{"$f":"Picture!AR16","v":0},{"$f":"Picture!AS16","v":0},{"$f":"Picture!AT16","v":0},{"$f":"Picture!AU16","v":0},{"$f":"Picture!AV16","v":0},{"$f":"Picture!AW16","v":0},{"$f":"Picture!AX16","v":0},{"$f":"Picture!AY16","v":0},{"$f":"Picture!AZ16","v":0}]
[{"$f":"Picture!A17","v":0},{"$f":"Picture!B17","v":0},{"$f":"Picture!C17","v":0},{"$f":"Picture!D17","v":0},{"$f":"Picture!E17","v":0},{"$f":"Picture!F17","v":0},{"$f":"Picture!G17","v":0},{"$f":"Picture!H17","v":0},{"$f":"Picture!I17","v":0},{"$f":"Picture!J17","v":0},{"$f":"Picture!K17","v":0},{"$f":"Picture!L17","v":0},{"$f":"Picture!M17","v":0},{"$f":"Picture!N17","v":0},{"$f":"Picture!O17","v":0},{"$f":"Picture!P17","v":0},{"$f":"Picture!Q17","v":0},{"$f":"Picture!R17","v":0},{"$f":"Picture!S17","v":0},{"$f":"Picture!T17","v":0},{"$f":"Picture!U17","v":0},{"$f":"Picture!V17","v":0},{"$f":"Picture!W17","v":0},{"$f":"Picture!X17","v":0},{"$f":"Picture!Y17","v":0},{"$f":"Picture!Z17","v":0},{"$f":"Picture!AA17","v":0},{"$f":"Picture!AB17","v":0},{"$f":"Picture!AC17","v":0},{"$f":"Picture!AD17","v":0},{"$f":"Picture!AE17","v":0},{"$f":"Picture!AF17","v":0},{"$f":"Picture!AG17","v":0},{"$f":"Picture!AH17","v":0},{"$f":"Picture!AI17","v":0},{"$f":"Picture!AJ17","v":0},{"$f":"Picture!AK17","v":0},{"$f":"Picture!AL17","v":0},{"$f":"Picture!AM17","v":0},{"$f":"Picture!AN17","v":0},{"$f":"Picture!AO17","v":0},{"$f":"Picture!AP17","v":0},{"$f":"Picture!AQ17","v":0},{"$f":"Picture!AR17","v":0},{"$f":"Picture!AS17","v":0},{"$f":"Picture!AT17","v":0},{"$f":"Picture!AU17","v":0},{"$f":"Picture!AV17","v":0},{"$f":"Picture!AW17","v":0},{"$f":"Picture!AX17","v":0},{"$f":"Picture!AY17","v":0},{"$f":"Picture!AZ17","v":0}]
[{"$f":"Picture!A18","v":0},{"$f":"Picture!B18","v":0},{"$f":"Picture!C18","v":0},{"$f":"Picture!D18","v":0},{"$f":"Picture!E18","v":0},{"$f":"Picture!F18","v":0},{"$f":"Picture!G18","v":0},{"$f":"Picture!H18","v":0},{"$f":"Picture!I18","v":0},{"$f":"Picture!J18","v":0},{"$f":"Picture!K18","v":0},{"$f":"Picture!L18","v":0},{"$f":"Picture!M18","v":0},{"$f":"Picture!N18","v":0},{"$f":"Picture!O18","v":0},{"$f":"Picture!P18","v":0},{"$f":"Picture!Q18","v":0},{"$f":"Picture!R18","v":0},{"$f":"Picture!S18","v":0},{"$f":"Picture!T18","v":0},{"$f":"Picture!U18","v":0},{"$f":"Picture!V18","v":0},{"$f":"Picture!W18","v":0},{"$f":"Picture!X18","v":0},{"$f":"Picture!Y18","v":0},{"$f":"Picture!Z18","v":0},{"$f":"Picture!AA18","v":0},{"$f":"Picture!AB18","v":0},{"$f":"Picture!AC18","v":0},{"$f":"Picture!AD18","v":0},{"$f":"Picture!AE18","v":0},{"$f":"Picture!AF18","v":0},{"$f":"Picture!AG18","v":0},{"$f":"Picture!AH18","v":0},{"$f":"Picture!AI18","v":0},{"$f":"Picture!AJ18","v":0},{"$f":"Picture!AK18","v":0},{"$f":"Picture!AL18","v":0},{"$f":"Picture!AM18","v":0},{"$f":"Picture!AN18","v":0},{"$f":"Picture!AO18","v":0},{"$f":"Picture!AP18","v":0},{"$f":"Picture!AQ18","v":0},{"$f":"Picture!AR18","v":0},{"$f":"Picture!AS18","v":0},{"$f":"Picture!AT18","v":0},{"$f":"Picture!AU18","v":0},{"$f":"Picture!AV18","v":0},{"$f":"Picture!AW18","v":0},{"$f":"Picture!AX18","v":0},{"$f":"Picture!AY18","v":0},{"$f":"Picture!AZ18","v":0}]
[{"$f":"Picture!A19","v":0},{"$f":"Picture!B19","v":0},{"$f":"Picture!C19","v":0},{"$f":"Picture!D19","v":0},{"$f":"Picture!E19","v":0},{"$f":"Picture!F19","v":0},{"$f":"Picture!G19","v":0},{"$f":"Picture!H19","v":0},{"$f":"Picture!I19","v":0},{"$f":"Picture!J19","v":0},{"$f":"Picture!K19","v":0},{"$f":"Picture!L19","v":0},{"$f":"Picture!M19","v":0},{"$f":"Picture!N19","v":0},{"$f":"Picture!O19","v":0},{"$f":"Picture!P19","v":0},{"$f":"Picture!Q19","v":0},{"$f":"Picture!R19","v":0},{"$f":"Picture!S19","v":0},{"$f":"Picture!T19","v":0},{"$f":"Picture!U19","v":0},{"$f":"Picture!V19","v":0},{"$f":"Picture!W19","v":0},{"$f":"Picture!X19","v":0},{"$f":"Picture!Y19","v":0},{"$f":"Picture!Z19","v":0},{"$f":"Picture!AA19","v":0},{"$f":"Picture!AB19","v":0},{"$f":"Picture!AC19","v":0},{"$f":"Picture!AD19","v":0},{"$f":"Picture!AE19","v":0},{"$f":"Picture!AF19","v":0},{"$f":"Picture!AG19","v":0},{"$f":"Picture!AH19","v":0},{"$f":"Picture!AI19","v":0},{"$f":"Picture!AJ19","v":0},{"$f":"Picture!AK19","v":0},{"$f":"Picture!AL19","v":0},{"$f":"Picture!AM19","v":0},{"$f":"Picture!AN19","v":0},{"$f":"Picture!AO19","v":0},{"$f":"Picture!AP19","v":0},{"$f":"Picture!AQ19","v":0},{"$f":"Picture!AR19","v":0},{"$f":"Picture!AS19","v":0},{"$f":"Picture!AT19","v":0},{"$f":"Picture!AU19","v":0},{"$f":"Picture!AV19","v":0},{"$f":"Picture!AW19","v":0},{"$f":"Picture!AX19","v":0},{"$f":"Picture!AY19","v":0},{"$f":"Picture!AZ19","v":0}]
[{"$f":"Picture!A20","v":0},{"$f":"Picture!B20","v":0},{"$f":"Picture!C20","v":0},{"$f":"Picture!D20","v":0},{"$f":"Picture!E20","v":0},{"$f":"Picture!F20","v":0},{"$f":"Picture!G20","v":0},{"$f":"Picture!H20","v":0},{"$f":"Picture!I20","v":0},{"$f":"Picture!J20","v":0},{"$f":"Picture!K20","v":0},{"$f":"Picture!L20","v":0},{"$f":"Picture!M20","v":0},{"$f":"Picture!N20","v":0},{"$f":"Picture!O20","v":0},{"$f":"Picture!P20","v":0},{"$f":"Picture!Q20","v":0},{"$f":"Picture!R20","v":0},{"$f":"Picture!S20","v":0},{"$f":"Picture!T20","v":0},{"$f":"Picture!U20","v":0},{"$f":"Picture!V20","v":0},{"$f":"Picture!W20","v":0},{"$f":"Picture!X20","v":0},{"$f":"Picture!Y20","v":0},{"$f":"Picture!Z20","v":0},{"$f":"Picture!AA20","v":0},{"$f":"Picture!AB20","v":0},{"$f":"Picture!AC20","v":0},{"$f":"Picture!AD20","v":0},{"$f":"Picture!AE20","v":0},{"$f":"Picture!AF20","v":0},{"$f":"Picture!AG20","v":0},{"$f":"Picture!AH20","v":0},{"$f":"Picture!AI20","v":0},{"$f":"Picture!AJ20","v":0},{"$f":"Picture!AK20","v":0},{"$f":"Picture!AL20","v":0},{"$f":"Picture!AM20","v":0},{"$f":"Picture!AN20","v":0},{"$f":"Picture!AO20","v":0},{"$f":"Picture!AP20","v":0},{"$f":"Picture!AQ20","v":0},{"$f":"Picture!AR20","v":0},{"$f":"Picture!AS20","v":0},{"$f":"Picture!AT20","v":0},{"$f":"Picture!AU20","v":0},{"$f":"Picture!AV20","v":0},{"$f":"Picture!AW20","v":0},{"$f":"Picture!AX20","v":0},{"$f":"Picture!AY20","v":0},{"$f":"Picture!AZ20","v":0}]
[{"$f":"Picture!A21","v":0},{"$f":"Picture!B21","v":0},{"$f":"Picture!C21","v":0},{"$f":"Picture!D21","v":0},{"$f":"Picture!E21","v":0},{"$f":"Picture!F21","v":0},{"$f":"Picture!G21","v":0},{"$f":"Picture!H21","v":0},{"$f":"Picture!I21","v":0},{"$f":"Picture!J21","v":0},{"$f":"Picture!K21","v":0},{"$f":"Picture!L21","v":0},{"$f":"Picture!M21","v":0},{"$f":"Picture!N21","v":0},{"$f":"Picture!O21","v":0},{"$f":"Picture!P21","v":0},{"$f":"Picture!Q21","v":0},{"$f":"Picture!R21","v":0},{"$f":"Picture!S21","v":0},{"$f":"Picture!T21","v":0},{"$f":"Picture!U21","v":0},{"$f":"Picture!V21","v":0},{"$f":"Picture!W21","v":0},{"$f":"Picture!X21","v":0},{"$f":"Picture!Y21","v":0},{"$f":"Picture!Z21","v":0},{"$f":"Picture!AA21","v":0},{"$f":"Picture!AB21","v":0},{"$f":"Picture!AC21","v":0},{"$f":"Picture!AD21","v":0},{"$f":"Picture!AE21","v":0},{"$f":"Picture!AF21","v":0},{"$f":"Picture!AG21","v":0},{"$f":"Picture!AH21","v":0},{"$f":"Picture!AI21","v":0},{"$f":"Picture!AJ21","v":0},{"$f":"Picture!AK21","v":0},{"$f":"Picture!AL21","v":0},{"$f":"Picture!AM21","v":0},{"$f":"Picture!AN21","v":0},{"$f":"Picture!AO21","v":0},{"$f":"Picture!AP21","v":0},{"$f":"Picture!AQ21","v":0},{"$f":"Picture!AR21","v":0},{"$f":"Picture!AS21","v":0},{"$f":"Picture!AT21","v":0},{"$f":"Picture!AU21","v":0},{"$f":"Picture!AV21","v":0},{"$f":"Picture!AW21","v":0},{"$f":"Picture!AX21","v":0},{"$f":"Picture!AY21","v":0},{"$f":"Picture!AZ21","v":0}]
[{"$f":"Picture!A22","v":0},{"$f":"Picture!B22","v":0},{"$f":"Picture!C22","v":0},{"$f":"Picture!D22","v":0},{"$f":"Picture!E22","v":0},{"$f":"Picture!F22","v":0},{"$f":"Picture!G22","v":0},{"$f":"Picture!H22","v":0},{"$f":"Picture!I22","v":0},{"$f":"Picture!J22","v":0},{"$f":"Picture!K22","v":0},{"$f":"Picture!L22","v":0},{"$f":"Picture!M22","v":0},{"$f":"Picture!N22","v":0},{"$f":"Picture!O22","v":0},{"$f":"Picture!P22","v":0},{"$f":"Picture!Q22","v":0},{"$f":"Picture!R22","v":0},{"$f":"Picture!S22","v":0},{"$f":"Picture!T22","v":0},{"$f":"Picture!U22","v":0},{"$f":"Picture!V22","v":0},{"$f":"Picture!W22","v":0},{"$f":"Picture!X22","v":0},{"$f":"Picture!Y22","v":0},{"$f":"Picture!Z22","v":0},{"$f":"Picture!AA22","v":0},{"$f":"Picture!AB22","v":0},{"$f":"Picture!AC22","v":0},{"$f":"Picture!AD22","v":0},{"$f":"Picture!AE22","v":0},{"$f":"Picture!AF22","v":0},{"$f":"Picture!AG22","v":0},{"$f":"Picture!AH22","v":0},{"$f":"Picture!AI22","v":0},{"$f":"Picture!AJ22","v":0},{"$f":"Picture!AK22","v":0},{"$f":"Picture!AL22","v":0},{"$f":"Picture!AM22","v":0},{"$f":"Picture!AN22","v":0},{"$f":"Picture!AO22","v":0},{"$f":"Picture!AP22","v":0},{"$f":"Picture!AQ22","v":0},{"$f":"Picture!AR22","v":0},{"$f":"Picture!AS22","v":0},{"$f":"Picture!AT22","v":0},{"$f":"Picture!AU22","v":0},{"$f":"Picture!AV22","v":0},{"$f":"Picture!AW22","v":0},{"$f":"Picture!AX22","v":0},{"$f":"Picture!AY22","v":0},{"$f":"Picture!AZ22","v":0}]
[{"$f":"Picture!A23","v":0},{"$f":"Picture!B23","v":0},{"$f":"Picture!C23","v":0},{"$f":"Picture!D23","v":0},{"$f":"Picture!E23","v":0},{"$f":"Picture!F23","v":0},{"$f":"Picture!G23","v":0},{"$f":"Picture!H23","v":0},{"$f":"Picture!I23","v":0},{"$f":"Picture!J23","v":0},{"$f":"Picture!K23","v":0},{"$f":"Picture!L23","v":0},{"$f":"Picture!M23","v":0},{"$f":"Picture!N23","v":0},{"$f":"Picture!O23","v":0},{"$f":"Picture!P23","v":0},{"$f":"Picture!Q23","v":0},{"$f":"Picture!R23","v":0},{"$f":"Picture!S23","v":0},{"$f":"Picture!T23","v":0},{"$f":"Picture!U23","v":0},{"$f":"Picture!V23","v":0},{"$f":"Picture!W23","v":0},{"$f":"Picture!X23","v":0},{"$f":"Picture!Y23","v":0},{"$f":"Picture!Z23","v":0},{"$f":"Picture!AA23","v":0},{"$f":"Picture!AB23","v":0},{"$f":"Picture!AC23","v":0},{"$f":"Picture!AD23","v":0},{"$f":"Picture!AE23","v":0},{"$f":"Picture!AF23","v":0},{"$f":"Picture!AG23","v":0},{"$f":"Picture!AH23","v":0},{"$f":"Picture!AI23","v":0},{"$f":"Picture!AJ23","v":0},{"$f":"Picture!AK23","v":0},{"$f":"Picture!AL23","v":0},{"$f":"Picture!AM23","v":0},{"$f":"Picture!AN23","v":0},{"$f":"Picture!AO23","v":0},{"$f":"Picture!AP23","v":0},{"$f":"Picture!AQ23","v":0},{"$f":"Picture!AR23","v":0},{"$f":"Picture!AS23","v":0},{"$f":"Picture!AT23","v":0},{"$f":"Picture!AU23","v":0},{"$f":"Picture!AV23","v":0},{"$f":"Picture!AW23","v":0},{"$f":"Picture!AX23","v":0},{"$f":"Picture!AY23","v":0},{"$f":"Picture!AZ23","v":0}]
[{"$f":"Picture!A24","v":0},{"$f":"Picture!B24","v":0},{"$f":"Picture!C24","v":0},{"$f":"Picture!D24","v":0},{"$f":"Picture!E24","v":0},{"$f":"Picture!F24","v":0},{"$f":"Picture!G24","v":0},{"$f":"Picture!H24","v":0},{"$f":"Picture!I24","v":0},{"$f":"Picture!J24","v":0},{"$f":"Picture!K24","v":0},{"$f":"Picture!L24","v":0},{"$f":"Picture!M24","v":0},{"$f":"Picture!N24","v":0},{"$f":"Picture!O24","v":0},{"$f":"Picture!P24","v":0},{"$f":"Picture!Q24","v":0},{"$f":"Picture!R24","v":0},{"$f":"Picture!S24","v":0},{"$f":"Picture!T24","v":0},{"$f":"Picture!U24","v":0},{"$f":"Picture!V24","v":0},{"$f":"Picture!W24","v":0},{"$f":"Picture!X24","v":0},{"$f":"Picture!Y24","v":0},{"$f":"Picture!Z24","v":0},{"$f":"Picture!AA24","v":0},{"$f":"Picture!AB24","v":0},{"$f":"Picture!AC24","v":0},{"$f":"Picture!AD24","v":0},{"$f":"Picture!AE24","v":0},{"$f":"Picture!AF24","v":0},{"$f":"Picture!AG24","v":0},{"$f":"Picture!AH24","v":0},{"$f":"Picture!AI24","v":0},{"$f":"Picture!AJ24","v":0},{"$f":"Picture!AK24","v":0},{"$f":"Picture!AL24","v":0},{"$f":"Picture!AM24","v":0},{"$f":"Picture!AN24","v":0},{"$f":"Picture!AO24","v":0},{"$f":"Picture!AP24","v":0},{"$f":"Picture!AQ24","v":0},{"$f":"Picture!AR24","v":0},{"$f":"Picture!AS24","v":0},{"$f":"Picture!AT24","v":0},{"$f":"Picture!AU24","v":0},{"$f":"Picture!AV24","v":0},{"$f":"Picture!AW24","v":0},{"$f":"Picture!AX24","v":0},{"$f":"Picture!AY24","v":0},{"$f":"Picture!AZ24","v":0}]
[{"$f":"Picture!A25","v":0},{"$f":"Picture!B25","v":0},{"$f":"Picture!C25","v":0},{"$f":"Picture!D25","v":0},{"$f":"Picture!E25","v":0},{"$f":"Picture!F25","v":0},{"$f":"Picture!G25","v":0},{"$f":"Picture!H25","v":0},{"$f":"Picture!I25","v":0},{"$f":"Picture!J25","v":0},{"$f":"Picture!K25","v":0},{"$f":"Picture!L25","v":0},{"$f":"Picture!M25","v":0},{"$f":"Picture!N25","v":0},{"$f":"Picture!O25","v":0},{"$f":"Picture!P25","v":0},{"$f":"Picture!Q25","v":0},{"$f":"Picture!R25","v":0},{"$f":"Picture!S25","v":0},{"$f":"Picture!T25","v":0},{"$f":"Picture!U25","v":0},{"$f":"Picture!V25","v":0},{"$f":"Picture!W25","v":0},{"$f":"Picture!X25","v":0},{"$f":"Picture!Y25","v":0},{"$f":"Picture!Z25","v":0},{"$f":"Picture!AA25","v":0},{"$f":"Picture!AB25","v":0},{"$f":"Picture!AC25","v":0},{"$f":"Picture!AD25","v":0},{"$f":"Picture!AE25","v":0},{"$f":"Picture!AF25","v":0},{"$f":"Picture!AG25","v":0},{"$f":"Picture!AH25","v":0},{"$f":"Picture!AI25","v":0},{"$f":"Picture!AJ25","v":0},{"$f":"Picture!AK25","v":0},{"$f":"Picture!AL25","v":0},{"$f":"Picture!AM25","v":0},{"$f":"Picture!AN25","v":0},{"$f":"Picture!AO25","v":0},{"$f":"Picture!AP25","v":0},{"$f":"Picture!AQ25","v":0},{"$f":"Picture!AR25","v":0},{"$f":"Picture!AS25","v":0},{"$f":"Picture!AT25","v":0},{"$f":"Picture!AU25","v":0},{"$f":"Picture!AV25","v":0},{"$f":"Picture!AW25","v":0},{"$f":"Picture!AX25","v":0},{"$f":"Picture!AY25","v":0},{"$f":"Picture!AZ25","v":0}]
[{"$f":"Picture!A26","v":0},{"$f":"Picture!B26","v":0},{"$f":"Picture!C26","v":0},{"$f":"Picture!D26","v":0},{"$f":"Picture!E26","v":0},{"$f":"Picture!F26","v":0},{"$f":"Picture!G26","v":0},{"$f":"Picture!H26","v":0},{"$f":"Picture!I26","v":0},{"$f":"Picture!J26","v":0},{"$f":"Picture!K26","v":0},{"$f":"Picture!L26","v":0},{"$f":"Picture!M26","v":0},{"$f":"Picture!N26","v":0},{"$f":"Picture!O26","v":0},{"$f":"Picture!P26","v":0},{"$f":"Picture!Q26","v":0},{"$f":"Picture!R26","v":0},{"$f":"Picture!S26","v":0},{"$f":"Picture!T26","v":0},{"$f":"Picture!U26","v":0},{"$f":"Picture!V26","v":0},{"$f":"Picture!W26","v":0},{"$f":"Picture!X26","v":0},{"$f":"Picture!Y26","v":0},{"$f":"Picture!Z26","v":0},{"$f":"Picture!AA26","v":0},{"$f":"Picture!AB26","v":0},{"$f":"Picture!AC26","v":0},{"$f":"Picture!AD26","v":0},{"$f":"Picture!AE26","v":0},{"$f":"Picture!AF26","v":0},{"$f":"Picture!AG26","v":0},{"$f":"Picture!AH26","v":0},{"$f":"Picture!AI26","v":0},{"$f":"Picture!AJ26","v":0},{"$f":"Picture!AK26","v":0},{"$f":"Picture!AL26","v":0},{"$f":"Picture!AM26","v":0},{"$f":"Picture!AN26","v":0},{"$f":"Picture!AO26","v":0},{"$f":"Picture!AP26","v":0},{"$f":"Picture!AQ26","v":0},{"$f":"Picture!AR26","v":0},{"$f":"Picture!AS26","v":0},{"$f":"Picture!AT26","v":0},{"$f":"Picture!AU26","v":0},{"$f":"Picture!AV26","v":0},{"$f":"Picture!AW26","v":0},{"$f":"Picture!AX26","v":0},{"$f":"Picture!AY26","v":0},{"$f":"Picture!AZ26","v":0}]
[{"$f":"Picture!A27","v":0},{"$f":"Picture!B27","v":0},{"$f":"Picture!C27","v":0},{"$f":"Picture!D27","v":0},{"$f":"Picture!E27","v":0},{"$f":"Picture!F27","v":0},{"$f":"Picture!G27","v":0},{"$f":"Picture!H27","v":0},{"$f":"Picture!I27","v":0},{"$f":"Picture!J27","v":0},{"$f":"Picture!K27","v":0},{"$f":"Picture!L27","v":0},{"$f":"Picture!M27","v":0},{"$f":"Picture!N27","v":0},{"$f":"Picture!O27","v":0},{"$f":"Picture!P27","v":0},{"$f":"Picture!Q27","v":0},{"$f":"Picture!R27","v":0},{"$f":"Picture!S27","v":0},{"$f":"Picture!T27","v":0},{"$f":"Picture!U27","v":0},{"$f":"Picture!V27","v":0},{"$f":"Picture!W27","v":0},{"$f":"Picture!X27","v":0},{"$f":"Picture!Y27","v":0},{"$f":"Picture!Z27","v":0},{"$f":"Picture!AA27","v":0},{"$f":"Picture!AB27","v":0},{"$f":"Picture!AC27","v":0},{"$f":"Picture!AD27","v":0},{"$f":"Picture!AE27","v":0},{"$f":"Picture!AF27","v":0},{"$f":"Picture!AG27","v":0},{"$f":"Picture!AH27","v":0},{"$f":"Picture!AI27","v":0},{"$f":"Picture!AJ27","v":0},{"$f":"Picture!AK27","v":0},{"$f":"Picture!AL27","v":0},{"$f":"Picture!AM27","v":0},{"$f":"Picture!AN27","v":0},{"$f":"Picture!AO27","v":0},{"$f":"Picture!AP27","v":0},{"$f":"Picture!AQ27","v":0},{"$f":"Picture!AR27","v":0},{"$f":"Picture!AS27","v":0},{"$f":"Picture!AT27","v":0},{"$f":"Picture!AU27","v":0},{"$f":"Picture!AV27","v":0},{"$f":"Picture!AW27","v":0},{"$f":"Picture!AX27","v":0},{"$f":"Picture!AY27","v":0},{"$f":"Picture!AZ27","v":0}]
[{"$f":"Picture!A28","v":0},{"$f":"Picture!B28","v":0},{"$f":"Picture!C28","v":0},{"$f":"Picture!D28","v":0},{"$f":"Picture!E28","v":0},{"$f":"Picture!F28","v":0},{"$f":"Picture!G28","v":0},{"$f":"Picture!H28","v":0},{"$f":"Picture!I28","v":0},{"$f":"Picture!J28","v":0},{"$f":"Picture!K28","v":0},{"$f":"Picture!L28","v":0},{"$f":"Picture!M28","v":0},{"$f":"Picture!N28","v":0},{"$f":"Picture!O28","v":0},{"$f":"Picture!P28","v":0},{"$f":"Picture!Q28","v":0},{"$f":"Picture!R28","v":0},{"$f":"Picture!S28","v":0},{"$f":"Picture!T28","v":0},{"$f":"Picture!U28","v":0},{"$f":"Picture!V28","v":0},{"$f":"Picture!W28","v":0},{"$f":"Picture!X28","v":0},{"$f":"Picture!Y28","v":0},{"$f":"Picture!Z28","v":0},{"$f":"Picture!AA28","v":0},{"$f":"Picture!AB28","v":0},{"$f":"Picture!AC28","v":0},{"$f":"Picture!AD28","v":0},{"$f":"Picture!AE28","v":0},{"$f":"Picture!AF28","v":0},{"$f":"Picture!AG28","v":0},{"$f":"Picture!AH28","v":0},{"$f":"Picture!AI28","v":0},{"$f":"Picture!AJ28","v":0},{"$f":"Picture!AK28","v":0},{"$f":"Picture!AL28","v":0},{"$f":"Picture!AM28","v":0},{"$f":"Picture!AN28","v":0},{"$f":"Picture!AO28","v":0},{"$f":"Picture!AP28","v":0},{"$f":"Picture!AQ28","v":0},{"$f":"Picture!AR28","v":0},{"$f":"Picture!AS28","v":0},{"$f":"Picture!AT28","v":0},{"$f":"Picture!AU28","v":0},{"$f":"Picture!AV28","v":0},{"$f":"Picture!AW28","v":0},{"$f":"Picture!AX28","v":0},{"$f":"Picture!AY28","v":0},{"$f":"Picture!AZ28","v":0}]
[{"$f":"Picture!A29","v":0},{"$f":"Picture!B29","v":0},{"$f":"Picture!C29","v":0},{"$f":"Picture!D29","v":0},{"$f":"Picture!E29","v":0},{"$f":"Picture!F29","v":0},{"$f":"Picture!G29","v":0},{"$f":"Picture!H29","v":0},{"$f":"Picture!I29","v":0},{"$f":"Picture!J29","v":0},{"$f":"Picture!K29","v":0},{"$f":"Picture!L29","v":0},{"$f":"Picture!M29","v":0},{"$f":"Picture!N29","v":0},{"$f":"Picture!O29","v":0},{"$f":"Picture!P29","v":0},{"$f":"Picture!Q29","v":0},{"$f":"Picture!R29","v":0},{"$f":"Picture!S29","v":0},{"$f":"Picture!T29","v":0},{"$f":"Picture!U29","v":0},{"$f":"Picture!V29","v":0},{"$f":"Picture!W29","v":0},{"$f":"Picture!X29","v":0},{"$f":"Picture!Y29","v":0},{"$f":"Picture!Z29","v":0},{"$f":"Picture!AA29","v":0},{"$f":"Picture!AB29","v":0},{"$f":"Picture!AC29","v":0},{"$f":"Picture!AD29","v":0},{"$f":"Picture!AE29","v":0},{"$f":"Picture!AF29","v":0},{"$f":"Picture!AG29","v":0},{"$f":"Picture!AH29","v":0},{"$f":"Picture!AI29","v":0},{"$f":"Picture!AJ29","v":0},{"$f":"Picture!AK29","v":0},{"$f":"Picture!AL29","v":0},{"$f":"Picture!AM29","v":0},{"$f":"Picture!AN29","v":0},{"$f":"Picture!AO29","v":0},{"$f":"Picture!AP29","v":0},{"$f":"Picture!AQ29","v":0},{"$f":"Picture!AR29","v":0},{"$f":"Picture!AS29","v":0},{"$f":"Picture!AT29","v":0},{"$f":"Picture!AU29","v":0},{"$f":"Picture!AV29","v":0},{"$f":"Picture!AW29","v":0},{"$f":"Picture!AX29","v":0},{"$f":"Picture!AY29","v":0},{"$f":"Picture!AZ29","v":0}]
[{"$f":"Picture!A30","v":0},{"$f":"Picture!B30","v":0},{"$f":"Picture!C30","v":0},{"$f":"Picture!D30","v":0},{"$f":"Picture!E30","v":0},{"$f":"Picture!F30","v":0},{"$f":"Picture!G30","v":0},{"$f":"Picture!H30","v":0},{"$f":"Picture!I30","v":0},{"$f":"Picture!J30","v":0},{"$f":"Picture!K30","v":0},{"$f":"Picture!L30","v":0},{"$f":"Picture!M30","v":0},{"$f":"Picture!N30","v":0},{"$f":"Picture!O30","v":0},{"$f":"Picture!P30","v":0},{"$f":"Picture!Q30","v":0},{"$f":"Picture!R30","v":0},{"$f":"Picture!S30","v":0},{"$f":"Picture!T30","v":0},{"$f":"Picture!U30","v":0},{"$f":"Picture!V30","v":0},{"$f":"Picture!W30","v":0},{"$f":"Picture!X30","v":0},{"$f":"Picture!Y30","v":0},{"$f":"Picture!Z30","v":0},{"$f":"Picture!AA30","v":0},{"$f":"Picture!AB30","v":0},{"$f":"Picture!AC30","v":0},{"$f":"Picture!AD30","v":0},{"$f":"Picture!AE30","v":0},{"$f":"Picture!AF30","v":0},{"$f":"Picture!AG30","v":0},{"$f":"Picture!AH30","v":0},{"$f":"Picture!AI30","v":0},{"$f":"Picture!AJ30","v":0},{"$f":"Picture!AK30","v":0},{"$f":"Picture!AL30","v":0},{"$f":"Picture!AM30","v":0},{"$f":"Picture!AN30","v":0},{"$f":"Picture!AO30","v":0},{"$f":"Picture!AP30","v":0},{"$f":"Picture!AQ30","v":0},{"$f":"Picture!AR30","v":0},{"$f":"Picture!AS30","v":0},{"$f":"Picture!AT30","v":0},{"$f":"Picture!AU30","v":0},{"$f":"Picture!AV30","v":0},{"$f":"Picture!AW30","v":0},{"$f":"Picture!AX30","v":0},{"$f":"Picture!AY30","v":0},{"$f":"Picture!AZ30","v":0}]
[{"$f":"Picture!A31","v":0},{"$f":"Picture!B31","v":0},{"$f":"Picture!C31","v":0},{"$f":"Picture!D31","v":0},{"$f":"Picture!E31","v":0},{"$f":"Picture!F31","v":0},{"$f":"Picture!G31","v":0},{"$f":"Picture!H31","v":0},{"$f":"Picture!I31","v":0},{"$f":"Picture!J31","v":0},{"$f":"Picture!K31","v":0},{"$f":"Picture!L31","v":0},{"$f":"Picture!M31","v":0},{"$f":"Picture!N31","v":0},{"$f":"Picture!O31","v":0},{"$f":"Picture!P31","v":0},{"$f":"Picture!Q31","v":0},{"$f":"Picture!R31","v":0},{"$f":"Picture!S31","v":0},{"$f":"Picture!T31","v":0},{"$f":"Picture!U31","v":0},{"$f":"Picture!V31","v":0},{"$f":"Picture!W31","v":0},{"$f":"Picture!X31","v":0},{"$f":"Picture!Y31","v":0},{"$f":"Picture!Z31","v":0},{"$f":"Picture!AA31","v":0},{"$f":"Picture!AB31","v":0},{"$f":"Picture!AC31","v":0},{"$f":"Picture!AD31","v":0},{"$f":"Picture!AE31","v":0},{"$f":"Picture!AF31","v":0},{"$f":"Picture!AG31","v":0},{"$f":"Picture!AH31","v":0},{"$f":"Picture!AI31","v":0},{"$f":"Picture!AJ31","v":0},{"$f":"Picture!AK31","v":0},{"$f":"Picture!AL31","v":0},{"$f":"Picture!AM31","v":0},{"$f":"Picture!AN31","v":0},{"$f":"Picture!AO31","v":0},{"$f":"Picture!AP31","v":0},{"$f":"Picture!AQ31","v":0},{"$f":"Picture!AR31","v":0},{"$f":"Picture!AS31","v":0},{"$f":"Picture!AT31","v":0},{"$f":"Picture!AU31","v":0},{"$f":"Picture!AV31","v":0},{"$f":"Picture!AW31","v":0},{"$f":"Picture!AX31","v":0},{"$f":"Picture!AY31","v":0},{"$f":"Picture!AZ31","v":0}]
[{"$f":"Picture!A32","v":0},{"$f":"Picture!B32","v":0},{"$f":"Picture!C32","v":0},{"$f":"Picture!D32","v":0},{"$f":"Picture!E32","v":0},{"$f":"Picture!F32","v":0},{"$f":"Picture!G32","v":0},{"$f":"Picture!H32","v":0},{"$f":"Picture!I32","v":0},{"$f":"Picture!J32","v":0},{"$f":"Picture!K32","v":0},{"$f":"Picture!L32","v":0},{"$f":"Picture!M32","v":0},{"$f":"Picture!N32","v":0},{"$f":"Picture!O32","v":0},{"$f":"Picture!P32","v":0},{"$f":"Picture!Q32","v":0},{"$f":"Picture!R32","v":0},{"$f":"Picture!S32","v":0},{"$f":"Picture!T32","v":0},{"$f":"Picture!U32","v":0},{"$f":"Picture!V32","v":0},{"$f":"Picture!W32","v":0},{"$f":"Picture!X32","v":0},{"$f":"Picture!Y32","v":0},{"$f":"Picture!Z32","v":0},{"$f":"Picture!AA32","v":0},{"$f":"Picture!AB32","v":0},{"$f":"Picture!AC32","v":0},{"$f":"Picture!AD32","v":0},{"$f":"Picture!AE32","v":0},{"$f":"Picture!AF32","v":0},{"$f":"Picture!AG32","v":0},{"$f":"Picture!AH32","v":0},{"$f":"Picture!AI32","v":0},{"$f":"Picture!AJ32","v":0},{"$f":"Picture!AK32","v":0},{"$f":"Picture!AL32","v":0},{"$f":"Picture!AM32","v":0},{"$f":"Picture!AN32","v":0},{"$f":"Picture!AO32","v":0},{"$f":"Picture!AP32","v":0},{"$f":"Picture!AQ32","v":0},{"$f":"Picture!AR32","v":0},{"$f":"Picture!AS32","v":0},{"$f":"Picture!AT32","v":0},{"$f":"Picture!AU32","v":0},{"$f":"Picture!AV32","v":0},{"$f":"Picture!AW32","v":0},{"$f":"Picture!AX32","v":0},{"$f":"Picture!AY32","v":0},{"$f":"Picture!AZ32","v":0}]
[{"$f":"Picture!A33","v":0},{"$f":"Picture!B33","v":0},{"$f":"Picture!C33","v":0},{"$f":"Picture!D33","v":0},{"$f":"Picture!E33","v":0},{"$f":"Picture!F33","v":0},{"$f":"Picture!G33","v":0},{"$f":"Picture!H33","v":0},{"$f":"Picture!I33","v":0},{"$f":"Picture!J33","v":0},{"$f":"Picture!K33","v":0},{"$f":"Picture!L33","v":0},{"$f":"Picture!M33","v":0},{"$f":"Picture!N33","v":0},{"$f":"Picture!O33","v":0},{"$f":"Picture!P33","v":0},{"$f":"Picture!Q33","v":0},{"$f":"Picture!R33","v":0},{"$f":"Picture!S33","v":0},{"$f":"Picture!T33","v":0},{"$f":"Picture!U33","v":0},{"$f":"Picture!V33","v":0},{"$f":"Picture!W33","v":0},{"$f":"Picture!X33","v":0},{"$f":"Picture!Y33","v":0},{"$f":"Picture!Z33","v":0},{"$f":"Picture!AA33","v":0},{"$f":"Picture!AB33","v":0},{"$f":"Picture!AC33","v":0},{"$f":"Picture!AD33","v":0},{"$f":"Picture!AE33","v":0},{"$f":"Picture!AF33","v":0},{"$f":"Picture!AG33","v":0},{"$f":"Picture!AH33","v":0},{"$f":"Picture!AI33","v":0},{"$f":"Picture!AJ33","v":0},{"$f":"Picture!AK33","v":0},{"$f":"Picture!AL33","v":0},{"$f":"Picture!AM33","v":0},{"$f":"Picture!AN33","v":0},{"$f":"Picture!AO33","v":0},{"$f":"Picture!AP33","v":0},{"$f":"Picture!AQ33","v":0},{"$f":"Picture!AR33","v":0},{"$f":"Picture!AS33","v":0},{"$f":"Picture!AT33","v":0},{"$f":"Picture!AU33","v":0},{"$f":"Picture!AV33","v":0},{"$f":"Picture!AW33","v":0},{"$f":"Picture!AX33","v":0},{"$f":"Picture!AY33","v":0},{"$f":"Picture!AZ33","v":0}]
[{"$f":"Picture!A34","v":0},{"$f":"Picture!B34","v":0},{"$f":"Picture!C34","v":0},{"$f":"Picture!D34","v":0},{"$f":"Picture!E34","v":0},{"$f":"Picture!F34","v":0},{"$f":"Picture!G34","v":0},{"$f":"Picture!H34","v":0},{"$f":"Picture!I34","v":0},{"$f":"Picture!J34","v":0},{"$f":"Picture!K34","v":0},{"$f":"Picture!L34","v":0},{"$f":"Picture!M34","v":0},{"$f":"Picture!N34","v":0},{"$f":"Picture!O34","v":0},{"$f":"Picture!P34","v":0},{"$f":"Picture!Q34","v":0},{"$f":"Picture!R34","v":0},{"$f":"Picture!S34","v":0},{"$f":"Picture!T34","v":0},{"$f":"Picture!U34","v":0},{"$f":"Picture!V34","v":0},{"$f":"Picture!W34","v":0},{"$f":"Picture!X34","v":0},{"$f":"Picture!Y34","v":0},{"$f":"Picture!Z34","v":0},{"$f":"Picture!AA34","v":0},{"$f":"Picture!AB34","v":0},{"$f":"Picture!AC34","v":0},{"$f":"Picture!AD34","v":0},{"$f":"Picture!AE34","v":0},{"$f":"Picture!AF34","v":0},{"$f":"Picture!AG34","v":0},{"$f":"Picture!AH34","v":0},{"$f":"Picture!AI34","v":0},{"$f":"Picture!AJ34","v":0},{"$f":"Picture!AK34","v":0},{"$f":"Picture!AL34","v":0},{"$f":"Picture!AM34","v":0},{"$f":"Picture!AN34","v":0},{"$f":"Picture!AO34","v":0},{"$f":"Picture!AP34","v":0},{"$f":"Picture!AQ34","v":0},{"$f":"Picture!AR34","v":0},{"$f":"Picture!AS34","v":0},{"$f":"Picture!AT34","v":0},{"$f":"Picture!AU34","v":0},{"$f":"Picture!AV34","v":0},{"$f":"Picture!AW34","v":0},{"$f":"Picture!AX34","v":0},{"$f":"Picture!AY34","v":0},{"$f":"Picture!AZ34","v":0}]
[{"$f":"Picture!A35","v":0},{"$f":"Picture!B35","v":0},{"$f":"Picture!C35","v":0},{"$f":"Picture!D35","v":0},{"$f":"Picture!E35","v":0},{"$f":"Picture!F35","v":0},{"$f":"Picture!G35","v":0},{"$f":"Picture!H35","v":0},{"$f":"Picture!I35","v":0},{"$f":"Picture!J35","v":0},{"$f":"Picture!K35","v":0},{"$f":"Picture!L35","v":0},{"$f":"Picture!M35","v":0},{"$f":"Picture!N35","v":0},{"$f":"Picture!O35","v":0},{"$f":"Picture!P35","v":0},{"$f":"Picture!Q35","v":0},{"$f":"Picture!R35","v":0},{"$f":"Picture!S35","v":0},{"$f":"Picture!T35","v":0},{"$f":"Picture!U35","v":0},{"$f":"Picture!V35","v":0},{"$f":"Picture!W35","v":0},{"$f":"Picture!X35","v":0},{"$f":"Picture!Y35","v":0},{"$f":"Picture!Z35","v":0},{"$f":"Picture!AA35","v":0},{"$f":"Picture!AB35","v":0},{"$f":"Picture!AC35","v":0},{"$f":"Picture!AD35","v":0},{"$f":"Picture!AE35","v":0},{"$f":"Picture!AF35","v":0},{"$f":"Picture!AG35","v":0},{"$f":"Picture!AH35","v":0},{"$f":"Picture!AI35","v":0},{"$f":"Picture!AJ35","v":0},{"$f":"Picture!AK35","v":0},{"$f":"Picture!AL35","v":0},{"$f":"Picture!AM35","v":0},{"$f":"Picture!AN35","v":0},{"$f":"Picture!AO35","v":0},{"$f":"Picture!AP35","v":0},{"$f":"Picture!AQ35","v":0},{"$f":"Picture!AR35","v":0},{"$f":"Picture!AS35","v":0},{"$f":"Picture!AT35","v":0},{"$f":"Picture!AU35","v":0},{"$f":"Picture!AV35","v":0},{"$f":"Picture!AW35","v":0},{"$f":"Picture!AX35","v":0},{"$f":"Picture!AY35","v":0},{"$f":"Picture!AZ35","v":0}]
[{"$f":"Picture!A36","v":0},{"$f":"Picture!B36","v":0},{"$f":"Picture!C36","v":0},{"$f":"Picture!D36","v":0},{"$f":"Picture!E36","v":0},{"$f":"Picture!F36","v":0},{"$f":"Picture!G36","v":0},{"$f":"Picture!H36","v":0},{"$f":"Picture!I36","v":0},{"$f":"Picture!J36","v":0},{"$f":"Picture!K36","v":0},{"$f":"Picture!L36","v":0},{"$f":"Picture!M36","v":0},{"$f":"Picture!N36","v":0},{"$f":"Picture!O36","v":0},{"$f":"Picture!P36","v":0},{"$f":"Picture!Q36","v":0},{"$f":"Picture!R36","v":0},{"$f":"Picture!S36","v":0},{"$f":"Picture!T36","v":0},{"$f":"Picture!U36","v":0},{"$f":"Picture!V36","v":0},{"$f":"Picture!W36","v":0},{"$f":"Picture!X36","v":0},{"$f":"Picture!Y36","v":0},{"$f":"Picture!Z36","v":0},{"$f":"Picture!AA36","v":0},{"$f":"Picture!AB36","v":0},{"$f":"Picture!AC36","v":0},{"$f":"Picture!AD36","v":0},{"$f":"Picture!AE36","v":0},{"$f":"Picture!AF36","v":0},{"$f":"Picture!AG36","v":0},{"$f":"Picture!AH36","v":0},{"$f":"Picture!AI36","v":0},{"$f":"Picture!AJ36","v":0},{"$f":"Picture!AK36","v":0},{"$f":"Picture!AL36","v":0},{"$f":"Picture!AM36","v":0},{"$f":"Picture!AN36","v":0},{"$f":"Picture!AO36","v":0},{"$f":"Picture!AP36","v":0},{"$f":"Picture!AQ36","v":0},{"$f":"Picture!AR36","v":0},{"$f":"Picture!AS36","v":0},{"$f":"Picture!AT36","v":0},{"$f":"Picture!AU36","v":0},{"$f":"Picture!AV36","v":0},{"$f":"Picture!AW36","v":0},{"$f":"Picture!AX36","v":0},{"$f":"Picture!AY36","v":0},{"$f":"Picture!AZ36","v":0}]
[{"$f":"Picture!A37","v":0},{"$f":"Picture!B37","v":0},{"$f":"Picture!C37","v":0},{"$f":"Picture!D37","v":0},{"$f":"Picture!E37","v":0},{"$f":"Picture!F37","v":0},{"$f":"Picture!G37","v":0},{"$f":"Picture!H37","v":0},{"$f":"Picture!I37","v":0},{"$f":"Picture!J37","v":0},{"$f":"Picture!K37","v":0},{"$f":"Picture!L37","v":0},{"$f":"Picture!M37","v":0},{"$f":"Picture!N37","v":0},{"$f":"Picture!O37","v":0},{"$f":"Picture!P37","v":0},{"$f":"Picture!Q37","v":0},{"$f":"Picture!R37","v":0},{"$f":"Picture!S37","v":0},{"$f":"Picture!T37","v":0},{"$f":"Picture!U37","v":0},{"$f":"Picture!V37","v":0},{"$f":"Picture!W37","v":0},{"$f":"Picture!X37","v":0},{"$f":"Picture!Y37","v":0},{"$f":"Picture!Z37","v":0},{"$f":"Picture!AA37","v":0},{"$f":"Picture!AB37","v":0},{"$f":"Picture!AC37","v":0},{"$f":"Picture!AD37","v":0},{"$f":"Picture!AE37","v":0},{"$f":"Picture!AF37","v":0},{"$f":"Picture!AG37","v":0},{"$f":"Picture!AH37","v":0},{"$f":"Picture!AI37","v":0},{"$f":"Picture!AJ37","v":0},{"$f":"Picture!AK37","v":0},{"$f":"Picture!AL37","v":0},{"$f":"Picture!AM37","v":0},{"$f":"Picture!AN37","v":0},{"$f":"Picture!AO37","v":0},{"$f":"Picture!AP37","v":0},{"$f":"Picture!AQ37","v":0},{"$f":"Picture!AR37","v":0},{"$f":"Picture!AS37","v":0},{"$f":"Picture!AT37","v":0},{"$f":"Picture!AU37","v":0},{"$f":"Picture!AV37","v":0},{"$f":"Picture!AW37","v":0},{"$f":"Picture!AX37","v":0},{"$f":"Picture!AY37","v":0},{"$f":"Picture!AZ37","v":0}]
[{"$f":"Picture!A38","v":0},{"$f":"Picture!B38","v":0},{"$f":"Picture!C38","v":0},{"$f":"Picture!D38","v":0},{"$f":"Picture!E38","v":0},{"$f":"Picture!F38","v":0},{"$f":"Picture!G38","v":0},{"$f":"Picture!H38","v":0},{"$f":"Picture!I38","v":0},{"$f":"Picture!J38","v":0},{"$f":"Picture!K38","v":0},{"$f":"Picture!L38","v":0},{"$f":"Picture!M38","v":0},{"$f":"Picture!N38","v":0},{"$f":"Picture!O38","v":0},{"$f":"Picture!P38","v":0},{"$f":"Picture!Q38","v":0},{"$f":"Picture!R38","v":0},{"$f":"Picture!S38","v":0},{"$f":"Picture!T38","v":0},{"$f":"Picture!U38","v":0},{"$f":"Picture!V38","v":0},{"$f":"Picture!W38","v":0},{"$f":"Picture!X38","v":0},{"$f":"Picture!Y38","v":0},{"$f":"Picture!Z38","v":0},{"$f":"Picture!AA38","v":0},{"$f":"Picture!AB38","v":0},{"$f":"Picture!AC38","v":0},{"$f":"Picture!AD38","v":0},{"$f":"Picture!AE38","v":0},{"$f":"Picture!AF38","v":0},{"$f":"Picture!AG38","v":0},{"$f":"Picture!AH38","v":0},{"$f":"Picture!AI38","v":0},{"$f":"Picture!AJ38","v":0},{"$f":"Picture!AK38","v":0},{"$f":"Picture!AL38","v":0},{"$f":"Picture!AM38","v":0},{"$f":"Picture!AN38","v":0},{"$f":"Picture!AO38","v":0},{"$f":"Picture!AP38","v":0},{"$f":"Picture!AQ38","v":0},{"$f":"Picture!AR38","v":0},{"$f":"Picture!AS38","v":0},{"$f":"Picture!AT38","v":0},{"$f":"Picture!AU38","v":0},{"$f":"Picture!AV38","v":0},{"$f":"Picture!AW38","v":0},{"$f":"Picture!AX38","v":0},{"$f":"Picture!AY38","v":0},{"$f":"Picture!AZ38","v":0}]
[{"$f":"Picture!A39","v":0},{"$f":"Picture!B39","v":0},{"$f":"Picture!C39","v":0},{"$f":"Picture!D39","v":0},{"$f":"Picture!E39","v":0},{"$f":"Picture!F39","v":0},{"$f":"Picture!G39","v":0},{"$f":"Picture!H39","v":0},{"$f":"Picture!I39","v":0},{"$f":"Picture!J39","v":0},{"$f":"Picture!K39","v":0},{"$f":"Picture!L39","v":0},{"$f":"Picture!M39","v":0},{"$f":"Picture!N39","v":0},{"$f":"Picture!O39","v":0},{"$f":"Picture!P39","v":0},{"$f":"Picture!Q39","v":0},{"$f":"Picture!R39","v":0},{"$f":"Picture!S39","v":0},{"$f":"Picture!T39","v":0},{"$f":"Picture!U39","v":0},{"$f":"Picture!V39","v":0},{"$f":"Picture!W39","v":0},{"$f":"Picture!X39","v":0},{"$f":"Picture!Y39","v":0},{"$f":"Picture!Z39","v":0},{"$f":"Picture!AA39","v":0},{"$f":"Picture!AB39","v":0},{"$f":"Picture!AC39","v":0},{"$f":"Picture!AD39","v":0},{"$f":"Picture!AE39","v":0},{"$f":"Picture!AF39","v":0},{"$f":"Picture!AG39","v":0},{"$f":"Picture!AH39","v":0},{"$f":"Picture!AI39","v":0},{"$f":"Picture!AJ39","v":0},{"$f":"Picture!AK39","v":0},{"$f":"Picture!AL39","v":0},{"$f":"Picture!AM39","v":0},{"$f":"Picture!AN39","v":0},{"$f":"Picture!AO39","v":0},{"$f":"Picture!AP39","v":0},{"$f":"Picture!AQ39","v":0},{"$f":"Picture!AR39","v":0},{"$f":"Picture!AS39","v":0},{"$f":"Picture!AT39","v":0},{"$f":"Picture!AU39","v":0},{"$f":"Picture!AV39","v":0},{"$f":"Picture!AW39","v":0},{"$f":"Picture!AX39","v":0},{"$f":"Picture!AY39","v":0},{"$f":"Picture!AZ39","v":0}]
[{"$f":"Picture!A40","v":0},{"$f":"Picture!B40","v":0},{"$f":"Picture!C40","v":0},{"$f":"Picture!D40","v":0},{"$f":"Picture!E40","v":0},{"$f":"Picture!F40","v":0},{"$f":"Picture!G40","v":0},{"$f":"Picture!H40","v":0},{"$f":"Picture!I40","v":0},{"$f":"Picture!J40","v":0},{"$f":"Picture!K40","v":0},{"$f":"Picture!L40","v":0},{"$f":"Picture!M40","v":0},{"$f":"Picture!N40","v":0},{"$f":"Picture!O40","v":0},{"$f":"Picture!P40","v":0},{"$f":"Picture!Q40","v":0},{"$f":"Picture!R40","v":0},{"$f":"Picture!S40","v":0},{"$f":"Picture!T40","v":0},{"$f":"Picture!U40","v":0},{"$f":"Picture!V40","v":0},{"$f":"Picture!W40","v":0},{"$f":"Picture!X40","v":0},{"$f":"Picture!Y40","v":0},{"$f":"Picture!Z40","v":0},{"$f":"Picture!AA40","v":0},{"$f":"Picture!AB40","v":0},{"$f":"Picture!AC40","v":0},{"$f":"Picture!AD40","v":0},{"$f":"Picture!AE40","v":0},{"$f":"Picture!AF40","v":0},{"$f":"Picture!AG40","v":0},{"$f":"Picture!AH40","v":0},{"$f":"Picture!AI40","v":0},{"$f":"Picture!AJ40","v":0},{"$f":"Picture!AK40","v":0},{"$f":"Picture!AL40","v":0},{"$f":"Picture!AM40","v":0},{"$f":"Picture!AN40","v":0},{"$f":"Picture!AO40","v":0},{"$f":"Picture!AP40","v":0},{"$f":"Picture!AQ40","v":0},{"$f":"Picture!AR40","v":0},{"$f":"Picture!AS40","v":0},{"$f":"Picture!AT40","v":0},{"$f":"Picture!AU40","v":0},{"$f":"Picture!AV40","v":0},{"$f":"Picture!AW40","v":0},{"$f":"Picture!AX40","v":0},{"$f":"Picture!AY40","v":0},{"$f":"Picture!AZ40","v":0}]
[{"$f":"Picture!A41","v":0},{"$f":"Picture!B41","v":0},{"$f":"Picture!C41","v":0},{"$f":"Picture!D41","v":0},{"$f":"Picture!E41","v":0},{"$f":"Picture!F41","v":0},{"$f":"Picture!G41","v":0},{"$f":"Picture!H41","v":0},{"$f":"Picture!I41","v":0},{"$f":"Picture!J41","v":0},{"$f":"Picture!K41","v":0},{"$f":"Picture!L41","v":0},{"$f":"Picture!M41","v":0},{"$f":"Picture!N41","v":0},{"$f":"Picture!O41","v":0},{"$f":"Picture!P41","v":0},{"$f":"Picture!Q41","v":0},{"$f":"Picture!R41","v":0},{"$f":"Picture!S41","v":0},{"$f":"Picture!T41","v":0},{"$f":"Picture!U41","v":0},{"$f":"Picture!V41","v":0},{"$f":"Picture!W41","v":0},{"$f":"Picture!X41","v":0},{"$f":"Picture!Y41","v":0},{"$f":"Picture!Z41","v":0},{"$f":"Picture!AA41","v":0},{"$f":"Picture!AB41","v":0},{"$f":"Picture!AC41","v":0},{"$f":"Picture!AD41","v":0},{"$f":"Picture!AE41","v":0},{"$f":"Picture!AF41","v":0},{"$f":"Picture!AG41","v":0},{"$f":"Picture!AH41","v":0},{"$f":"Picture!AI41","v":0},{"$f":"Picture!AJ41","v":0},{"$f":"Picture!AK41","v":0},{"$f":"Picture!AL41","v":0},{"$f":"Picture!AM41","v":0},{"$f":"Picture!AN41","v":0},{"$f":"Picture!AO41","v":0},{"$f":"Picture!AP41","v":0},{"$f":"Picture!AQ41","v":0},{"$f":"Picture!AR41","v":0},{"$f":"Picture!AS41","v":0},{"$f":"Picture!AT41","v":0},{"$f":"Picture!AU41","v":0},{"$f":"Picture!AV41","v":0},{"$f":"Picture!AW41","v":0},{"$f":"Picture!AX41","v":0},{"$f":"Picture!AY41","v":0},{"$f":"Picture!AZ41","v":0}]
[{"$f":"Picture!A42","v":0},{"$f":"Picture!B42","v":0},{"$f":"Picture!C42","v":0},{"$f":"Picture!D42","v":0},{"$f":"Picture!E42","v":0},{"$f":"Picture!F42","v":0},{"$f":"Picture!G42","v":0},{"$f":"Picture!H42","v":0},{"$f":"Picture!I42","v":0},{"$f":"Picture!J42","v":0},{"$f":"Picture!K42","v":0},{"$f":"Picture!L42","v":0},{"$f":"Picture!M42","v":0},{"$f":"Picture!N42","v":0},{"$f":"Picture!O42","v":0},{"$f":"Picture!P42","v":0},{"$f":"Picture!Q42","v":0},{"$f":"Picture!R42","v":0},{"$f":"Picture!S42","v":0},{"$f":"Picture!T42","v":0},{"$f":"Picture!U42","v":0},{"$f":"Picture!V42","v":0},{"$f":"Picture!W42","v":0},{"$f":"Picture!X42","v":0},{"$f":"Picture!Y42","v":0},{"$f":"Picture!Z42","v":0},{"$f":"Picture!AA42","v":0},{"$f":"Picture!AB42","v":0},{"$f":"Picture!AC42","v":0},{"$f":"Picture!AD42","v":0},{"$f":"Picture!AE42","v":0},{"$f":"Picture!AF42","v":0},{"$f":"Picture!AG42","v":0},{"$f":"Picture!AH42","v":0},{"$f":"Picture!AI42","v":0},{"$f":"Picture!AJ42","v":0},{"$f":"Picture!AK42","v":0},{"$f":"Picture!AL42","v":0},{"$f":"Picture!AM42","v":0},{"$f":"Picture!AN42","v":0},{"$f":"Picture!AO42","v":0},{"$f":"Picture!AP42","v":0},{"$f":"Picture!AQ42","v":0},{"$f":"Picture!AR42","v":0},{"$f":"Picture!AS42","v":0},{"$f":"Picture!AT42","v":0},{"$f":"Picture!AU42","v":0},{"$f":"Picture!AV42","v":0},{"$f":"Picture!AW42","v":0},{"$f":"Picture!AX42","v":0},{"$f":"Picture!AY42","v":0},{"$f":"Picture!AZ42","v":0}]
[{"$f":"Picture!A43","v":0},{"$f":"Picture!B43","v":0},{"$f":"Picture!C43","v":0},{"$f":"Picture!D43","v":0},{"$f":"Picture!E43","v":0},{"$f":"Picture!F43","v":0},{"$f":"Picture!G43","v":0},{"$f":"Picture!H43","v":0},{"$f":"Picture!I43","v":0},{"$f":"Picture!J43","v":0},{"$f":"Picture!K43","v":0},{"$f":"Picture!L43","v":0},{"$f":"Picture!M43","v":0},{"$f":"Picture!N43","v":0},{"$f":"Picture!O43","v":0},{"$f":"Picture!P43","v":0},{"$f":"Picture!Q43","v":0},{"$f":"Picture!R43","v":0},{"$f":"Picture!S43","v":0},{"$f":"Picture!T43","v":0},{"$f":"Picture!U43","v":0},{"$f":"Picture!V43","v":0},{"$f":"Picture!W43","v":0},{"$f":"Picture!X43","v":0},{"$f":"Picture!Y43","v":0},{"$f":"Picture!Z43","v":0},{"$f":"Picture!AA43","v":0},{"$f":"Picture!AB43","v":0},{"$f":"Picture!AC43","v":0},{"$f":"Picture!AD43","v":0},{"$f":"Picture!AE43","v":0},{"$f":"Picture!AF43","v":0},{"$f":"Picture!AG43","v":0},{"$f":"Picture!AH43","v":0},{"$f":"Picture!AI43","v":0},{"$f":"Picture!AJ43","v":0},{"$f":"Picture!AK43","v":0},{"$f":"Picture!AL43","v":0},{"$f":"Picture!AM43","v":0},{"$f":"Picture!AN43","v":0},{"$f":"Picture!AO43","v":0},{"$f":"Picture!AP43","v":0},{"$f":"Picture!AQ43","v":0},{"$f":"Picture!AR43","v":0},{"$f":"Picture!AS43","v":0},{"$f":"Picture!AT43","v":0},{"$f":"Picture!AU43","v":0},{"$f":"Picture!AV43","v":0},{"$f":"Picture!AW43","v":0},{"$f":"Picture!AX43","v":0},{"$f":"Picture!AY43","v":0},{"$f":"Picture!AZ43","v":0}]
[{"$f":"Picture!A44","v":0},{"$f":"Picture!B44","v":0},{"$f":"Picture!C44","v":0},{"$f":"Picture!D44","v":0},{"$f":"Picture!E44","v":0},{"$f":"Picture!F44","v":0},{"$f":"Picture!G44","v":0},{"$f":"Picture!H44","v":0},{"$f":"Picture!I44","v":0},{"$f":"Picture!J44","v":0},{"$f":"Picture!K44","v":0},{"$f":"Picture!L44","v":0},{"$f":"Picture!M44","v":0},{"$f":"Picture!N44","v":0},{"$f":"Picture!O44","v":0},{"$f":"Picture!P44","v":0},{"$f":"Picture!Q44","v":0},{"$f":"Picture!R44","v":0},{"$f":"Picture!S44","v":0},{"$f":"Picture!T44","v":0},{"$f":"Picture!U44","v":0},{"$f":"Picture!V44","v":0},{"$f":"Picture!W44","v":0},{"$f":"Picture!X44","v":0},{"$f":"Picture!Y44","v":0},{"$f":"Picture!Z44","v":0},{"$f":"Picture!AA44","v":0},{"$f":"Picture!AB44","v":0},{"$f":"Picture!AC44","v":0},{"$f":"Picture!AD44","v":0},{"$f":"Picture!AE44","v":0},{"$f":"Picture!AF44","v":0},{"$f":"Picture!AG44","v":0},{"$f":"Picture!AH44","v":0},{"$f":"Picture!AI44","v":0},{"$f":"Picture!AJ44","v":0},{"$f":"Picture!AK44","v":0},{"$f":"Picture!AL44","v":0},{"$f":"Picture!AM44","v":0},{"$f":"Picture!AN44","v":0},{"$f":"Picture!AO44","v":0},{"$f":"Picture!AP44","v":0},{"$f":"Picture!AQ44","v":0},{"$f":"Picture!AR44","v":0},{"$f":"Picture!AS44","v":0},{"$f":"Picture!AT44","v":0},{"$f":"Picture!AU44","v":0},{"$f":"Picture!AV44","v":0},{"$f":"Picture!AW44","v":0},{"$f":"Picture!AX44","v":0},{"$f":"Picture!AY44","v":0},{"$f":"Picture!AZ44","v":0}]
[{"$f":"Picture!A45","v":0},{"$f":"Picture!B45","v":0},{"$f":"Picture!C45","v":0},{"$f":"Picture!D45","v":0},{"$f":"Picture!E45","v":0},{"$f":"Picture!F45","v":0},{"$f":"Picture!G45","v":0},{"$f":"Picture!H45","v":0},{"$f":"Picture!I45","v":0},{"$f":"Picture!J45","v":0},{"$f":"Picture!K45","v":0},{"$f":"Picture!L45","v":0},{"$f":"Picture!M45","v":0},{"$f":"Picture!N45","v":0},{"$f":"Picture!O45","v":0},{"$f":"Picture!P45","v":0},{"$f":"Picture!Q45","v":0},{"$f":"Picture!R45","v":0},{"$f":"Picture!S45","v":0},{"$f":"Picture!T45","v":0},{"$f":"Picture!U45","v":0},{"$f":"Picture!V45","v":0},{"$f":"Picture!W45","v":0},{"$f":"Picture!X45","v":0},{"$f":"Picture!Y45","v":0},{"$f":"Picture!Z45","v":0},{"$f":"Picture!AA45","v":0},{"$f":"Picture!AB45","v":0},{"$f":"Picture!AC45","v":0},{"$f":"Picture!AD45","v":0},{"$f":"Picture!AE45","v":0},{"$f":"Picture!AF45","v":0},{"$f":"Picture!AG45","v":0},{"$f":"Picture!AH45","v":0},{"$f":"Picture!AI45","v":0},{"$f":"Picture!AJ45","v":0},{"$f":"Picture!AK45","v":0},{"$f":"Picture!AL45","v":0},{"$f":"Picture!AM45","v":0},{"$f":"Picture!AN45","v":0},{"$f":"Picture!AO45","v":0},{"$f":"Picture!AP45","v":0},{"$f":"Picture!AQ45","v":0},{"$f":"Picture!AR45","v":0},{"$f":"Picture!AS45","v":0},{"$f":"Picture!AT45","v":0},{"$f":"Picture!AU45","v":0},{"$f":"Picture!AV45","v":0},{"$f":"Picture!AW45","v":0},{"$f":"Picture!AX45","v":0},{"$f":"Picture!AY45","v":0},{"$f":"Picture!AZ45","v":0}]
[{"$f":"Picture!A46","v":0},{"$f":"Picture!B46","v":0},{"$f":"Picture!C46","v":0},{"$f":"Picture!D46","v":0},{"$f":"Picture!E46","v":0},{"$f":"Picture!F46","v":0},{"$f":"Picture!G46","v":0},{"$f":"Picture!H46","v":0},{"$f":"Picture!I46","v":0},{"$f":"Picture!J46","v":0},{"$f":"Picture!K46","v":0},{"$f":"Picture!L46","v":0},{"$f":"Picture!M46","v":0},{"$f":"Picture!N46","v":0},{"$f":"Picture!O46","v":0},{"$f":"Picture!P46","v":0},{"$f":"Picture!Q46","v":0},{"$f":"Picture!R46","v":0},{"$f":"Picture!S46","v":0},{"$f":"Picture!T46","v":0},{"$f":"Picture!U46","v":0},{"$f":"Picture!V46","v":0},{"$f":"Picture!W46","v":0},{"$f":"Picture!X46","v":0},{"$f":"Picture!Y46","v":0},{"$f":"Picture!Z46","v":0},{"$f":"Picture!AA46","v":0},{"$f":"Picture!AB46","v":0},{"$f":"Picture!AC46","v":0},{"$f":"Picture!AD46","v":0},{"$f":"Picture!AE46","v":0},{"$f":"Picture!AF46","v":0},{"$f":"Picture!AG46","v":0},{"$f":"Picture!AH46","v":0},{"$f":"Picture!AI46","v":0},{"$f":"Picture!AJ46","v":0},{"$f":"Picture!AK46","v":0},{"$f":"Picture!AL46","v":0},{"$f":"Picture!AM46","v":0},{"$f":"Picture!AN46","v":0},{"$f":"Picture!AO46","v":0},{"$f":"Picture!AP46","v":0},{"$f":"Picture!AQ46","v":0},{"$f":"Picture!AR46","v":0},{"$f":"Picture!AS46","v":0},{"$f":"Picture!AT46","v":0},{"$f":"Picture!AU46","v":0},{"$f":"Picture!AV46","v":0},{"$f":"Picture!AW46","v":0},{"$f":"Picture!AX46","v":0},{"$f":"Picture!AY46","v":0},{"$f":"Picture!AZ46","v":0}]
[{"$f":"Picture!A47","v":0},{"$f":"Picture!B47","v":0},{"$f":"Picture!C47","v":0},{"$f":"Picture!D47","v":0},{"$f":"Picture!E47","v":0},{"$f":"Picture!F47","v":0},{"$f":"Picture!G47","v":0},{"$f":"Picture!H47","v":0},{"$f":"Picture!I47","v":0},{"$f":"Picture!J47","v":0},{"$f":"Picture!K47","v":0},{"$f":"Picture!L47","v":0},{"$f":"Picture!M47","v":0},{"$f":"Picture!N47","v":0},{"$f":"Picture!O47","v":0},{"$f":"Picture!P47","v":0},{"$f":"Picture!Q47","v":0},{"$f":"Picture!R47","v":0},{"$f":"Picture!S47","v":0},{"$f":"Picture!T47","v":0},{"$f":"Picture!U47","v":0},{"$f":"Picture!V47","v":0},{"$f":"Picture!W47","v":0},{"$f":"Picture!X47","v":0},{"$f":"Picture!Y47","v":0},{"$f":"Picture!Z47","v":0},{"$f":"Picture!AA47","v":0},{"$f":"Picture!AB47","v":0},{"$f":"Picture!AC47","v":0},{"$f":"Picture!AD47","v":0},{"$f":"Picture!AE47","v":0},{"$f":"Picture!AF47","v":0},{"$f":"Picture!AG47","v":0},{"$f":"Picture!AH47","v":0},{"$f":"Picture!AI47","v":0},{"$f":"Picture!AJ47","v":0},{"$f":"Picture!AK47","v":0},{"$f":"Picture!AL47","v":0},{"$f":"Picture!AM47","v":0},{"$f":"Picture!AN47","v":0},{"$f":"Picture!AO47","v":0},{"$f":"Picture!AP47","v":0},{"$f":"Picture!AQ47","v":0},{"$f":"Picture!AR47","v":0},{"$f":"Picture!AS47","v":0},{"$f":"Picture!AT47","v":0},{"$f":"Picture!AU47","v":0},{"$f":"Picture!AV47","v":0},{"$f":"Picture!AW47","v":0},{"$f":"Picture!AX47","v":0},{"$f":"Picture!AY47","v":0},{"$f":"Picture!AZ47","v":0}]
[{"$f":"Picture!A48","v":0},{"$f":"Picture!B48","v":0},{"$f":"Picture!C48","v":0},{"$f":"Picture!D48","v":0},{"$f":"Picture!E48","v":0},{"$f":"Picture!F48","v":0},{"$f":"Picture!G48","v":0},{"$f":"Picture!H48","v":0},{"$f":"Picture!I48","v":0},{"$f":"Picture!J48","v":0},{"$f":"Picture!K48","v":0},{"$f":"Picture!L48","v":0},{"$f":"Picture!M48","v":0},{"$f":"Picture!N48","v":0},{"$f":"Picture!O48","v":0},{"$f":"Picture!P48","v":0},{"$f":"Picture!Q48","v":0},{"$f":"Picture!R48","v":0},{"$f":"Picture!S48","v":0},{"$f":"Picture!T48","v":0},{"$f":"Picture!U48","v":0},{"$f":"Picture!V48","v":0},{"$f":"Picture!W48","v":0},{"$f":"Picture!X48","v":0},{"$f":"Picture!Y48","v":0},{"$f":"Picture!Z48","v":0},{"$f":"Picture!AA48","v":0},{"$f":"Picture!AB48","v":0},{"$f":"Picture!AC48","v":0},{"$f":"Picture!AD48","v":0},{"$f":"Picture!AE48","v":0},{"$f":"Picture!AF48","v":0},{"$f":"Picture!AG48","v":0},{"$f":"Picture!AH48","v":0},{"$f":"Picture!AI48","v":0},{"$f":"Picture!AJ48","v":0},{"$f":"Picture!AK48","v":0},{"$f":"Picture!AL48","v":0},{"$f":"Picture!AM48","v":0},{"$f":"Picture!AN48","v":0},{"$f":"Picture!AO48","v":0},{"$f":"Picture!AP48","v":0},{"$f":"Picture!AQ48","v":0},{"$f":"Picture!AR48","v":0},{"$f":"Picture!AS48","v":0},{"$f":"Picture!AT48","v":0},{"$f":"Picture!AU48","v":0},{"$f":"Picture!AV48","v":0},{"$f":"Picture!AW48","v":0},{"$f":"Picture!AX48","v":0},{"$f":"Picture!AY48","v":0},{"$f":"Picture!AZ48","v":0}]
[{"$f":"Picture!A49","v":0},{"$f":"Picture!B49","v":0},{"$f":"Picture!C49","v":0},{"$f":"Picture!D49","v":0},{"$f":"Picture!E49","v":0},{"$f":"Picture!F49","v":0},{"$f":"Picture!G49","v":0},{"$f":"Picture!H49","v":0},{"$f":"Picture!I49","v":0},{"$f":"Picture!J49","v":0},{"$f":"Picture!K49","v":0},{"$f":"Picture!L49","v":0},{"$f":"Picture!M49","v":0},{"$f":"Picture!N49","v":0},{"$f":"Picture!O49","v":0},{"$f":"Picture!P49","v":0},{"$f":"Picture!Q49","v":0},{"$f":"Picture!R49","v":0},{"$f":"Picture!S49","v":0},{"$f":"Picture!T49","v":0},{"$f":"Picture!U49","v":0},{"$f":"Picture!V49","v":0},{"$f":"Picture!W49","v":0},{"$f":"Picture!X49","v":0},{"$f":"Picture!Y49","v":0},{"$f":"Picture!Z49","v":0},{"$f":"Picture!AA49","v":0},{"$f":"Picture!AB49","v":0},{"$f":"Picture!AC49","v":0},{"$f":"Picture!AD49","v":0},{"$f":"Picture!AE49","v":0},{"$f":"Picture!AF49","v":0},{"$f":"Picture!AG49","v":0},{"$f":"Picture!AH49","v":0},{"$f":"Picture!AI49","v":0},{"$f":"Picture!AJ49","v":0},{"$f":"Picture!AK49","v":0},{"$f":"Picture!AL49","v":0},{"$f":"Picture!AM49","v":0},{"$f":"Picture!AN49","v":0},{"$f":"Picture!AO49","v":0},{"$f":"Picture!AP49","v":0},{"$f":"Picture!AQ49","v":0},{"$f":"Picture!AR49","v":0},{"$f":"Picture!AS49","v":0},{"$f":"Picture!AT49","v":0},{"$f":"Picture!AU49","v":0},{"$f":"Picture!AV49","v":0},{"$f":"Picture!AW49","v":0},{"$f":"Picture!AX49","v":0},{"$f":"Picture!AY49","v":0},{"$f":"Picture!AZ49","v":0}]
[{"$f":"Picture!A50","v":0},{"$f":"Picture!B50","v":0},{"$f":"Picture!C50","v":0},{"$f":"Picture!D50","v":0},{"$f":"Picture!E50","v":0},{"$f":"Picture!F50","v":0},{"$f":"Picture!G50","v":0},{"$f":"Picture!H50","v":0},{"$f":"Picture!I50","v":0},{"$f":"Picture!J50","v":0},{"$f":"Picture!K50","v":0},{"$f":"Picture!L50","v":0},{"$f":"Picture!M50","v":0},{"$f":"Picture!N50","v":0},{"$f":"Picture!O50","v":0},{"$f":"Picture!P50","v":0},{"$f":"Picture!Q50","v":0},{"$f":"Picture!R50","v":0},{"$f":"Picture!S50","v":0},{"$f":"Picture!T50","v":0},{"$f":"Picture!U50","v":0},{"$f":"Picture!V50","v":0},{"$f":"Picture!W50","v":0},{"$f":"Picture!X50","v":0},{"$f":"Picture!Y50","v":0},{"$f":"Picture!Z50","v":0},{"$f":"Picture!AA50","v":0},{"$f":"Picture!AB50","v":0},{"$f":"Picture!AC50","v":0},{"$f":"Picture!AD50","v":0},{"$f":"Picture!AE50","v":0},{"$f":"Picture!AF50","v":0},{"$f":"Picture!AG50","v":0},{"$f":"Picture!AH50","v":0},{"$f":"Picture!AI50","v":0},{"$f":"Picture!AJ50","v":0},{"$f":"Picture!AK50","v":0},{"$f":"Picture!AL50","v":0},{"$f":"Picture!AM50","v":0},{"$f":"Picture!AN50","v":0},{"$f":"Picture!AO50","v":0},{"$f":"Picture!AP50","v":0},{"$f":"Picture!AQ50","v":0},{"$f":"Picture!AR50","v":0},{"$f":"Picture!AS50","v":0},{"$f":"Picture!AT50","v":0},{"$f":"Picture!AU50","v":0},{"$f":"Picture!AV50","v":0},{"$f":"Picture!AW50","v":0},{"$f":"Picture!AX50","v":0},{"$f":"Picture!AY50","v":0},{"$f":"Picture!AZ50","v":0}]
[{"$f":"Picture!A51","v":0},{"$f":"Picture!B51","v":0},{"$f":"Picture!C51","v":0},{"$f":"Picture!D51","v":0},{"$f":"Picture!E51","v":0},{"$f":"Picture!F51","v":0},{"$f":"Picture!G51","v":0},{"$f":"Picture!H51","v":0},{"$f":"Picture!I51","v":0},{"$f":"Picture!J51","v":0},{"$f":"Picture!K51","v":0},{"$f":"Picture!L51","v":0},{"$f":"Picture!M51","v":0},{"$f":"Picture!N51","v":0},{"$f":"Picture!O51","v":0},{"$f":"Picture!P51","v":0},{"$f":"Picture!Q51","v":0},{"$f":"Picture!R51","v":0},{"$f":"Picture!S51","v":0},{"$f":"Picture!T51","v":0},{"$f":"Picture!U51","v":0},{"$f":"Picture!V51","v":0},{"$f":"Picture!W51","v":0},{"$f":"Picture!X51","v":0},{"$f":"Picture!Y51","v":0},{"$f":"Picture!Z51","v":0},{"$f":"Picture!AA51","v":0},{"$f":"Picture!AB51","v":0},{"$f":"Picture!AC51","v":0},{"$f":"Picture!AD51","v":0},{"$f":"Picture!AE51","v":0},{"$f":"Picture!AF51","v":0},{"$f":"Picture!AG51","v":0},{"$f":"Picture!AH51","v":0},{"$f":"Picture!AI51","v":0},{"$f":"Picture!AJ51","v":0},{"$f":"Picture!AK51","v":0},{"$f":"Picture!AL51","v":0},{"$f":"Picture!AM51","v":0},{"$f":"Picture!AN51","v":0},{"$f":"Picture!AO51","v":0},{"$f":"Picture!AP51","v":0},{"$f":"Picture!AQ51","v":0},{"$f":"Picture!AR51","v":0},{"$f":"Picture!AS51","v":0},{"$f":"Picture!AT51","v":0},{"$f":"Picture!AU51","v":0},{"$f":"Picture!AV51","v":0},{"$f":"Picture!AW51","v":0},{"$f":"Picture!AX51","v":0},{"$f":"Picture!AY51","v":0},{"$f":"Picture!AZ51","v":0}]
[{"$f":"Picture!A52","v":0},{"$f":"Picture!B52","v":0},{"$f":"Picture!C52","v":0},{"$f":"Picture!D52","v":0},{"$f":"Picture!E52","v":0},{"$f":"Picture!F52","v":0},{"$f":"Picture!G52","v":0},{"$f":"Picture!H52","v":0},{"$f":"Picture!I52","v":0},{"$f":"Picture!J52","v":0},{"$f":"Picture!K52","v":0},{"$f":"Picture!L52","v":0},{"$f":"Picture!M52","v":0},{"$f":"Picture!N52","v":0},{"$f":"Picture!O52","v":0},{"$f":"Picture!P52","v":0},{"$f":"Picture!Q52","v":0},{"$f":"Picture!R52","v":0},{"$f":"Picture!S52","v":0},{"$f":"Picture!T52","v":0},{"$f":"Picture!U52","v":0},{"$f":"Picture!V52","v":0},{"$f":"Picture!W52","v":0},{"$f":"Picture!X52","v":0},{"$f":"Picture!Y52","v":0},{"$f":"Picture!Z52","v":0},{"$f":"Picture!AA52","v":0},{"$f":"Picture!AB52","v":0},{"$f":"Picture!AC52","v":0},{"$f":"Picture!AD52","v":0},{"$f":"Picture!AE52","v":0},{"$f":"Picture!AF52","v":0},{"$f":"Picture!AG52","v":0},{"$f":"Picture!AH52","v":0},{"$f":"Picture!AI52","v":0},{"$f":"Picture!AJ52","v":0},{"$f":"Picture!AK52","v":0},{"$f":"Picture!AL52","v":0},{"$f":"Picture!AM52","v":0},{"$f":"Picture!AN52","v":0},{"$f":"Picture!AO52","v":0},{"$f":"Picture!AP52","v":0},{"$f":"Picture!AQ52","v":0},{"$f":"Picture!AR52","v":0},{"$f":"Picture!AS52","v":0},{"$f":"Picture!AT52","v":0},{"$f":"Picture!AU52","v":0},{"$f":"Picture!AV52","v":0},{"$f":"Picture!AW52","v":0},{"$f":"Picture!AX52","v":0},{"$f":"Picture!AY52","v":0},{"$f":"Picture!AZ52","v":0}]
[{"$f":"Picture!A53","v":0},{"$f":"Picture!B53","v":0},{"$f":"Picture!C53","v":0},{"$f":"Picture!D53","v":0},{"$f":"Picture!E53","v":0},{"$f":"Picture!F53","v":0},{"$f":"Picture!G53","v":0},{"$f":"Picture!H53","v":0},{"$f":"Picture!I53","v":0},{"$f":"Picture!J53","v":0},{"$f":"Picture!K53","v":0},{"$f":"Picture!L53","v":0},{"$f":"Picture!M53","v":0},{"$f":"Picture!N53","v":0},{"$f":"Picture!O53","v":0},{"$f":"Picture!P53","v":0},{"$f":"Picture!Q53","v":0},{"$f":"Picture!R53","v":0},{"$f":"Picture!S53","v":0},{"$f":"Picture!T53","v":0},{"$f":"Picture!U53","v":0},{"$f":"Picture!V53","v":0},{"$f":"Picture!W53","v":0},{"$f":"Picture!X53","v":0},{"$f":"Picture!Y53","v":0},{"$f":"Picture!Z53","v":0},{"$f":"Picture!AA53","v":0},{"$f":"Picture!AB53","v":0},{"$f":"Picture!AC53","v":0},{"$f":"Picture!AD53","v":0},{"$f":"Picture!AE53","v":0},{"$f":"Picture!AF53","v":0},{"$f":"Picture!AG53","v":0},{"$f":"Picture!AH53","v":0},{"$f":"Picture!AI53","v":0},{"$f":"Picture!AJ53","v":0},{"$f":"Picture!AK53","v":0},{"$f":"Picture!AL53","v":0},{"$f":"Picture!AM53","v":0},{"$f":"Picture!AN53","v":0},{"$f":"Picture!AO53","v":0},{"$f":"Picture!AP53","v":0},{"$f":"Picture!AQ53","v":0},{"$f":"Picture!AR53","v":0},{"$f":"Picture!AS53","v":0},{"$f":"Picture!AT53","v":0},{"$f":"Picture!AU53","v":0},{"$f":"Picture!AV53","v":0},{"$f":"Picture!AW53","v":0},{"$f":"Picture!AX53","v":0},{"$f":"Picture!AY53","v":0},{"$f":"Picture!AZ53","v":0}]
[{"$f":"Picture!A54","v":0},{"$f":"Picture!B54","v":0},{"$f":"Picture!C54","v":0},{"$f":"Picture!D54","v":0},{"$f":"Picture!E54","v":0},{"$f":"Picture!F54","v":0},{"$f":"Picture!G54","v":0},{"$f":"Picture!H54","v":0},{"$f":"Picture!I54","v":0},{"$f":"Picture!J54","v":0},{"$f":"Picture!K54","v":0},{"$f":"Picture!L54","v":0},{"$f":"Picture!M54","v":0},{"$f":"Picture!N54","v":0},{"$f":"Picture!O54","v":0},{"$f":"Picture!P54","v":0},{"$f":"Picture!Q54","v":0},{"$f":"Picture!R54","v":0},{"$f":"Picture!S54","v":0},{"$f":"Picture!T54","v":0},{"$f":"Picture!U54","v":0},{"$f":"Picture!V54","v":0},{"$f":"Picture!W54","v":0},{"$f":"Picture!X54","v":0},{"$f":"Picture!Y54","v":0},{"$f":"Picture!Z54","v":0},{"$f":"Picture!AA54","v":0},{"$f":"Picture!AB54","v":0},{"$f":"Picture!AC54","v":0},{"$f":"Picture!AD54","v":0},{"$f":"Picture!AE54","v":0},{"$f":"Picture!AF54","v":0},{"$f":"Picture!AG54","v":0},{"$f":"Picture!AH54","v":0},{"$f":"Picture!AI54","v":0},{"$f":"Picture!AJ54","v":0},{"$f":"Picture!AK54","v":0},{"$f":"Picture!AL54","v":0},{"$f":"Picture!AM54","v":0},{"$f":"Picture!AN54","v":0},{"$f":"Picture!AO54","v":0},{"$f":"Picture!AP54","v":0},{"$f":"Picture!AQ54","v":0},{"$f":"Picture!AR54","v":0},{"$f":"Picture!AS54","v":0},{"$f":"Picture!AT54","v":0},{"$f":"Picture!AU54","v":0},{"$f":"Picture!AV54","v":0},{"$f":"Picture!AW54","v":0},{"$f":"Picture!AX54","v":0},{"$f":"Picture!AY54","v":0},{"$f":"Picture!AZ54","v":0}]
[{"$f":"Picture!A55","v":0},{"$f":"Picture!B55","v":0},{"$f":"Picture!C55","v":0},{"$f":"Picture!D55","v":0},{"$f":"Picture!E55","v":0},{"$f":"Picture!F55","v":0},{"$f":"Picture!G55","v":0},{"$f":"Picture!H55","v":0},{"$f":"Picture!I55","v":0},{"$f":"Picture!J55","v":0},{"$f":"Picture!K55","v":0},{"$f":"Picture!L55","v":0},{"$f":"Picture!M55","v":0},{"$f":"Picture!N55","v":0},{"$f":"Picture!O55","v":0},{"$f":"Picture!P55","v":0},{"$f":"Picture!Q55","v":0},{"$f":"Picture!R55","v":0},{"$f":"Picture!S55","v":0},{"$f":"Picture!T55","v":0},{"$f":"Picture!U55","v":0},{"$f":"Picture!V55","v":0},{"$f":"Picture!W55","v":0},{"$f":"Picture!X55","v":0},{"$f":"Picture!Y55","v":0},{"$f":"Picture!Z55","v":0},{"$f":"Picture!AA55","v":0},{"$f":"Picture!AB55","v":0},{"$f":"Picture!AC55","v":0},{"$f":"Picture!AD55","v":0},{"$f":"Picture!AE55","v":0},{"$f":"Picture!AF55","v":0},{"$f":"Picture!AG55","v":0},{"$f":"Picture!AH55","v":0},{"$f":"Picture!AI55","v":0},{"$f":"Picture!AJ55","v":0},{"$f":"Picture!AK55","v":0},{"$f":"Picture!AL55","v":0},{"$f":"Picture!AM55","v":0},{"$f":"Picture!AN55","v":0},{"$f":"Picture!AO55","v":0},{"$f":"Picture!AP55","v":0},{"$f":"Picture!AQ55","v":0},{"$f":"Picture!AR55","v":0},{"$f":"Picture!AS55","v":0},{"$f":"Picture!AT55","v":0},{"$f":"Picture!AU55","v":0},{"$f":"Picture!AV55","v":0},{"$f":"Picture!AW55","v":0},{"$f":"Picture!AX55","v":0},{"$f":"Picture!AY55","v":0},{"$f":"Picture!AZ55","v":0}]
[{"$f":"Picture!A56","v":0},{"$f":"Picture!B56","v":0},{"$f":"Picture!C56","v":0},{"$f":"Picture!D56","v":0},{"$f":"Picture!E56","v":0},{"$f":"Picture!F56","v":0},{"$f":"Picture!G56","v":0},{"$f":"Picture!H56","v":0},{"$f":"Picture!I56","v":0},{"$f":"Picture!J56","v":0},{"$f":"Picture!K56","v":0},{"$f":"Picture!L56","v":0},{"$f":"Picture!M56","v":0},{"$f":"Picture!N56","v":0},{"$f":"Picture!O56","v":0},{"$f":"Picture!P56","v":0},{"$f":"Picture!Q56","v":0},{"$f":"Picture!R56","v":0},{"$f":"Picture!S56","v":0},{"$f":"Picture!T56","v":0},{"$f":"Picture!U56","v":0},{"$f":"Picture!V56","v":0},{"$f":"Picture!W56","v":0},{"$f":"Picture!X56","v":0},{"$f":"Picture!Y56","v":0},{"$f":"Picture!Z56","v":0},{"$f":"Picture!AA56","v":0},{"$f":"Picture!AB56","v":0},{"$f":"Picture!AC56","v":0},{"$f":"Picture!AD56","v":0},{"$f":"Picture!AE56","v":0},{"$f":"Picture!AF56","v":0},{"$f":"Picture!AG56","v":0},{"$f":"Picture!AH56","v":0},{"$f":"Picture!AI56","v":0},{"$f":"Picture!AJ56","v":0},{"$f":"Picture!AK56","v":0},{"$f":"Picture!AL56","v":0},{"$f":"Picture!AM56","v":0},{"$f":"Picture!AN56","v":0},{"$f":"Picture!AO56","v":0},{"$f":"Picture!AP56","v":0},{"$f":"Picture!AQ56","v":0},{"$f":"Picture!AR56","v":0},{"$f":"Picture!AS56","v":0},{"$f":"Picture!AT56","v":0},{"$f":"Picture!AU56","v":0},{"$f":"Picture!AV56","v":0},{"$f":"Picture!AW56","v":0},{"$f":"Picture!AX56","v":0},{"$f":"Picture!AY56","v":0},{"$f":"Picture!AZ56","v":0}]
[{"$f":"Picture!A57","v":0},{"$f":"Picture!B57","v":0},{"$f":"Picture!C57","v":0},{"$f":"Picture!D57","v":0},{"$f":"Picture!E57","v":0},{"$f":"Picture!F57","v":0},{"$f":"Picture!G57","v":0},{"$f":"Picture!H57","v":0},{"$f":"Picture!I57","v":0},{"$f":"Picture!J57","v":0},{"$f":"Picture!K57","v":0},{"$f":"Picture!L57","v":0},{"$f":"Picture!M57","v":0},{"$f":"Picture!N57","v":0},{"$f":"Picture!O57","v":0},{"$f":"Picture!P57","v":0},{"$f":"Picture!Q57","v":0},{"$f":"Picture!R57","v":0},{"$f":"Picture!S57","v":0},{"$f":"Picture!T57","v":0},{"$f":"Picture!U57","v":0},{"$f":"Picture!V57","v":0},{"$f":"Picture!W57","v":0},{"$f":"Picture!X57","v":0},{"$f":"Picture!Y57","v":0},{"$f":"Picture!Z57","v":0},{"$f":"Picture!AA57","v":0},{"$f":"Picture!AB57","v":0},{"$f":"Picture!AC57","v":0},{"$f":"Picture!AD57","v":0},{"$f":"Picture!AE57","v":0},{"$f":"Picture!AF57","v":0},{"$f":"Picture!AG57","v":0},{"$f":"Picture!AH57","v":0},{"$f":"Picture!AI57","v":0},{"$f":"Picture!AJ57","v":0},{"$f":"Picture!AK57","v":0},{"$f":"Picture!AL57","v":0},{"$f":"Picture!AM57","v":0},{"$f":"Picture!AN57","v":0},{"$f":"Picture!AO57","v":0},{"$f":"Picture!AP57","v":0},{"$f":"Picture!AQ57","v":0},{"$f":"Picture!AR57","v":0},{"$f":"Picture!AS57","v":0},{"$f":"Picture!AT57","v":0},{"$f":"Picture!AU57","v":0},{"$f":"Picture!AV57","v":0},{"$f":"Picture!AW57","v":0},{"$f":"Picture!AX57","v":0},{"$f":"Picture!AY57","v":0},{"$f":"Picture!AZ57","v":0}]
[{"$f":"Picture!A58","v":0},{"$f":"Picture!B58","v":0},{"$f":"Picture!C58","v":0},{"$f":"Picture!D58","v":0},{"$f":"Picture!E58","v":0},{"$f":"Picture!F58","v":0},{"$f":"Picture!G58","v":0},{"$f":"Picture!H58","v":0},{"$f":"Picture!I58","v":0},{"$f":"Picture!J58","v":0},{"$f":"Picture!K58","v":0},{"$f":"Picture!L58","v":0},{"$f":"Picture!M58","v":0},{"$f":"Picture!N58","v":0},{"$f":"Picture!O58","v":0},{"$f":"Picture!P58","v":0},{"$f":"Picture!Q58","v":0},{"$f":"Picture!R58","v":0},{"$f":"Picture!S58","v":0},{"$f":"Picture!T58","v":0},{"$f":"Picture!U58","v":0},{"$f":"Picture!V58","v":0},{"$f":"Picture!W58","v":0},{"$f":"Picture!X58","v":0},{"$f":"Picture!Y58","v":0},{"$f":"Picture!Z58","v":0},{"$f":"Picture!AA58","v":0},{"$f":"Picture!AB58","v":0},{"$f":"Picture!AC58","v":0},{"$f":"Picture!AD58","v":0},{"$f":"Picture!AE58","v":0},{"$f":"Picture!AF58","v":0},{"$f":"Picture!AG58","v":0},{"$f":"Picture!AH58","v":0},{"$f":"Picture!AI58","v":0},{"$f":"Picture!AJ58","v":0},{"$f":"Picture!AK58","v":0},{"$f":"Picture!AL58","v":0},{"$f":"Picture!AM58","v":0},{"$f":"Picture!AN58","v":0},{"$f":"Picture!AO58","v":0},{"$f":"Picture!AP58","v":0},{"$f":"Picture!AQ58","v":0},{"$f":"Picture!AR58","v":0},{"$f":"Picture!AS58","v":0},{"$f":"Picture!AT58","v":0},{"$f":"Picture!AU58","v":0},{"$f":"Picture!AV58","v":0},{"$f":"Picture!AW58","v":0},{"$f":"Picture!AX58","v":0},{"$f":"Picture!AY58","v":0},{"$f":"Picture!AZ58","v":0}]
[{"$f":"Picture!A59","v":0},{"$f":"Picture!B59","v":0},{"$f":"Picture!C59","v":0},{"$f":"Picture!D59","v":0},{"$f":"Picture!E59","v":0},{"$f":"Picture!F59","v":0},{"$f":"Picture!G59","v":0},{"$f":"Picture!H59","v":0},{"$f":"Picture!I59","v":0},{"$f":"Picture!J59","v":0},{"$f":"Picture!K59","v":0},{"$f":"Picture!L59","v":0},{"$f":"Picture!M59","v":0},{"$f":"Picture!N59","v":0},{"$f":"Picture!O59","v":0},{"$f":"Picture!P59","v":0},{"$f":"Picture!Q59","v":0},{"$f":"Picture!R59","v":0},{"$f":"Picture!S59","v":0},{"$f":"Picture!T59","v":0},{"$f":"Picture!U59","v":0},{"$f":"Picture!V59","v":0},{"$f":"Picture!W59","v":0},{"$f":"Picture!X59","v":0},{"$f":"Picture!Y59","v":0},{"$f":"Picture!Z59","v":0},{"$f":"Picture!AA59","v":0},{"$f":"Picture!AB59","v":0},{"$f":"Picture!AC59","v":0},{"$f":"Picture!AD59","v":0},{"$f":"Picture!AE59","v":0},{"$f":"Picture!AF59","v":0},{"$f":"Picture!AG59","v":0},{"$f":"Picture!AH59","v":0},{"$f":"Picture!AI59","v":0},{"$f":"Picture!AJ59","v":0},{"$f":"Picture!AK59","v":0},{"$f":"Picture!AL59","v":0},{"$f":"Picture!AM59","v":0},{"$f":"Picture!AN59","v":0},{"$f":"Picture!AO59","v":0},{"$f":"Picture!AP59","v":0},{"$f":"Picture!AQ59","v":0},{"$f":"Picture!AR59","v":0},{"$f":"Picture!AS59","v":0},{"$f":"Picture!AT59","v":0},{"$f":"Picture!AU59","v":0},{"$f":"Picture!AV59","v":0},{"$f":"Picture!AW59","v":0},{"$f":"Picture!AX59","v":0},{"$f":"Picture!AY59","v":0},{"$f":"Picture!AZ59","v":0}]
[{"$f":"Picture!A60","v":0},{"$f":"Picture!B60","v":0},{"$f":"Picture!C60","v":0},{"$f":"Picture!D60","v":0},{"$f":"Picture!E60","v":0},{"$f":"Picture!F60","v":0},{"$f":"Picture!G60","v":0},{"$f":"Picture!H60","v":0},{"$f":"Picture!I60","v":0},{"$f":"Picture!J60","v":0},{"$f":"Picture!K60","v":0},{"$f":"Picture!L60","v":0},{"$f":"Picture!M60","v":0},{"$f":"Picture!N60","v":0},{"$f":"Picture!O60","v":0},{"$f":"Picture!P60","v":0},{"$f":"Picture!Q60","v":0},{"$f":"Picture!R60","v":0},{"$f":"Picture!S60","v":0},{"$f":"Picture!T60","v":0},{"$f":"Picture!U60","v":0},{"$f":"Picture!V60","v":0},{"$f":"Picture!W60","v":0},{"$f":"Picture!X60","v":0},{"$f":"Picture!Y60","v":0},{"$f":"Picture!Z60","v":0},{"$f":"Picture!AA60","v":0},{"$f":"Picture!AB60","v":0},{"$f":"Picture!AC60","v":0},{"$f":"Picture!AD60","v":0},{"$f":"Picture!AE60","v":0},{"$f":"Picture!AF60","v":0},{"$f":"Picture!AG60","v":0},{"$f":"Picture!AH60","v":0},{"$f":"Picture!AI60","v":0},{"$f":"Picture!AJ60","v":0},{"$f":"Picture!AK60","v":0},{"$f":"Picture!AL60","v":0},{"$f":"Picture!AM60","v":0},{"$f":"Picture!AN60","v":0},{"$f":"Picture!AO60","v":0},{"$f":"Picture!AP60","v":0},{"$f":"Picture!AQ60","v":0},{"$f":"Picture!AR60","v":0},{"$f":"Picture!AS60","v":0},{"$f":"Picture!AT60","v":0},{"$f":"Picture!AU60","v":0},{"$f":"Picture!AV60","v":0},{"$f":"Picture!AW60","v":0},{"$f":"Picture!AX60","v":0},{"$f":"Picture!AY60","v":0},{"$f":"Picture!AZ60","v":0}]
[{"$f":"Picture!A61","v":0},{"$f":"Picture!B61","v":0},{"$f":"Picture!C61","v":0},{"$f":"Picture!D61","v":0},{"$f":"Picture!E61","v":0},{"$f":"Picture!F61","v":0},{"$f":"Picture!G61","v":0},{"$f":"Picture!H61","v":0},{"$f":"Picture!I61","v":0},{"$f":"Picture!J61","v":0},{"$f":"Picture!K61","v":0},{"$f":"Picture!L61","v":0},{"$f":"Picture!M61","v":0},{"$f":"Picture!N61","v":0},{"$f":"Picture!O61","v":0},{"$f":"Picture!P61","v":0},{"$f":"Picture!Q61","v":0},{"$f":"Picture!R61","v":0},{"$f":"Picture!S61","v":0},{"$f":"Picture!T61","v":0},{"$f":"Picture!U61","v":0},{"$f":"Picture!V61","v":0},{"$f":"Picture!W61","v":0},{"$f":"Picture!X61","v":0},{"$f":"Picture!Y61","v":0},{"$f":"Picture!Z61","v":0},{"$f":"Picture!AA61","v":0},{"$f":"Picture!AB61","v":0},{"$f":"Picture!AC61","v":0},{"$f":"Picture!AD61","v":0},{"$f":"Picture!AE61","v":0},{"$f":"Picture!AF61","v":0},{"$f":"Picture!AG61","v":0},{"$f":"Picture!AH61","v":0},{"$f":"Picture!AI61","v":0},{"$f":"Picture!AJ61","v":0},{"$f":"Picture!AK61","v":0},{"$f":"Picture!AL61","v":0},{"$f":"Picture!AM61","v":0},{"$f":"Picture!AN61","v":0},{"$f":"Picture!AO61","v":0},{"$f":"Picture!AP61","v":0},{"$f":"Picture!AQ61","v":0},{"$f":"Picture!AR61","v":0},{"$f":"Picture!AS61","v":0},{"$f":"Picture!AT61","v":0},{"$f":"Picture!AU61","v":0},{"$f":"Picture!AV61","v":0},{"$f":"Picture!AW61","v":0},{"$f":"Picture!AX61","v":0},{"$f":"Picture!AY61","v":0},{"$f":"Picture!AZ61","v":0}]
[{"$f":"Picture!A62","v":0},{"$f":"Picture!B62","v":0},{"$f":"Picture!C62","v":0},{"$f":"Picture!D62","v":0},{"$f":"Picture!E62","v":0},{"$f":"Picture!F62","v":0},{"$f":"Picture!G62","v":0},{"$f":"Picture!H62","v":0},{"$f":"Picture!I62","v":0},{"$f":"Picture!J62","v":0},{"$f":"Picture!K62","v":0},{"$f":"Picture!L62","v":0},{"$f":"Picture!M62","v":0},{"$f":"Picture!N62","v":0},{"$f":"Picture!O62","v":0},{"$f":"Picture!P62","v":0},{"$f":"Picture!Q62","v":0},{"$f":"Picture!R62","v":0},{"$f":"Picture!S62","v":0},{"$f":"Picture!T62","v":0},{"$f":"Picture!U62","v":0},{"$f":"Picture!V62","v":0},{"$f":"Picture!W62","v":0},{"$f":"Picture!X62","v":0},{"$f":"Picture!Y62","v":0},{"$f":"Picture!Z62","v":0},{"$f":"Picture!AA62","v":0},{"$f":"Picture!AB62","v":0},{"$f":"Picture!AC62","v":0},{"$f":"Picture!AD62","v":0},{"$f":"Picture!AE62","v":0},{"$f":"Picture!AF62","v":0},{"$f":"Picture!AG62","v":0},{"$f":"Picture!AH62","v":0},{"$f":"Picture!AI62","v":0},{"$f":"Picture!AJ62","v":0},{"$f":"Picture!AK62","v":0},{"$f":"Picture!AL62","v":0},{"$f":"Picture!AM62","v":0},{"$f":"Picture!AN62","v":0},{"$f":"Picture!AO62","v":0},{"$f":"Picture!AP62","v":0},{"$f":"Picture!AQ62","v":0},{"$f":"Picture!AR62","v":0},{"$f":"Picture!AS62","v":0},{"$f":"Picture!AT62","v":0},{"$f":"Picture!AU62","v":0},{"$f":"Picture!AV62","v":0},{"$f":"Picture!AW62","v":0},{"$f":"Picture!AX62","v":0},{"$f":"Picture!AY62","v":0},{"$f":"Picture!AZ62","v":0}]
[{"$f":"Picture!A63","v":0},{"$f":"Picture!B63","v":0},{"$f":"Picture!C63","v":0},{"$f":"Picture!D63","v":0},{"$f":"Picture!E63","v":0},{"$f":"Picture!F63","v":0},{"$f":"Picture!G63","v":0},{"$f":"Picture!H63","v":0},{"$f":"Picture!I63","v":0},{"$f":"Picture!J63","v":0},{"$f":"Picture!K63","v":0},{"$f":"Picture!L63","v":0},{"$f":"Picture!M63","v":0},{"$f":"Picture!N63","v":0},{"$f":"Picture!O63","v":0},{"$f":"Picture!P63","v":0},{"$f":"Picture!Q63","v":0},{"$f":"Picture!R63","v":0},{"$f":"Picture!S63","v":0},{"$f":"Picture!T63","v":0},{"$f":"Picture!U63","v":0},{"$f":"Picture!V63","v":0},{"$f":"Picture!W63","v":0},{"$f":"Picture!X63","v":0},{"$f":"Picture!Y63","v":0},{"$f":"Picture!Z63","v":0},{"$f":"Picture!AA63","v":0},{"$f":"Picture!AB63","v":0},{"$f":"Picture!AC63","v":0},{"$f":"Picture!AD63","v":0},{"$f":"Picture!AE63","v":0},{"$f":"Picture!AF63","v":0},{"$f":"Picture!AG63","v":0},{"$f":"Picture!AH63","v":0},{"$f":"Picture!AI63","v":0},{"$f":"Picture!AJ63","v":0},{"$f":"Picture!AK63","v":0},{"$f":"Picture!AL63","v":0},{"$f":"Picture!AM63","v":0},{"$f":"Picture!AN63","v":0},{"$f":"Picture!AO63","v":0},{"$f":"Picture!AP63","v":0},{"$f":"Picture!AQ63","v":0},{"$f":"Picture!AR63","v":0},{"$f":"Picture!AS63","v":0},{"$f":"Picture!AT63","v":0},{"$f":"Picture!AU63","v":0},{"$f":"Picture!AV63","v":0},{"$f":"Picture!AW63","v":0},{"$f":"Picture!AX63","v":0},{"$f":"Picture!AY63","v":0},{"$f":"Picture!AZ63","v":0}]
[{"$f":"Picture!A64","v":0},{"$f":"Picture!B64","v":0},{"$f":"Picture!C64","v":0},{"$f":"Picture!D64","v":0},{"$f":"Picture!E64","v":0},{"$f":"Picture!F64","v":0},{"$f":"Picture!G64","v":0},{"$f":"Picture!H64","v":0},{"$f":"Picture!I64","v":0},{"$f":"Picture!J64","v":0},{"$f":"Picture!K64","v":0},{"$f":"Picture!L64","v":0},{"$f":"Picture!M64","v":0},{"$f":"Picture!N64","v":0},{"$f":"Picture!O64","v":0},{"$f":"Picture!P64","v":0},{"$f":"Picture!Q64","v":0},{"$f":"Picture!R64","v":0},{"$f":"Picture!S64","v":0},{"$f":"Picture!T64","v":0},{"$f":"Picture!U64","v":0},{"$f":"Picture!V64","v":0},{"$f":"Picture!W64","v":0},{"$f":"Picture!X64","v":0},{"$f":"Picture!Y64","v":0},{"$f":"Picture!Z64","v":0},{"$f":"Picture!AA64","v":0},{"$f":"Picture!AB64","v":0},{"$f":"Picture!AC64","v":0},{"$f":"Picture!AD64","v":0},{"$f":"Picture!AE64","v":0},{"$f":"Picture!AF64","v":0},{"$f":"Picture!AG64","v":0},{"$f":"Picture!AH64","v":0},{"$f":"Picture!AI64","v":0},{"$f":"Picture!AJ64","v":0},{"$f":"Picture!AK64","v":0},{"$f":"Picture!AL64","v":0},{"$f":"Picture!AM64","v":0},{"$f":"Picture!AN64","v":0},{"$f":"Picture!AO64","v":0},{"$f":"Picture!AP64","v":0},{"$f":"Picture!AQ64","v":0},{"$f":"Picture!AR64","v":0},{"$f":"Picture!AS64","v":0},{"$f":"Picture!AT64","v":0},{"$f":"Picture!AU64","v":0},{"$f":"Picture!AV64","v":0},{"$f":"Picture!AW64","v":0},{"$f":"Picture!AX64","v":0},{"$f":"Picture!AY64","v":0},{"$f":"Picture!AZ64","v":0}]
[{"$f":"Picture!A65","v":0},{"$f":"Picture!B65","v":0},{"$f":"Picture!C65","v":0},{"$f":"Picture!D65","v":0},{"$f":"Picture!E65","v":0},{"$f":"Picture!F65","v":0},{"$f":"Picture!G65","v":0},{"$f":"Picture!H65","v":0},{"$f":"Picture!I65","v":0},{"$f":"Picture!J65","v":0},{"$f":"Picture!K65","v":0},{"$f":"Picture!L65","v":0},{"$f":"Picture!M65","v":0},{"$f":"Picture!N65","v":0},{"$f":"Picture!O65","v":0},{"$f":"Picture!P65","v":0},{"$f":"Picture!Q65","v":0},{"$f":"Picture!R65","v":0},{"$f":"Picture!S65","v":0},{"$f":"Picture!T65","v":0},{"$f":"Picture!U65","v":0},{"$f":"Picture!V65","v":0},{"$f":"Picture!W65","v":0},{"$f":"Picture!X65","v":0},{"$f":"Picture!Y65","v":0},{"$f":"Picture!Z65","v":0},{"$f":"Picture!AA65","v":0},{"$f":"Picture!AB65","v":0},{"$f":"Picture!AC65","v":0},{"$f":"Picture!AD65","v":0},{"$f":"Picture!AE65","v":0},{"$f":"Picture!AF65","v":0},{"$f":"Picture!AG65","v":0},{"$f":"Picture!AH65","v":0},{"$f":"Picture!AI65","v":0},{"$f":"Picture!AJ65","v":0},{"$f":"Picture!AK65","v":0},{"$f":"Picture!AL65","v":0},{"$f":"Picture!AM65","v":0},{"$f":"Picture!AN65","v":0},{"$f":"Picture!AO65","v":0},{"$f":"Picture!AP65","v":0},{"$f":"Picture!AQ65","v":0},{"$f":"Picture!AR65","v":0},{"$f":"Picture!AS65","v":0},{"$f":"Picture!AT65","v":0},{"$f":"Picture!AU65","v":0},{"$f":"Picture!AV65","v":0},{"$f":"Picture!AW65","v":0},{"$f":"Picture!AX65","v":0},{"$f":"Picture!AY65","v":0},{"$f":"Picture!AZ65","v":0}]
[{"$f":"Picture!A66","v":0},{"$f":"Picture!B66","v":0},{"$f":"Picture!C66","v":0},{"$f":"Picture!D66","v":0},{"$f":"Picture!E66","v":0},{"$f":"Picture!F66","v":0},{"$f":"Picture!G66","v":0},{"$f":"Picture!H66","v":0},{"$f":"Picture!I66","v":0},{"$f":"Picture!J66","v":0},{"$f":"Picture!K66","v":0},{"$f":"Picture!L66","v":0},{"$f":"Picture!M66","v":0},{"$f":"Picture!N66","v":0},{"$f":"Picture!O66","v":0},{"$f":"Picture!P66","v":0},{"$f":"Picture!Q66","v":0},{"$f":"Picture!R66","v":0},{"$f":"Picture!S66","v":0},{"$f":"Picture!T66","v":0},{"$f":"Picture!U66","v":0},{"$f":"Picture!V66","v":0},{"$f":"Picture!W66","v":0},{"$f":"Picture!X66","v":0},{"$f":"Picture!Y66","v":0},{"$f":"Picture!Z66","v":0},{"$f":"Picture!AA66","v":0},{"$f":"Picture!AB66","v":0},{"$f":"Picture!AC66","v":0},{"$f":"Picture!AD66","v":0},{"$f":"Picture!AE66","v":0},{"$f":"Picture!AF66","v":0},{"$f":"Picture!AG66","v":0},{"$f":"Picture!AH66","v":0},{"$f":"Picture!AI66","v":0},{"$f":"Picture!AJ66","v":0},{"$f":"Picture!AK66","v":0},{"$f":"Picture!AL66","v":0},{"$f":"Picture!AM66","v":0},{"$f":"Picture!AN66","v":0},{"$f":"Picture!AO66","v":0},{"$f":"Picture!AP66","v":0},{"$f":"Picture!AQ66","v":0},{"$f":"Picture!AR66","v":0},{"$f":"Picture!AS66","v":0},{"$f":"Picture!AT66","v":0},{"$f":"Picture!AU66","v":0},{"$f":"Picture!AV66","v":0},{"$f":"Picture!AW66","v":0},{"$f":"Picture!AX66","v":0},{"$f":"Picture!AY66","v":0},{"$f":"Picture!AZ66","v":0}]
[{"$f":"Picture!A67","v":0},{"$f":"Picture!B67","v":0},{"$f":"Picture!C67","v":0},{"$f":"Picture!D67","v":0},{"$f":"Picture!E67","v":0},{"$f":"Picture!F67","v":0},{"$f":"Picture!G67","v":0},{"$f":"Picture!H67","v":0},{"$f":"Picture!I67","v":0},{"$f":"Picture!J67","v":0},{"$f":"Picture!K67","v":0},{"$f":"Picture!L67","v":0},{"$f":"Picture!M67","v":0},{"$f":"Picture!N67","v":0},{"$f":"Picture!O67","v":0},{"$f":"Picture!P67","v":0},{"$f":"Picture!Q67","v":0},{"$f":"Picture!R67","v":0},{"$f":"Picture!S67","v":0},{"$f":"Picture!T67","v":0},{"$f":"Picture!U67","v":0},{"$f":"Picture!V67","v":0},{"$f":"Picture!W67","v":0},{"$f":"Picture!X67","v":0},{"$f":"Picture!Y67","v":0},{"$f":"Picture!Z67","v":0},{"$f":"Picture!AA67","v":0},{"$f":"Picture!AB67","v":0},{"$f":"Picture!AC67","v":0},{"$f":"Picture!AD67","v":0},{"$f":"Picture!AE67","v":0},{"$f":"Picture!AF67","v":0},{"$f":"Picture!AG67","v":0},{"$f":"Picture!AH67","v":0},{"$f":"Picture!AI67","v":0},{"$f":"Picture!AJ67","v":0},{"$f":"Picture!AK67","v":0},{"$f":"Picture!AL67","v":0},{"$f":"Picture!AM67","v":0},{"$f":"Picture!AN67","v":0},{"$f":"Picture!AO67","v":0},{"$f":"Picture!AP67","v":0},{"$f":"Picture!AQ67","v":0},{"$f":"Picture!AR67","v":0},{"$f":"Picture!AS67","v":0},{"$f":"Picture!AT67","v":0},{"$f":"Picture!AU67","v":0},{"$f":"Picture!AV67","v":0},{"$f":"Picture!AW67","v":0},{"$f":"Picture!AX67","v":0},{"$f":"Picture!AY67","v":0},{"$f":"Picture!AZ67","v":0}]
[{"$f":"Picture!A68","v":0},{"$f":"Picture!B68","v":0},{"$f":"Picture!C68","v":0},{"$f":"Picture!D68","v":0},{"$f":"Picture!E68","v":0},{"$f":"Picture!F68","v":0},{"$f":"Picture!G68","v":0},{"$f":"Picture!H68","v":0},{"$f":"Picture!I68","v":0},{"$f":"Picture!J68","v":0},{"$f":"Picture!K68","v":0},{"$f":"Picture!L68","v":0},{"$f":"Picture!M68","v":0},{"$f":"Picture!N68","v":0},{"$f":"Picture!O68","v":0},{"$f":"Picture!P68","v":0},{"$f":"Picture!Q68","v":0},{"$f":"Picture!R68","v":0},{"$f":"Picture!S68","v":0},{"$f":"Picture!T68","v":0},{"$f":"Picture!U68","v":0},{"$f":"Picture!V68","v":0},{"$f":"Picture!W68","v":0},{"$f":"Picture!X68","v":0},{"$f":"Picture!Y68","v":0},{"$f":"Picture!Z68","v":0},{"$f":"Picture!AA68","v":0},{"$f":"Picture!AB68","v":0},{"$f":"Picture!AC68","v":0},{"$f":"Picture!AD68","v":0},{"$f":"Picture!AE68","v":0},{"$f":"Picture!AF68","v":0},{"$f":"Picture!AG68","v":0},{"$f":"Picture!AH68","v":0},{"$f":"Picture!AI68","v":0},{"$f":"Picture!AJ68","v":0},{"$f":"Picture!AK68","v":0},{"$f":"Picture!AL68","v":0},{"$f":"Picture!AM68","v":0},{"$f":"Picture!AN68","v":0},{"$f":"Picture!AO68","v":0},{"$f":"Picture!AP68","v":0},{"$f":"Picture!AQ68","v":0},{"$f":"Picture!AR68","v":0},{"$f":"Picture!AS68","v":0},{"$f":"Picture!AT68","v":0},{"$f":"Picture!AU68","v":0},{"$f":"Picture!AV68","v":0},{"$f":"Picture!AW68","v":0},{"$f":"Picture!AX68","v":0},{"$f":"Picture!AY68","v":0},{"$f":"Picture!AZ68","v":0}]
[{"$f":"Picture!A69","v":0},{"$f":"Picture!B69","v":0},{"$f":"Picture!C69","v":0},{"$f":"Picture!D69","v":0},{"$f":"Picture!E69","v":0},{"$f":"Picture!F69","v":0},{"$f":"Picture!G69","v":0},{"$f":"Picture!H69","v":0},{"$f":"Picture!I69","v":0},{"$f":"Picture!J69","v":0},{"$f":"Picture!K69","v":0},{"$f":"Picture!L69","v":0},{"$f":"Picture!M69","v":0},{"$f":"Picture!N69","v":0},{"$f":"Picture!O69","v":0},{"$f":"Picture!P69","v":0},{"$f":"Picture!Q69","v":0},{"$f":"Picture!R69","v":0},{"$f":"Picture!S69","v":0},{"$f":"Picture!T69","v":0},{"$f":"Picture!U69","v":0},{"$f":"Picture!V69","v":0},{"$f":"Picture!W69","v":0},{"$f":"Picture!X69","v":0},{"$f":"Picture!Y69","v":0},{"$f":"Picture!Z69","v":0},{"$f":"Picture!AA69","v":0},{"$f":"Picture!AB69","v":0},{"$f":"Picture!AC69","v":0},{"$f":"Picture!AD69","v":0},{"$f":"Picture!AE69","v":0},{"$f":"Picture!AF69","v":0},{"$f":"Picture!AG69","v":0},{"$f":"Picture!AH69","v":0},{"$f":"Picture!AI69","v":0},{"$f":"Picture!AJ69","v":0},{"$f":"Picture!AK69","v":0},{"$f":"Picture!AL69","v":0},{"$f":"Picture!AM69","v":0},{"$f":"Picture!AN69","v":0},{"$f":"Picture!AO69","v":0},{"$f":"Picture!AP69","v":0},{"$f":"Picture!AQ69","v":0},{"$f":"Picture!AR69","v":0},{"$f":"Picture!AS69","v":0},{"$f":"Picture!AT69","v":0},{"$f":"Picture!AU69","v":0},{"$f":"Picture!AV69","v":0},{"$f":"Picture!AW69","v":0},{"$f":"Picture!AX69","v":0},{"$f":"Picture!AY69","v":0},{"$f":"Picture!AZ69","v":0}]
[{"$f":"Picture!A70","v":0},{"$f":"Picture!B70","v":0},{"$f":"Picture!C70","v":0},{"$f":"Picture!D70","v":0},{"$f":"Picture!E70","v":0},{"$f":"Picture!F70","v":0},{"$f":"Picture!G70","v":0},{"$f":"Picture!H70","v":0},{"$f":"Picture!I70","v":0},{"$f":"Picture!J70","v":0},{"$f":"Picture!K70","v":0},{"$f":"Picture!L70","v":0},{"$f":"Picture!M70","v":0},{"$f":"Picture!N70","v":0},{"$f":"Picture!O70","v":0},{"$f":"Picture!P70","v":0},{"$f":"Picture!Q70","v":0},{"$f":"Picture!R70","v":0},{"$f":"Picture!S70","v":0},{"$f":"Picture!T70","v":0},{"$f":"Picture!U70","v":0},{"$f":"Picture!V70","v":0},{"$f":"Picture!W70","v":0},{"$f":"Picture!X70","v":0},{"$f":"Picture!Y70","v":0},{"$f":"Picture!Z70","v":0},{"$f":"Picture!AA70","v":0},{"$f":"Picture!AB70","v":0},{"$f":"Picture!AC70","v":0},{"$f":"Picture!AD70","v":0},{"$f":"Picture!AE70","v":0},{"$f":"Picture!AF70","v":0},{"$f":"Picture!AG70","v":0},{"$f":"Picture!AH70","v":0},{"$f":"Picture!AI70","v":0},{"$f":"Picture!AJ70","v":0},{"$f":"Picture!AK70","v":0},{"$f":"Picture!AL70","v":0},{"$f":"Picture!AM70","v":0},{"$f":"Picture!AN70","v":0},{"$f":"Picture!AO70","v":0},{"$f":"Picture!AP70","v":0},{"$f":"Picture!AQ70","v":0},{"$f":"Picture!AR70","v":0},{"$f":"Picture!AS70","v":0},{"$f":"Picture!AT70","v":0},{"$f":"Picture!AU70","v":0},{"$f":"Picture!AV70","v":0},{"$f":"Picture!AW70","v":0},{"$f":"Picture!AX70","v":0},{"$f":"Picture!AY70","v":0},{"$f":"Picture!AZ70","v":0}]
[{"$f":"Picture!A71","v":0},{"$f":"Picture!B71","v":0},{"$f":"Picture!C71","v":0},{"$f":"Picture!D71","v":0},{"$f":"Picture!E71","v":0},{"$f":"Picture!F71","v":0},{"$f":"Picture!G71","v":0},{"$f":"Picture!H71","v":0},{"$f":"Picture!I71","v":0},{"$f":"Picture!J71","v":0},{"$f":"Picture!K71","v":0},{"$f":"Picture!L71","v":0},{"$f":"Picture!M71","v":0},{"$f":"Picture!N71","v":0},{"$f":"Picture!O71","v":0},{"$f":"Picture!P71","v":0},{"$f":"Picture!Q71","v":0},{"$f":"Picture!R71","v":0},{"$f":"Picture!S71","v":0},{"$f":"Picture!T71","v":0},{"$f":"Picture!U71","v":0},{"$f":"Picture!V71","v":0},{"$f":"Picture!W71","v":0},{"$f":"Picture!X71","v":0},{"$f":"Picture!Y71","v":0},{"$f":"Picture!Z71","v":0},{"$f":"Picture!AA71","v":0},{"$f":"Picture!AB71","v":0},{"$f":"Picture!AC71","v":0},{"$f":"Picture!AD71","v":0},{"$f":"Picture!AE71","v":0},{"$f":"Picture!AF71","v":0},{"$f":"Picture!AG71","v":0},{"$f":"Picture!AH71","v":0},{"$f":"Picture!AI71","v":0},{"$f":"Picture!AJ71","v":0},{"$f":"Picture!AK71","v":0},{"$f":"Picture!AL71","v":0},{"$f":"Picture!AM71","v":0},{"$f":"Picture!AN71","v":0},{"$f":"Picture!AO71","v":0},{"$f":"Picture!AP71","v":0},{"$f":"Picture!AQ71","v":0},{"$f":"Picture!AR71","v":0},{"$f":"Picture!AS71","v":0},{"$f":"Picture!AT71","v":0},{"$f":"Picture!AU71","v":0},{"$f":"Picture!AV71","v":0},{"$f":"Picture!AW71","v":0},{"$f":"Picture!AX71","v":0},{"$f":"Picture!AY71","v":0},{"$f":"Picture!AZ71","v":0}]
[{"$f":"Picture!A72","v":0},{"$f":"Picture!B72","v":0},{"$f":"Picture!C72","v":0},{"$f":"Picture!D72","v":0},{"$f":"Picture!E72","v":0},{"$f":"Picture!F72","v":0},{"$f":"Picture!G72","v":0},{"$f":"Picture!H72","v":0},{"$f":"Picture!I72","v":0},{"$f":"Picture!J72","v":0},{"$f":"Picture!K72","v":0},{"$f":"Picture!L72","v":0},{"$f":"Picture!M72","v":0},{"$f":"Picture!N72","v":0},{"$f":"Picture!O72","v":0},{"$f":"Picture!P72","v":0},{"$f":"Picture!Q72","v":0},{"$f":"Picture!R72","v":0},{"$f":"Picture!S72","v":0},{"$f":"Picture!T72","v":0},{"$f":"Picture!U72","v":0},{"$f":"Picture!V72","v":0},{"$f":"Picture!W72","v":0},{"$f":"Picture!X72","v":0},{"$f":"Picture!Y72","v":0},{"$f":"Picture!Z72","v":0},{"$f":"Picture!AA72","v":0},{"$f":"Picture!AB72","v":0},{"$f":"Picture!AC72","v":0},{"$f":"Picture!AD72","v":0},{"$f":"Picture!AE72","v":0},{"$f":"Picture!AF72","v":0},{"$f":"Picture!AG72","v":0},{"$f":"Picture!AH72","v":0},{"$f":"Picture!AI72","v":0},{"$f":"Picture!AJ72","v":0},{"$f":"Picture!AK72","v":0},{"$f":"Picture!AL72","v":0},{"$f":"Picture!AM72","v":0},{"$f":"Picture!AN72","v":0},{"$f":"Picture!AO72","v":0},{"$f":"Picture!AP72","v":0},{"$f":"Picture!AQ72","v":0},{"$f":"Picture!AR72","v":0},{"$f":"Picture!AS72","v":0},{"$f":"Picture!AT72","v":0},{"$f":"Picture!AU72","v":0},{"$f":"Picture!AV72","v":0},{"$f":"Picture!AW72","v":0},{"$f":"Picture!AX72","v":0},{"$f":"Picture!AY72","v":0},{"$f":"Picture!AZ72","v":0}]
[{"$f":"Picture!A73","v":0},{"$f":"Picture!B73","v":0},{"$f":"Picture!C73","v":0},{"$f":"Picture!D73","v":0},{"$f":"Picture!E73","v":0},{"$f":"Picture!F73","v":0},{"$f":"Picture!G73","v":0},{"$f":"Picture!H73","v":0},{"$f":"Picture!I73","v":0},{"$f":"Picture!J73","v":0},{"$f":"Picture!K73","v":0},{"$f":"Picture!L73","v":0},{"$f":"Picture!M73","v":0},{"$f":"Picture!N73","v":0},{"$f":"Picture!O73","v":0},{"$f":"Picture!P73","v":0},{"$f":"Picture!Q73","v":0},{"$f":"Picture!R73","v":0},{"$f":"Picture!S73","v":0},{"$f":"Picture!T73","v":0},{"$f":"Picture!U73","v":0},{"$f":"Picture!V73","v":0},{"$f":"Picture!W73","v":0},{"$f":"Picture!X73","v":0},{"$f":"Picture!Y73","v":0},{"$f":"Picture!Z73","v":0},{"$f":"Picture!AA73","v":0},{"$f":"Picture!AB73","v":0},{"$f":"Picture!AC73","v":0},{"$f":"Picture!AD73","v":0},{"$f":"Picture!AE73","v":0},{"$f":"Picture!AF73","v":0},{"$f":"Picture!AG73","v":0},{"$f":"Picture!AH73","v":0},{"$f":"Picture!AI73","v":0},{"$f":"Picture!AJ73","v":0},{"$f":"Picture!AK73","v":0},{"$f":"Picture!AL73","v":0},{"$f":"Picture!AM73","v":0},{"$f":"Picture!AN73","v":0},{"$f":"Picture!AO73","v":0},{"$f":"Picture!AP73","v":0},{"$f":"Picture!AQ73","v":0},{"$f":"Picture!AR73","v":0},{"$f":"Picture!AS73","v":0},{"$f":"Picture!AT73","v":0},{"$f":"Picture!AU73","v":0},{"$f":"Picture!AV73","v":0},{"$f":"Picture!AW73","v":0},{"$f":"Picture!AX73","v":0},{"$f":"Picture!AY73","v":0},{"$f":"Picture!AZ73","v":0}]
[{"$f":"Picture!A74","v":0},{"$f":"Picture!B74","v":0},{"$f":"Picture!C74","v":0},{"$f":"Picture!D74","v":0},{"$f":"Picture!E74","v":0},{"$f":"Picture!F74","v":0},{"$f":"Picture!G74","v":0},{"$f":"Picture!H74","v":0},{"$f":"Picture!I74","v":0},{"$f":"Picture!J74","v":0},{"$f":"Picture!K74","v":0},{"$f":"Picture!L74","v":0},{"$f":"Picture!M74","v":0},{"$f":"Picture!N74","v":0},{"$f":"Picture!O74","v":0},{"$f":"Picture!P74","v":0},{"$f":"Picture!Q74","v":0},{"$f":"Picture!R74","v":0},{"$f":"Picture!S74","v":0},{"$f":"Picture!T74","v":0},{"$f":"Picture!U74","v":0},{"$f":"Picture!V74","v":0},{"$f":"Picture!W74","v":0},{"$f":"Picture!X74","v":0},{"$f":"Picture!Y74","v":0},{"$f":"Picture!Z74","v":0},{"$f":"Picture!AA74","v":0},{"$f":"Picture!AB74","v":0},{"$f":"Picture!AC74","v":0},{"$f":"Picture!AD74","v":0},{"$f":"Picture!AE74","v":0},{"$f":"Picture!AF74","v":0},{"$f":"Picture!AG74","v":0},{"$f":"Picture!AH74","v":0},{"$f":"Picture!AI74","v":0},{"$f":"Picture!AJ74","v":0},{"$f":"Picture!AK74","v":0},{"$f":"Picture!AL74","v":0},{"$f":"Picture!AM74","v":0},{"$f":"Picture!AN74","v":0},{"$f":"Picture!AO74","v":0},{"$f":"Picture!AP74","v":0},{"$f":"Picture!AQ74","v":0},{"$f":"Picture!AR74","v":0},{"$f":"Picture!AS74","v":0},{"$f":"Picture!AT74","v":0},{"$f":"Picture!AU74","v":0},{"$f":"Picture!AV74","v":0},{"$f":"Picture!AW74","v":0},{"$f":"Picture!AX74","v":0},{"$f":"Picture!AY74","v":0},{"$f":"Picture!AZ74","v":0}]
[{"$f":"Picture!A75","v":0},{"$f":"Picture!B75","v":0},{"$f":"Picture!C75","v":0},{"$f":"Picture!D75","v":0},{"$f":"Picture!E75","v":0},{"$f":"Picture!F75","v":0},{"$f":"Picture!G75","v":0},{"$f":"Picture!H75","v":0},{"$f":"Picture!I75","v":0},{"$f":"Picture!J75","v":0},{"$f":"Picture!K75","v":0},{"$f":"Picture!L75","v":0},{"$f":"Picture!M75","v":0},{"$f":"Picture!N75","v":0},{"$f":"Picture!O75","v":0},{"$f":"Picture!P75","v":0},{"$f":"Picture!Q75","v":0},{"$f":"Picture!R75","v":0},{"$f":"Picture!S75","v":0},{"$f":"Picture!T75","v":0},{"$f":"Picture!U75","v":0},{"$f":"Picture!V75","v":0},{"$f":"Picture!W75","v":0},{"$f":"Picture!X75","v":0},{"$f":"Picture!Y75","v":0},{"$f":"Picture!Z75","v":0},{"$f":"Picture!AA75","v":0},{"$f":"Picture!AB75","v":0},{"$f":"Picture!AC75","v":0},{"$f":"Picture!AD75","v":0},{"$f":"Picture!AE75","v":0},{"$f":"Picture!AF75","v":0},{"$f":"Picture!AG75","v":0},{"$f":"Picture!AH75","v":0},{"$f":"Picture!AI75","v":0},{"$f":"Picture!AJ75","v":0},{"$f":"Picture!AK75","v":0},{"$f":"Picture!AL75","v":0},{"$f":"Picture!AM75","v":0},{"$f":"Picture!AN75","v":0},{"$f":"Picture!AO75","v":0},{"$f":"Picture!AP75","v":0},{"$f":"Picture!AQ75","v":0},{"$f":"Picture!AR75","v":0},{"$f":"Picture!AS75","v":0},{"$f":"Picture!AT75","v":0},{"$f":"Picture!AU75","v":0},{"$f":"Picture!AV75","v":0},{"$f":"Picture!AW75","v":0},{"$f":"Picture!AX75","v":0},{"$f":"Picture!AY75","v":0},{"$f":"Picture!AZ75","v":0}]
[{"$f":"Picture!A76","v":0},{"$f":"Picture!B76","v":0},{"$f":"Picture!C76","v":0},{"$f":"Picture!D76","v":0},{"$f":"Picture!E76","v":0},{"$f":"Picture!F76","v":0},{"$f":"Picture!G76","v":0},{"$f":"Picture!H76","v":0},{"$f":"Picture!I76","v":0},{"$f":"Picture!J76","v":0},{"$f":"Picture!K76","v":0},{"$f":"Picture!L76","v":0},{"$f":"Picture!M76","v":0},{"$f":"Picture!N76","v":0},{"$f":"Picture!O76","v":0},{"$f":"Picture!P76","v":0},{"$f":"Picture!Q76","v":0},{"$f":"Picture!R76","v":0},{"$f":"Picture!S76","v":0},{"$f":"Picture!T76","v":0},{"$f":"Picture!U76","v":0},{"$f":"Picture!V76","v":0},{"$f":"Picture!W76","v":0},{"$f":"Picture!X76","v":0},{"$f":"Picture!Y76","v":0},{"$f":"Picture!Z76","v":0},{"$f":"Picture!AA76","v":0},{"$f":"Picture!AB76","v":0},{"$f":"Picture!AC76","v":0},{"$f":"Picture!AD76","v":0},{"$f":"Picture!AE76","v":0},{"$f":"Picture!AF76","v":0},{"$f":"Picture!AG76","v":0},{"$f":"Picture!AH76","v":0},{"$f":"Picture!AI76","v":0},{"$f":"Picture!AJ76","v":0},{"$f":"Picture!AK76","v":0},{"$f":"Picture!AL76","v":0},{"$f":"Picture!AM76","v":0},{"$f":"Picture!AN76","v":0},{"$f":"Picture!AO76","v":0},{"$f":"Picture!AP76","v":0},{"$f":"Picture!AQ76","v":0},{"$f":"Picture!AR76","v":0},{"$f":"Picture!AS76","v":0},{"$f":"Picture!AT76","v":0},{"$f":"Picture!AU76","v":0},{"$f":"Picture!AV76","v":0},{"$f":"Picture!AW76","v":0},{"$f":"Picture!AX76","v":0},{"$f":"Picture!AY76","v":0},{"$f":"Picture!AZ76","v":0}]
[{"$f":"Picture!A77","v":0},{"$f":"Picture!B77","v":0},{"$f":"Picture!C77","v":0},{"$f":"Picture!D77","v":0},{"$f":"Picture!E77","v":0},{"$f":"Picture!F77","v":0},{"$f":"Picture!G77","v":0},{"$f":"Picture!H77","v":0},{"$f":"Picture!I77","v":0},{"$f":"Picture!J77","v":0},{"$f":"Picture!K77","v":0},{"$f":"Picture!L77","v":0},{"$f":"Picture!M77","v":0},{"$f":"Picture!N77","v":0},{"$f":"Picture!O77","v":0},{"$f":"Picture!P77","v":0},{"$f":"Picture!Q77","v":0},{"$f":"Picture!R77","v":0},{"$f":"Picture!S77","v":0},{"$f":"Picture!T77","v":0},{"$f":"Picture!U77","v":0},{"$f":"Picture!V77","v":0},{"$f":"Picture!W77","v":0},{"$f":"Picture!X77","v":0},{"$f":"Picture!Y77","v":0},{"$f":"Picture!Z77","v":0},{"$f":"Picture!AA77","v":0},{"$f":"Picture!AB77","v":0},{"$f":"Picture!AC77","v":0},{"$f":"Picture!AD77","v":0},{"$f":"Picture!AE77","v":0},{"$f":"Picture!AF77","v":0},{"$f":"Picture!AG77","v":0},{"$f":"Picture!AH77","v":0},{"$f":"Picture!AI77","v":0},{"$f":"Picture!AJ77","v":0},{"$f":"Picture!AK77","v":0},{"$f":"Picture!AL77","v":0},{"$f":"Picture!AM77","v":0},{"$f":"Picture!AN77","v":0},{"$f":"Picture!AO77","v":0},{"$f":"Picture!AP77","v":0},{"$f":"Picture!AQ77","v":0},{"$f":"Picture!AR77","v":0},{"$f":"Picture!AS77","v":0},{"$f":"Picture!AT77","v":0},{"$f":"Picture!AU77","v":0},{"$f":"Picture!AV77","v":0},{"$f":"Picture!AW77","v":0},{"$f":"Picture!AX77","v":0},{"$f":"Picture!AY77","v":0},{"$f":"Picture!AZ77","v":0}]
[{"$f":"Picture!A78","v":0},{"$f":"Picture!B78","v":0},{"$f":"Picture!C78","v":0},{"$f":"Picture!D78","v":0},{"$f":"Picture!E78","v":0},{"$f":"Picture!F78","v":0},{"$f":"Picture!G78","v":0},{"$f":"Picture!H78","v":0},{"$f":"Picture!I78","v":0},{"$f":"Picture!J78","v":0},{"$f":"Picture!K78","v":0},{"$f":"Picture!L78","v":0},{"$f":"Picture!M78","v":0},{"$f":"Picture!N78","v":0},{"$f":"Picture!O78","v":0},{"$f":"Picture!P78","v":0},{"$f":"Picture!Q78","v":0},{"$f":"Picture!R78","v":0},{"$f":"Picture!S78","v":0},{"$f":"Picture!T78","v":0},{"$f":"Picture!U78","v":0},{"$f":"Picture!V78","v":0},{"$f":"Picture!W78","v":0},{"$f":"Picture!X78","v":0},{"$f":"Picture!Y78","v":0},{"$f":"Picture!Z78","v":0},{"$f":"Picture!AA78","v":0},{"$f":"Picture!AB78","v":0},{"$f":"Picture!AC78","v":0},{"$f":"Picture!AD78","v":0},{"$f":"Picture!AE78","v":0},{"$f":"Picture!AF78","v":0},{"$f":"Picture!AG78","v":0},{"$f":"Picture!AH78","v":0},{"$f":"Picture!AI78","v":0},{"$f":"Picture!AJ78","v":0},{"$f":"Picture!AK78","v":0},{"$f":"Picture!AL78","v":0},{"$f":"Picture!AM78","v":0},{"$f":"Picture!AN78","v":0},{"$f":"Picture!AO78","v":0},{"$f":"Picture!AP78","v":0},{"$f":"Picture!AQ78","v":0},{"$f":"Picture!AR78","v":0},{"$f":"Picture!AS78","v":0},{"$f":"Picture!AT78","v":0},{"$f":"Picture!AU78","v":0},{"$f":"Picture!AV78","v":0},{"$f":"Picture!AW78","v":0},{"$f":"Picture!AX78","v":0},{"$f":"Picture!AY78","v":0},{"$f":"Picture!AZ78","v":0}]
[{"$f":"Picture!A79","v":0},{"$f":"Picture!B79","v":0},{"$f":"Picture!C79","v":0},{"$f":"Picture!D79","v":0},{"$f":"Picture!E79","v":0},{"$f":"Picture!F79","v":0},{"$f":"Picture!G79","v":0},{"$f":"Picture!H79","v":0},{"$f":"Picture!I79","v":0},{"$f":"Picture!J79","v":0},{"$f":"Picture!K79","v":0},{"$f":"Picture!L79","v":0},{"$f":"Picture!M79","v":0},{"$f":"Picture!N79","v":0},{"$f":"Picture!O79","v":0},{"$f":"Picture!P79","v":0},{"$f":"Picture!Q79","v":0},{"$f":"Picture!R79","v":0},{"$f":"Picture!S79","v":0},{"$f":"Picture!T79","v":0},{"$f":"Picture!U79","v":0},{"$f":"Picture!V79","v":0},{"$f":"Picture!W79","v":0},{"$f":"Picture!X79","v":0},{"$f":"Picture!Y79","v":0},{"$f":"Picture!Z79","v":0},{"$f":"Picture!AA79","v":0},{"$f":"Picture!AB79","v":0},{"$f":"Picture!AC79","v":0},{"$f":"Picture!AD79","v":0},{"$f":"Picture!AE79","v":0},{"$f":"Picture!AF79","v":0},{"$f":"Picture!AG79","v":0},{"$f":"Picture!AH79","v":0},{"$f":"Picture!AI79","v":0},{"$f":"Picture!AJ79","v":0},{"$f":"Picture!AK79","v":0},{"$f":"Picture!AL79","v":0},{"$f":"Picture!AM79","v":0},{"$f":"Picture!AN79","v":0},{"$f":"Picture!AO79","v":0},{"$f":"Picture!AP79","v":0},{"$f":"Picture!AQ79","v":0},{"$f":"Picture!AR79","v":0},{"$f":"Picture!AS79","v":0},{"$f":"Picture!AT79","v":0},{"$f":"Picture!AU79","v":0},{"$f":"Picture!AV79","v":0},{"$f":"Picture!AW79","v":0},{"$f":"Picture!AX79","v":0},{"$f":"Picture!AY79","v":0},{"$f":"Picture!AZ79","v":0}]
[{"$f":"Picture!A80","v":0},{"$f":"Picture!B80","v":0},{"$f":"Picture!C80","v":0},{"$f":"Picture!D80","v":0},{"$f":"Picture!E80","v":0},{"$f":"Picture!F80","v":0},{"$f":"Picture!G80","v":0},{"$f":"Picture!H80","v":0},{"$f":"Picture!I80","v":0},{"$f":"Picture!J80","v":0},{"$f":"Picture!K80","v":0},{"$f":"Picture!L80","v":0},{"$f":"Picture!M80","v":0},{"$f":"Picture!N80","v":0},{"$f":"Picture!O80","v":0},{"$f":"Picture!P80","v":0},{"$f":"Picture!Q80","v":0},{"$f":"Picture!R80","v":0},{"$f":"Picture!S80","v":0},{"$f":"Picture!T80","v":0},{"$f":"Picture!U80","v":0},{"$f":"Picture!V80","v":0},{"$f":"Picture!W80","v":0},{"$f":"Picture!X80","v":0},{"$f":"Picture!Y80","v":0},{"$f":"Picture!Z80","v":0},{"$f":"Picture!AA80","v":0},{"$f":"Picture!AB80","v":0},{"$f":"Picture!AC80","v":0},{"$f":"Picture!AD80","v":0},{"$f":"Picture!AE80","v":0},{"$f":"Picture!AF80","v":0},{"$f":"Picture!AG80","v":0},{"$f":"Picture!AH80","v":0},{"$f":"Picture!AI80","v":0},{"$f":"Picture!AJ80","v":0},{"$f":"Picture!AK80","v":0},{"$f":"Picture!AL80","v":0},{"$f":"Picture!AM80","v":0},{"$f":"Picture!AN80","v":0},{"$f":"Picture!AO80","v":0},{"$f":"Picture!AP80","v":0},{"$f":"Picture!AQ80","v":0},{"$f":"Picture!AR80","v":0},{"$f":"Picture!AS80","v":0},{"$f":"Picture!AT80","v":0},{"$f":"Picture!AU80","v":0},{"$f":"Picture!AV80","v":0},{"$f":"Picture!AW80","v":0},{"$f":"Picture!AX80","v":0},{"$f":"Picture!AY80","v":0},{"$f":"Picture!AZ80","v":0}]
[{"$f":"Picture!A81","v":0},{"$f":"Picture!B81","v":0},{"$f":"Picture!C81","v":0},{"$f":"Picture!D81","v":0},{"$f":"Picture!E81","v":0},{"$f":"Picture!F81","v":0},{"$f":"Picture!G81","v":0},{"$f":"Picture!H81","v":0},{"$f":"Picture!I81","v":0},{"$f":"Picture!J81","v":0},{"$f":"Picture!K81","v":0},{"$f":"Picture!L81","v":0},{"$f":"Picture!M81","v":0},{"$f":"Picture!N81","v":0},{"$f":"Picture!O81","v":0},{"$f":"Picture!P81","v":0},{"$f":"Picture!Q81","v":0},{"$f":"Picture!R81","v":0},{"$f":"Picture!S81","v":0},{"$f":"Picture!T81","v":0},{"$f":"Picture!U81","v":0},{"$f":"Picture!V81","v":0},{"$f":"Picture!W81","v":0},{"$f":"Picture!X81","v":0},{"$f":"Picture!Y81","v":0},{"$f":"Picture!Z81","v":0},{"$f":"Picture!AA81","v":0},{"$f":"Picture!AB81","v":0},{"$f":"Picture!AC81","v":0},{"$f":"Picture!AD81","v":0},{"$f":"Picture!AE81","v":0},{"$f":"Picture!AF81","v":0},{"$f":"Picture!AG81","v":0},{"$f":"Picture!AH81","v":0},{"$f":"Picture!AI81","v":0},{"$f":"Picture!AJ81","v":0},{"$f":"Picture!AK81","v":0},{"$f":"Picture!AL81","v":0},{"$f":"Picture!AM81","v":0},{"$f":"Picture!AN81","v":0},{"$f":"Picture!AO81","v":0},{"$f":"Picture!AP81","v":0},{"$f":"Picture!AQ81","v":0},{"$f":"Picture!AR81","v":0},{"$f":"Picture!AS81","v":0},{"$f":"Picture!AT81","v":0},{"$f":"Picture!AU81","v":0},{"$f":"Picture!AV81","v":0},{"$f":"Picture!AW81","v":0},{"$f":"Picture!AX81","v":0},{"$f":"Picture!AY81","v":0},{"$f":"Picture!AZ81","v":0}]
[{"$f":"Picture!A82","v":0},{"$f":"Picture!B82","v":0},{"$f":"Picture!C82","v":0},{"$f":"Picture!D82","v":0},{"$f":"Picture!E82","v":0},{"$f":"Picture!F82","v":0},{"$f":"Picture!G82","v":0},{"$f":"Picture!H82","v":0},{"$f":"Picture!I82","v":0},{"$f":"Picture!J82","v":0},{"$f":"Picture!K82","v":0},{"$f":"Picture!L82","v":0},{"$f":"Picture!M82","v":0},{"$f":"Picture!N82","v":0},{"$f":"Picture!O82","v":0},{"$f":"Picture!P82","v":0},{"$f":"Picture!Q82","v":0},{"$f":"Picture!R82","v":0},{"$f":"Picture!S82","v":0},{"$f":"Picture!T82","v":0},{"$f":"Picture!U82","v":0},{"$f":"Picture!V82","v":0},{"$f":"Picture!W82","v":0},{"$f":"Picture!X82","v":0},{"$f":"Picture!Y82","v":0},{"$f":"Picture!Z82","v":0},{"$f":"Picture!AA82","v":0},{"$f":"Picture!AB82","v":0},{"$f":"Picture!AC82","v":0},{"$f":"Picture!AD82","v":0},{"$f":"Picture!AE82","v":0},{"$f":"Picture!AF82","v":0},{"$f":"Picture!AG82","v":0},{"$f":"Picture!AH82","v":0},{"$f":"Picture!AI82","v":0},{"$f":"Picture!AJ82","v":0},{"$f":"Picture!AK82","v":0},{"$f":"Picture!AL82","v":0},{"$f":"Picture!AM82","v":0},{"$f":"Picture!AN82","v":0},{"$f":"Picture!AO82","v":0},{"$f":"Picture!AP82","v":0},{"$f":"Picture!AQ82","v":0},{"$f":"Picture!AR82","v":0},{"$f":"Picture!AS82","v":0},{"$f":"Picture!AT82","v":0},{"$f":"Picture!AU82","v":0},{"$f":"Picture!AV82","v":0},{"$f":"Picture!AW82","v":0},{"$f":"Picture!AX82","v":0},{"$f":"Picture!AY82","v":0},{"$f":"Picture!AZ82","v":0}]
[{"$f":"Picture!A83","v":0},{"$f":"Picture!B83","v":0},{"$f":"Picture!C83","v":0},{"$f":"Picture!D83","v":0},{"$f":"Picture!E83","v":0},{"$f":"Picture!F83","v":0},{"$f":"Picture!G83","v":0},{"$f":"Picture!H83","v":0},{"$f":"Picture!I83","v":0},{"$f":"Picture!J83","v":0},{"$f":"Picture!K83","v":0},{"$f":"Picture!L83","v":0},{"$f":"Picture!M83","v":0},{"$f":"Picture!N83","v":0},{"$f":"Picture!O83","v":0},{"$f":"Picture!P83","v":0},{"$f":"Picture!Q83","v":0},{"$f":"Picture!R83","v":0},{"$f":"Picture!S83","v":0},{"$f":"Picture!T83","v":0},{"$f":"Picture!U83","v":0},{"$f":"Picture!V83","v":0},{"$f":"Picture!W83","v":0},{"$f":"Picture!X83","v":0},{"$f":"Picture!Y83","v":0},{"$f":"Picture!Z83","v":0},{"$f":"Picture!AA83","v":0},{"$f":"Picture!AB83","v":0},{"$f":"Picture!AC83","v":0},{"$f":"Picture!AD83","v":0},{"$f":"Picture!AE83","v":0},{"$f":"Picture!AF83","v":0},{"$f":"Picture!AG83","v":0},{"$f":"Picture!AH83","v":0},{"$f":"Picture!AI83","v":0},{"$f":"Picture!AJ83","v":0},{"$f":"Picture!AK83","v":0},{"$f":"Picture!AL83","v":0},{"$f":"Picture!AM83","v":0},{"$f":"Picture!AN83","v":0},{"$f":"Picture!AO83","v":0},{"$f":"Picture!AP83","v":0},{"$f":"Picture!AQ83","v":0},{"$f":"Picture!AR83","v":0},{"$f":"Picture!AS83","v":0},{"$f":"Picture!AT83","v":0},{"$f":"Picture!AU83","v":0},{"$f":"Picture!AV83","v":0},{"$f":"Picture!AW83","v":0},{"$f":"Picture!AX83","v":0},{"$f":"Picture!AY83","v":0},{"$f":"Picture!AZ83","v":0}]
[{"$f":"Picture!A84","v":0},{"$f":"Picture!B84","v":0},{"$f":"Picture!C84","v":0},{"$f":"Picture!D84","v":0},{"$f":"Picture!E84","v":0},{"$f":"Picture!F84","v":0},{"$f":"Picture!G84","v":0},{"$f":"Picture!H84","v":0},{"$f":"Picture!I84","v":0},{"$f":"Picture!J84","v":0},{"$f":"Picture!K84","v":0},{"$f":"Picture!L84","v":0},{"$f":"Picture!M84","v":0},{"$f":"Picture!N84","v":0},{"$f":"Picture!O84","v":0},{"$f":"Picture!P84","v":0},{"$f":"Picture!Q84","v":0},{"$f":"Picture!R84","v":0},{"$f":"Picture!S84","v":0},{"$f":"Picture!T84","v":0},{"$f":"Picture!U84","v":0},{"$f":"Picture!V84","v":0},{"$f":"Picture!W84","v":0},{"$f":"Picture!X84","v":0},{"$f":"Picture!Y84","v":0},{"$f":"Picture!Z84","v":0},{"$f":"Picture!AA84","v":0},{"$f":"Picture!AB84","v":0},{"$f":"Picture!AC84","v":0},{"$f":"Picture!AD84","v":0},{"$f":"Picture!AE84","v":0},{"$f":"Picture!AF84","v":0},{"$f":"Picture!AG84","v":0},{"$f":"Picture!AH84","v":0},{"$f":"Picture!AI84","v":0},{"$f":"Picture!AJ84","v":0},{"$f":"Picture!AK84","v":0},{"$f":"Picture!AL84","v":0},{"$f":"Picture!AM84","v":0},{"$f":"Picture!AN84","v":0},{"$f":"Picture!AO84","v":0},{"$f":"Picture!AP84","v":0},{"$f":"Picture!AQ84","v":0},{"$f":"Picture!AR84","v":0},{"$f":"Picture!AS84","v":0},{"$f":"Picture!AT84","v":0},{"$f":"Picture!AU84","v":0},{"$f":"Picture!AV84","v":0},{"$f":"Picture!AW84","v":0},{"$f":"Picture!AX84","v":0},{"$f":"Picture!AY84","v":0},{"$f":"Picture!AZ84","v":0}]
[{"$f":"Picture!A85","v":0},{"$f":"Picture!B85","v":0},{"$f":"Picture!C85","v":0},{"$f":"Picture!D85","v":0},{"$f":"Picture!E85","v":0},{"$f":"Picture!F85","v":0},{"$f":"Picture!G85","v":0},{"$f":"Picture!H85","v":0},{"$f":"Picture!I85","v":0},{"$f":"Picture!J85","v":0},{"$f":"Picture!K85","v":0},{"$f":"Picture!L85","v":0},{"$f":"Picture!M85","v":0},{"$f":"Picture!N85","v":0},{"$f":"Picture!O85","v":0},{"$f":"Picture!P85","v":0},{"$f":"Picture!Q85","v":0},{"$f":"Picture!R85","v":0},{"$f":"Picture!S85","v":0},{"$f":"Picture!T85","v":0},{"$f":"Picture!U85","v":0},{"$f":"Picture!V85","v":0},{"$f":"Picture!W85","v":0},{"$f":"Picture!X85","v":0},{"$f":"Picture!Y85","v":0},{"$f":"Picture!Z85","v":0},{"$f":"Picture!AA85","v":0},{"$f":"Picture!AB85","v":0},{"$f":"Picture!AC85","v":0},{"$f":"Picture!AD85","v":0},{"$f":"Picture!AE85","v":0},{"$f":"Picture!AF85","v":0},{"$f":"Picture!AG85","v":0},{"$f":"Picture!AH85","v":0},{"$f":"Picture!AI85","v":0},{"$f":"Picture!AJ85","v":0},{"$f":"Picture!AK85","v":0},{"$f":"Picture!AL85","v":0},{"$f":"Picture!AM85","v":0},{"$f":"Picture!AN85","v":0},{"$f":"Picture!AO85","v":0},{"$f":"Picture!AP85","v":0},{"$f":"Picture!AQ85","v":0},{"$f":"Picture!AR85","v":0},{"$f":"Picture!AS85","v":0},{"$f":"Picture!AT85","v":0},{"$f":"Picture!AU85","v":0},{"$f":"Picture!AV85","v":0},{"$f":"Picture!AW85","v":0},{"$f":"Picture!AX85","v":0},{"$f":"Picture!AY85","v":0},{"$f":"Picture!AZ85","v":0}]
[{"$f":"Picture!A86","v":0},{"$f":"Picture!B86","v":0},{"$f":"Picture!C86","v":0},{"$f":"Picture!D86","v":0},{"$f":"Picture!E86","v":0},{"$f":"Picture!F86","v":0},{"$f":"Picture!G86","v":0},{"$f":"Picture!H86","v":0},{"$f":"Picture!I86","v":0},{"$f":"Picture!J86","v":0},{"$f":"Picture!K86","v":0},{"$f":"Picture!L86","v":0},{"$f":"Picture!M86","v":0},{"$f":"Picture!N86","v":0},{"$f":"Picture!O86","v":0},{"$f":"Picture!P86","v":0},{"$f":"Picture!Q86","v":0},{"$f":"Picture!R86","v":0},{"$f":"Picture!S86","v":0},{"$f":"Picture!T86","v":0},{"$f":"Picture!U86","v":0},{"$f":"Picture!V86","v":0},{"$f":"Picture!W86","v":0},{"$f":"Picture!X86","v":0},{"$f":"Picture!Y86","v":0},{"$f":"Picture!Z86","v":0},{"$f":"Picture!AA86","v":0},{"$f":"Picture!AB86","v":0},{"$f":"Picture!AC86","v":0},{"$f":"Picture!AD86","v":0},{"$f":"Picture!AE86","v":0},{"$f":"Picture!AF86","v":0},{"$f":"Picture!AG86","v":0},{"$f":"Picture!AH86","v":0},{"$f":"Picture!AI86","v":0},{"$f":"Picture!AJ86","v":0},{"$f":"Picture!AK86","v":0},{"$f":"Picture!AL86","v":0},{"$f":"Picture!AM86","v":0},{"$f":"Picture!AN86","v":0},{"$f":"Picture!AO86","v":0},{"$f":"Picture!AP86","v":0},{"$f":"Picture!AQ86","v":0},{"$f":"Picture!AR86","v":0},{"$f":"Picture!AS86","v":0},{"$f":"Picture!AT86","v":0},{"$f":"Picture!AU86","v":0},{"$f":"Picture!AV86","v":0},{"$f":"Picture!AW86","v":0},{"$f":"Picture!AX86","v":0},{"$f":"Picture!AY86","v":0},{"$f":"Picture!AZ86","v":0}]
[{"$f":"Picture!A87","v":0},{"$f":"Picture!B87","v":0},{"$f":"Picture!C87","v":0},{"$f":"Picture!D87","v":0},{"$f":"Picture!E87","v":0},{"$f":"Picture!F87","v":0},{"$f":"Picture!G87","v":0},{"$f":"Picture!H87","v":0},{"$f":"Picture!I87","v":0},{"$f":"Picture!J87","v":0},{"$f":"Picture!K87","v":0},{"$f":"Picture!L87","v":0},{"$f":"Picture!M87","v":0},{"$f":"Picture!N87","v":0},{"$f":"Picture!O87","v":0},{"$f":"Picture!P87","v":0},{"$f":"Picture!Q87","v":0},{"$f":"Picture!R87","v":0},{"$f":"Picture!S87","v":0},{"$f":"Picture!T87","v":0},{"$f":"Picture!U87","v":0},{"$f":"Picture!V87","v":0},{"$f":"Picture!W87","v":0},{"$f":"Picture!X87","v":0},{"$f":"Picture!Y87","v":0},{"$f":"Picture!Z87","v":0},{"$f":"Picture!AA87","v":0},{"$f":"Picture!AB87","v":0},{"$f":"Picture!AC87","v":0},{"$f":"Picture!AD87","v":0},{"$f":"Picture!AE87","v":0},{"$f":"Picture!AF87","v":0},{"$f":"Picture!AG87","v":0},{"$f":"Picture!AH87","v":0},{"$f":"Picture!AI87","v":0},{"$f":"Picture!AJ87","v":0},{"$f":"Picture!AK87","v":0},{"$f":"Picture!AL87","v":0},{"$f":"Picture!AM87","v":0},{"$f":"Picture!AN87","v":0},{"$f":"Picture!AO87","v":0},{"$f":"Picture!AP87","v":0},{"$f":"Picture!AQ87","v":0},{"$f":"Picture!AR87","v":0},{"$f":"Picture!AS87","v":0},{"$f":"Picture!AT87","v":0},{"$f":"Picture!AU87","v":0},{"$f":"Picture!AV87","v":0},{"$f":"Picture!AW87","v":0},{"$f":"Picture!AX87","v":0},{"$f":"Picture!AY87","v":0},{"$f":"Picture!AZ87","v":0}]
[{"$f":"Picture!A88","v":0},{"$f":"Picture!B88","v":0},{"$f":"Picture!C88","v":0},{"$f":"Picture!D88","v":0},{"$f":"Picture!E88","v":0},{"$f":"Picture!F88","v":0},{"$f":"Picture!G88","v":0},{"$f":"Picture!H88","v":0},{"$f":"Picture!I88","v":0},{"$f":"Picture!J88","v":0},{"$f":"Picture!K88","v":0},{"$f":"Picture!L88","v":0},{"$f":"Picture!M88","v":0},{"$f":"Picture!N88","v":0},{"$f":"Picture!O88","v":0},{"$f":"Picture!P88","v":0},{"$f":"Picture!Q88","v":0},{"$f":"Picture!R88","v":0},{"$f":"Picture!S88","v":0},{"$f":"Picture!T88","v":0},{"$f":"Picture!U88","v":0},{"$f":"Picture!V88","v":0},{"$f":"Picture!W88","v":0},{"$f":"Picture!X88","v":0},{"$f":"Picture!Y88","v":0},{"$f":"Picture!Z88","v":0},{"$f":"Picture!AA88","v":0},{"$f":"Picture!AB88","v":0},{"$f":"Picture!AC88","v":0},{"$f":"Picture!AD88","v":0},{"$f":"Picture!AE88","v":0},{"$f":"Picture!AF88","v":0},{"$f":"Picture!AG88","v":0},{"$f":"Picture!AH88","v":0},{"$f":"Picture!AI88","v":0},{"$f":"Picture!AJ88","v":0},{"$f":"Picture!AK88","v":0},{"$f":"Picture!AL88","v":0},{"$f":"Picture!AM88","v":0},{"$f":"Picture!AN88","v":0},{"$f":"Picture!AO88","v":0},{"$f":"Picture!AP88","v":0},{"$f":"Picture!AQ88","v":0},{"$f":"Picture!AR88","v":0},{"$f":"Picture!AS88","v":0},{"$f":"Picture!AT88","v":0},{"$f":"Picture!AU88","v":0},{"$f":"Picture!AV88","v":0},{"$f":"Picture!AW88","v":0},{"$f":"Picture!AX88","v":0},{"$f":"Picture!AY88","v":0},{"$f":"Picture!AZ88","v":0}]
[{"$f":"Picture!A89","v":0},{"$f":"Picture!B89","v":0},{"$f":"Picture!C89","v":0},{"$f":"Picture!D89","v":0},{"$f":"Picture!E89","v":0},{"$f":"Picture!F89","v":0},{"$f":"Picture!G89","v":0},{"$f":"Picture!H89","v":0},{"$f":"Picture!I89","v":0},{"$f":"Picture!J89","v":0},{"$f":"Picture!K89","v":0},{"$f":"Picture!L89","v":0},{"$f":"Picture!M89","v":0},{"$f":"Picture!N89","v":0},{"$f":"Picture!O89","v":0},{"$f":"Picture!P89","v":0},{"$f":"Picture!Q89","v":0},{"$f":"Picture!R89","v":0},{"$f":"Picture!S89","v":0},{"$f":"Picture!T89","v":0},{"$f":"Picture!U89","v":0},{"$f":"Picture!V89","v":0},{"$f":"Picture!W89","v":0},{"$f":"Picture!X89","v":0},{"$f":"Picture!Y89","v":0},{"$f":"Picture!Z89","v":0},{"$f":"Picture!AA89","v":0},{"$f":"Picture!AB89","v":0},{"$f":"Picture!AC89","v":0},{"$f":"Picture!AD89","v":0},{"$f":"Picture!AE89","v":0},{"$f":"Picture!AF89","v":0},{"$f":"Picture!AG89","v":0},{"$f":"Picture!AH89","v":0},{"$f":"Picture!AI89","v":0},{"$f":"Picture!AJ89","v":0},{"$f":"Picture!AK89","v":0},{"$f":"Picture!AL89","v":0},{"$f":"Picture!AM89","v":0},{"$f":"Picture!AN89","v":0},{"$f":"Picture!AO89","v":0},{"$f":"Picture!AP89","v":0},{"$f":"Picture!AQ89","v":0},{"$f":"Picture!AR89","v":0},{"$f":"Picture!AS89","v":0},{"$f":"Picture!AT89","v":0},{"$f":"Picture!AU89","v":0},{"$f":"Picture!AV89","v":0},{"$f":"Picture!AW89","v":0},{"$f":"Picture!AX89","v":0},{"$f":"Picture!AY89","v":0},{"$f":"Picture!AZ89","v":0}]
[{"$f":"Picture!A90","v":0},{"$f":"Picture!B90","v":0},{"$f":"Picture!C90","v":0},{"$f":"Picture!D90","v":0},{"$f":"Picture!E90","v":0},{"$f":"Picture!F90","v":0},{"$f":"Picture!G90","v":0},{"$f":"Picture!H90","v":0},{"$f":"Picture!I90","v":0},{"$f":"Picture!J90","v":0},{"$f":"Picture!K90","v":0},{"$f":"Picture!L90","v":0},{"$f":"Picture!M90","v":0},{"$f":"Picture!N90","v":0},{"$f":"Picture!O90","v":0},{"$f":"Picture!P90","v":0},{"$f":"Picture!Q90","v":0},{"$f":"Picture!R90","v":0},{"$f":"Picture!S90","v":0},{"$f":"Picture!T90","v":0},{"$f":"Picture!U90","v":0},{"$f":"Picture!V90","v":0},{"$f":"Picture!W90","v":0},{"$f":"Picture!X90","v":0},{"$f":"Picture!Y90","v":0},{"$f":"Picture!Z90","v":0},{"$f":"Picture!AA90","v":0},{"$f":"Picture!AB90","v":0},{"$f":"Picture!AC90","v":0},{"$f":"Picture!AD90","v":0},{"$f":"Picture!AE90","v":0},{"$f":"Picture!AF90","v":0},{"$f":"Picture!AG90","v":0},{"$f":"Picture!AH90","v":0},{"$f":"Picture!AI90","v":0},{"$f":"Picture!AJ90","v":0},{"$f":"Picture!AK90","v":0},{"$f":"Picture!AL90","v":0},{"$f":"Picture!AM90","v":0},{"$f":"Picture!AN90","v":0},{"$f":"Picture!AO90","v":0},{"$f":"Picture!AP90","v":0},{"$f":"Picture!AQ90","v":0},{"$f":"Picture!AR90","v":0},{"$f":"Picture!AS90","v":0},{"$f":"Picture!AT90","v":0},{"$f":"Picture!AU90","v":0},{"$f":"Picture!AV90","v":0},{"$f":"Picture!AW90","v":0},{"$f":"Picture!AX90","v":0},{"$f":"Picture!AY90","v":0},{"$f":"Picture!AZ90","v":0}]
[{"$f":"Picture!A91","v":0},{"$f":"Picture!B91","v":0},{"$f":"Picture!C91","v":0},{"$f":"Picture!D91","v":0},{"$f":"Picture!E91","v":0},{"$f":"Picture!F91","v":0},{"$f":"Picture!G91","v":0},{"$f":"Picture!H91","v":0},{"$f":"Picture!I91","v":0},{"$f":"Picture!J91","v":0},{"$f":"Picture!K91","v":0},{"$f":"Picture!L91","v":0},{"$f":"Picture!M91","v":0},{"$f":"Picture!N91","v":0},{"$f":"Picture!O91","v":0},{"$f":"Picture!P91","v":0},{"$f":"Picture!Q91","v":0},{"$f":"Picture!R91","v":0},{"$f":"Picture!S91","v":0},{"$f":"Picture!T91","v":0},{"$f":"Picture!U91","v":0},{"$f":"Picture!V91","v":0},{"$f":"Picture!W91","v":0},{"$f":"Picture!X91","v":0},{"$f":"Picture!Y91","v":0},{"$f":"Picture!Z91","v":0},{"$f":"Picture!AA91","v":0},{"$f":"Picture!AB91","v":0},{"$f":"Picture!AC91","v":0},{"$f":"Picture!AD91","v":0},{"$f":"Picture!AE91","v":0},{"$f":"Picture!AF91","v":0},{"$f":"Picture!AG91","v":0},{"$f":"Picture!AH91","v":0},{"$f":"Picture!AI91","v":0},{"$f":"Picture!AJ91","v":0},{"$f":"Picture!AK91","v":0},{"$f":"Picture!AL91","v":0},{"$f":"Picture!AM91","v":0},{"$f":"Picture!AN91","v":0},{"$f":"Picture!AO91","v":0},{"$f":"Picture!AP91","v":0},{"$f":"Picture!AQ91","v":0},{"$f":"Picture!AR91","v":0},{"$f":"Picture!AS91","v":0},{"$f":"Picture!AT91","v":0},{"$f":"Picture!AU91","v":0},{"$f":"Picture!AV91","v":0},{"$f":"Picture!AW91","v":0},{"$f":"Picture!AX91","v":0},{"$f":"Picture!AY91","v":0},{"$f":"Picture!AZ91","v":0}]
[{"$f":"Picture!A92","v":0},{"$f":"Picture!B92","v":0},{"$f":"Picture!C92","v":0},{"$f":"Picture!D92","v":0},{"$f":"Picture!E92","v":0},{"$f":"Picture!F92","v":0},{"$f":"Picture!G92","v":0},{"$f":"Picture!H92","v":0},{"$f":"Picture!I92","v":0},{"$f":"Picture!J92","v":0},{"$f":"Picture!K92","v":0},{"$f":"Picture!L92","v":0},{"$f":"Picture!M92","v":0},{"$f":"Picture!N92","v":0},{"$f":"Picture!O92","v":0},{"$f":"Picture!P92","v":0},{"$f":"Picture!Q92","v":0},{"$f":"Picture!R92","v":0},{"$f":"Picture!S92","v":0},{"$f":"Picture!T92","v":0},{"$f":"Picture!U92","v":0},{"$f":"Picture!V92","v":0},{"$f":"Picture!W92","v":0},{"$f":"Picture!X92","v":0},{"$f":"Picture!Y92","v":0},{"$f":"Picture!Z92","v":0},{"$f":"Picture!AA92","v":0},{"$f":"Picture!AB92","v":0},{"$f":"Picture!AC92","v":0},{"$f":"Picture!AD92","v":0},{"$f":"Picture!AE92","v":0},{"$f":"Picture!AF92","v":0},{"$f":"Picture!AG92","v":0},{"$f":"Picture!AH92","v":0},{"$f":"Picture!AI92","v":0},{"$f":"Picture!AJ92","v":0},{"$f":"Picture!AK92","v":0},{"$f":"Picture!AL92","v":0},{"$f":"Picture!AM92","v":0},{"$f":"Picture!AN92","v":0},{"$f":"Picture!AO92","v":0},{"$f":"Picture!AP92","v":0},{"$f":"Picture!AQ92","v":0},{"$f":"Picture!AR92","v":0},{"$f":"Picture!AS92","v":0},{"$f":"Picture!AT92","v":0},{"$f":"Picture!AU92","v":0},{"$f":"Picture!AV92","v":0},{"$f":"Picture!AW92","v":0},{"$f":"Picture!AX92","v":0},{"$f":"Picture!AY92","v":0},{"$f":"Picture!AZ92","v":0}]
[{"$f":"Picture!A93","v":0},{"$f":"Picture!B93","v":0},{"$f":"Picture!C93","v":0},{"$f":"Picture!D93","v":0},{"$f":"Picture!E93","v":0},{"$f":"Picture!F93","v":0},{"$f":"Picture!G93","v":0},{"$f":"Picture!H93","v":0},{"$f":"Picture!I93","v":0},{"$f":"Picture!J93","v":0},{"$f":"Picture!K93","v":0},{"$f":"Picture!L93","v":0},{"$f":"Picture!M93","v":0},{"$f":"Picture!N93","v":0},{"$f":"Picture!O93","v":0},{"$f":"Picture!P93","v":0},{"$f":"Picture!Q93","v":0},{"$f":"Picture!R93","v":0},{"$f":"Picture!S93","v":0},{"$f":"Picture!T93","v":0},{"$f":"Picture!U93","v":0},{"$f":"Picture!V93","v":0},{"$f":"Picture!W93","v":0},{"$f":"Picture!X93","v":0},{"$f":"Picture!Y93","v":0},{"$f":"Picture!Z93","v":0},{"$f":"Picture!AA93","v":0},{"$f":"Picture!AB93","v":0},{"$f":"Picture!AC93","v":0},{"$f":"Picture!AD93","v":0},{"$f":"Picture!AE93","v":0},{"$f":"Picture!AF93","v":0},{"$f":"Picture!AG93","v":0},{"$f":"Picture!AH93","v":0},{"$f":"Picture!AI93","v":0},{"$f":"Picture!AJ93","v":0},{"$f":"Picture!AK93","v":0},{"$f":"Picture!AL93","v":0},{"$f":"Picture!AM93","v":0},{"$f":"Picture!AN93","v":0},{"$f":"Picture!AO93","v":0},{"$f":"Picture!AP93","v":0},{"$f":"Picture!AQ93","v":0},{"$f":"Picture!AR93","v":0},{"$f":"Picture!AS93","v":0},{"$f":"Picture!AT93","v":0},{"$f":"Picture!AU93","v":0},{"$f":"Picture!AV93","v":0},{"$f":"Picture!AW93","v":0},{"$f":"Picture!AX93","v":0},{"$f":"Picture!AY93","v":0},{"$f":"Picture!AZ93","v":0}]
[{"$f":"Picture!A94","v":0},{"$f":"Picture!B94","v":0},{"$f":"Picture!C94","v":0},{"$f":"Picture!D94","v":0},{"$f":"Picture!E94","v":0},{"$f":"Picture!F94","v":0},{"$f":"Picture!G94","v":0},{"$f":"Picture!H94","v":0},{"$f":"Picture!I94","v":0},{"$f":"Picture!J94","v":0},{"$f":"Picture!K94","v":0},{"$f":"Picture!L94","v":0},{"$f":"Picture!M94","v":0},{"$f":"Picture!N94","v":0},{"$f":"Picture!O94","v":0},{"$f":"Picture!P94","v":0},{"$f":"Picture!Q94","v":0},{"$f":"Picture!R94","v":0},{"$f":"Picture!S94","v":0},{"$f":"Picture!T94","v":0},{"$f":"Picture!U94","v":0},{"$f":"Picture!V94","v":0},{"$f":"Picture!W94","v":0},{"$f":"Picture!X94","v":0},{"$f":"Picture!Y94","v":0},{"$f":"Picture!Z94","v":0},{"$f":"Picture!AA94","v":0},{"$f":"Picture!AB94","v":0},{"$f":"Picture!AC94","v":0},{"$f":"Picture!AD94","v":0},{"$f":"Picture!AE94","v":0},{"$f":"Picture!AF94","v":0},{"$f":"Picture!AG94","v":0},{"$f":"Picture!AH94","v":0},{"$f":"Picture!AI94","v":0},{"$f":"Picture!AJ94","v":0},{"$f":"Picture!AK94","v":0},{"$f":"Picture!AL94","v":0},{"$f":"Picture!AM94","v":0},{"$f":"Picture!AN94","v":0},{"$f":"Picture!AO94","v":0},{"$f":"Picture!AP94","v":0},{"$f":"Picture!AQ94","v":0},{"$f":"Picture!AR94","v":0},{"$f":"Picture!AS94","v":0},{"$f":"Picture!AT94","v":0},{"$f":"Picture!AU94","v":0},{"$f":"Picture!AV94","v":0},{"$f":"Picture!AW94","v":0},{"$f":"Picture!AX94","v":0},{"$f":"Picture!AY94","v":0},{"$f":"Picture!AZ94","v":0}]
[{"$f":"Picture!A95","v":0},{"$f":"Picture!B95","v":0},{"$f":"Picture!C95","v":0},{"$f":"Picture!D95","v":0},{"$f":"Picture!E95","v":0},{"$f":"Picture!F95","v":0},{"$f":"Picture!G95","v":0},{"$f":"Picture!H95","v":0},{"$f":"Picture!I95","v":0},{"$f":"Picture!J95","v":0},{"$f":"Picture!K95","v":0},{"$f":"Picture!L95","v":0},{"$f":"Picture!M95","v":0},{"$f":"Picture!N95","v":0},{"$f":"Picture!O95","v":0},{"$f":"Picture!P95","v":0},{"$f":"Picture!Q95","v":0},{"$f":"Picture!R95","v":0},{"$f":"Picture!S95","v":0},{"$f":"Picture!T95","v":0},{"$f":"Picture!U95","v":0},{"$f":"Picture!V95","v":0},{"$f":"Picture!W95","v":0},{"$f":"Picture!X95","v":0},{"$f":"Picture!Y95","v":0},{"$f":"Picture!Z95","v":0},{"$f":"Picture!AA95","v":0},{"$f":"Picture!AB95","v":0},{"$f":"Picture!AC95","v":0},{"$f":"Picture!AD95","v":0},{"$f":"Picture!AE95","v":0},{"$f":"Picture!AF95","v":0},{"$f":"Picture!AG95","v":0},{"$f":"Picture!AH95","v":0},{"$f":"Picture!AI95","v":0},{"$f":"Picture!AJ95","v":0},{"$f":"Picture!AK95","v":0},{"$f":"Picture!AL95","v":0},{"$f":"Picture!AM95","v":0},{"$f":"Picture!AN95","v":0},{"$f":"Picture!AO95","v":0},{"$f":"Picture!AP95","v":0},{"$f":"Picture!AQ95","v":0},{"$f":"Picture!AR95","v":0},{"$f":"Picture!AS95","v":0},{"$f":"Picture!AT95","v":0},{"$f":"Picture!AU95","v":0},{"$f":"Picture!AV95","v":0},{"$f":"Picture!AW95","v":0},{"$f":"Picture!AX95","v":0},{"$f":"Picture!AY95","v":0},{"$f":"Picture!AZ95","v":0}]
[{"$f":"Picture!A96","v":0},{"$f":"Picture!B96","v":0},{"$f":"Picture!C96","v":0},{"$f":"Picture!D96","v":0},{"$f":"Picture!E96","v":0},{"$f":"Picture!F96","v":0},{"$f":"Picture!G96","v":0},{"$f":"Picture!H96","v":0},{"$f":"Picture!I96","v":0},{"$f":"Picture!J96","v":0},{"$f":"Picture!K96","v":0},{"$f":"Picture!L96","v":0},{"$f":"Picture!M96","v":0},{"$f":"Picture!N96","v":0},{"$f":"Picture!O96","v":0},{"$f":"Picture!P96","v":0},{"$f":"Picture!Q96","v":0},{"$f":"Picture!R96","v":0},{"$f":"Picture!S96","v":0},{"$f":"Picture!T96","v":0},{"$f":"Picture!U96","v":0},{"$f":"Picture!V96","v":0},{"$f":"Picture!W96","v":0},{"$f":"Picture!X96","v":0},{"$f":"Picture!Y96","v":0},{"$f":"Picture!Z96","v":0},{"$f":"Picture!AA96","v":0},{"$f":"Picture!AB96","v":0},{"$f":"Picture!AC96","v":0},{"$f":"Picture!AD96","v":0},{"$f":"Picture!AE96","v":0},{"$f":"Picture!AF96","v":0},{"$f":"Picture!AG96","v":0},{"$f":"Picture!AH96","v":0},{"$f":"Picture!AI96","v":0},{"$f":"Picture!AJ96","v":0},{"$f":"Picture!AK96","v":0},{"$f":"Picture!AL96","v":0},{"$f":"Picture!AM96","v":0},{"$f":"Picture!AN96","v":0},{"$f":"Picture!AO96","v":0},{"$f":"Picture!AP96","v":0},{"$f":"Picture!AQ96","v":0},{"$f":"Picture!AR96","v":0},{"$f":"Picture!AS96","v":0},{"$f":"Picture!AT96","v":0},{"$f":"Picture!AU96","v":0},{"$f":"Picture!AV96","v":0},{"$f":"Picture!AW96","v":0},{"$f":"Picture!AX96","v":0},{"$f":"Picture!AY96","v":0},{"$f":"Picture!AZ96","v":0}]
[{"$f":"Picture!A97","v":0},{"$f":"Picture!B97","v":0},{"$f":"Picture!C97","v":0},{"$f":"Picture!D97","v":0},{"$f":"Picture!E97","v":0},{"$f":"Picture!F97","v":0},{"$f":"Picture!G97","v":0},{"$f":"Picture!H97","v":0},{"$f":"Picture!I97","v":0},{"$f":"Picture!J97","v":0},{"$f":"Picture!K97","v":0},{"$f":"Picture!L97","v":0},{"$f":"Picture!M97","v":0},{"$f":"Picture!N97","v":0},{"$f":"Picture!O97","v":0},{"$f":"Picture!P97","v":0},{"$f":"Picture!Q97","v":0},{"$f":"Picture!R97","v":0},{"$f":"Picture!S97","v":0},{"$f":"Picture!T97","v":0},{"$f":"Picture!U97","v":0},{"$f":"Picture!V97","v":0},{"$f":"Picture!W97","v":0},{"$f":"Picture!X97","v":0},{"$f":"Picture!Y97","v":0},{"$f":"Picture!Z97","v":0},{"$f":"Picture!AA97","v":0},{"$f":"Picture!AB97","v":0},{"$f":"Picture!AC97","v":0},{"$f":"Picture!AD97","v":0},{"$f":"Picture!AE97","v":0},{"$f":"Picture!AF97","v":0},{"$f":"Picture!AG97","v":0},{"$f":"Picture!AH97","v":0},{"$f":"Picture!AI97","v":0},{"$f":"Picture!AJ97","v":0},{"$f":"Picture!AK97","v":0},{"$f":"Picture!AL97","v":0},{"$f":"Picture!AM97","v":0},{"$f":"Picture!AN97","v":0},{"$f":"Picture!AO97","v":0},{"$f":"Picture!AP97","v":0},{"$f":"Picture!AQ97","v":0},{"$f":"Picture!AR97","v":0},{"$f":"Picture!AS97","v":0},{"$f":"Picture!AT97","v":0},{"$f":"Picture!AU97","v":0},{"$f":"Picture!AV97","v":0},{"$f":"Picture!AW97","v":0},{"$f":"Picture!AX97","v":0},{"$f":"Picture!AY97","v":0},{"$f":"Picture!AZ97","v":0}]
[{"$f":"Picture!A98","v":0},{"$f":"Picture!B98","v":0},{"$f":"Picture!C98","v":0},{"$f":"Picture!D98","v":0},{"$f":"Picture!E98","v":0},{"$f":"Picture!F98","v":0},{"$f":"Picture!G98","v":0},{"$f":"Picture!H98","v":0},{"$f":"Picture!I98","v":0},{"$f":"Picture!J98","v":0},{"$f":"Picture!K98","v":0},{"$f":"Picture!L98","v":0},{"$f":"Picture!M98","v":0},{"$f":"Picture!N98","v":0},{"$f":"Picture!O98","v":0},{"$f":"Picture!P98","v":0},{"$f":"Picture!Q98","v":0},{"$f":"Picture!R98","v":0},{"$f":"Picture!S98","v":0},{"$f":"Picture!T98","v":0},{"$f":"Picture!U98","v":0},{"$f":"Picture!V98","v":0},{"$f":"Picture!W98","v":0},{"$f":"Picture!X98","v":0},{"$f":"Picture!Y98","v":0},{"$f":"Picture!Z98","v":0},{"$f":"Picture!AA98","v":0},{"$f":"Picture!AB98","v":0},{"$f":"Picture!AC98","v":0},{"$f":"Picture!AD98","v":0},{"$f":"Picture!AE98","v":0},{"$f":"Picture!AF98","v":0},{"$f":"Picture!AG98","v":0},{"$f":"Picture!AH98","v":0},{"$f":"Picture!AI98","v":0},{"$f":"Picture!AJ98","v":0},{"$f":"Picture!AK98","v":0},{"$f":"Picture!AL98","v":0},{"$f":"Picture!AM98","v":0},{"$f":"Picture!AN98","v":0},{"$f":"Picture!AO98","v":0},{"$f":"Picture!AP98","v":0},{"$f":"Picture!AQ98","v":0},{"$f":"Picture!AR98","v":0},{"$f":"Picture!AS98","v":0},{"$f":"Picture!AT98","v":0},{"$f":"Picture!AU98","v":0},{"$f":"Picture!AV98","v":0},{"$f":"Picture!AW98","v":0},{"$f":"Picture!AX98","v":0},{"$f":"Picture!AY98","v":0},{"$f":"Picture!AZ98","v":0}]
[{"$f":"Picture!A99","v":0},{"$f":"Picture!B99","v":0},{"$f":"Picture!C99","v":0},{"$f":"Picture!D99","v":0},{"$f":"Picture!E99","v":0},{"$f":"Picture!F99","v":0},{"$f":"Picture!G99","v":0},{"$f":"Picture!H99","v":0},{"$f":"Picture!I99","v":0},{"$f":"Picture!J99","v":0},{"$f":"Picture!K99","v":0},{"$f":"Picture!L99","v":0},{"$f":"Picture!M99","v":0},{"$f":"Picture!N99","v":0},{"$f":"Picture!O99","v":0},{"$f":"Picture!P99","v":0},{"$f":"Picture!Q99","v":0},{"$f":"Picture!R99","v":0},{"$f":"Picture!S99","v":0},{"$f":"Picture!T99","v":0},{"$f":"Picture!U99","v":0},{"$f":"Picture!V99","v":0},{"$f":"Picture!W99","v":0},{"$f":"Picture!X99","v":0},{"$f":"Picture!Y99","v":0},{"$f":"Picture!Z99","v":0},{"$f":"Picture!AA99","v":0},{"$f":"Picture!AB99","v":0},{"$f":"Picture!AC99","v":0},{"$f":"Picture!AD99","v":0},{"$f":"Picture!AE99","v":0},{"$f":"Picture!AF99","v":0},{"$f":"Picture!AG99","v":0},{"$f":"Picture!AH99","v":0},{"$f":"Picture!AI99","v":0},{"$f":"Picture!AJ99","v":0},{"$f":"Picture!AK99","v":0},{"$f":"Picture!AL99","v":0},{"$f":"Picture!AM99","v":0},{"$f":"Picture!AN99","v":0},{"$f":"Picture!AO99","v":0},{"$f":"Picture!AP99","v":0},{"$f":"Picture!AQ99","v":0},{"$f":"Picture!AR99","v":0},{"$f":"Picture!AS99","v":0},{"$f":"Picture!AT99","v":0},{"$f":"Picture!AU99","v":0},{"$f":"Picture!AV99","v":0},{"$f":"Picture!AW99","v":0},{"$f":"Picture!AX99","v":0},{"$f":"Picture!AY99","v":0},{"$f":"Picture!AZ99","v":0}]
[{"$f":"Picture!A100","v":0},{"$f":"Picture!B100","v":0},{"$f":"Picture!C100","v":0},{"$f":"Picture!D100","v":0},{"$f":"Picture!E100","v":0},{"$f":"Picture!F100","v":0},{"$f":"Picture!G100","v":0},{"$f":"Picture!H100","v":0},{"$f":"Picture!I100","v":0},{"$f":"Picture!J100","v":0},{"$f":"Picture!K100","v":0},{"$f":"Picture!L100","v":0},{"$f":"Picture!M100","v":0},{"$f":"Picture!N100","v":0},{"$f":"Picture!O100","v":0},{"$f":"Picture!P100","v":0},{"$f":"Picture!Q100","v":0},{"$f":"Picture!R100","v":0},{"$f":"Picture!S100","v":0},{"$f":"Picture!T100","v":0},{"$f":"Picture!U100","v":0},{"$f":"Picture!V100","v":0},{"$f":"Picture!W100","v":0},{"$f":"Picture!X100","v":0},{"$f":"Picture!Y100","v":0},{"$f":"Picture!Z100","v":0},{"$f":"Picture!AA100","v":0},{"$f":"Picture!AB100","v":0},{"$f":"Picture!AC100","v":0},{"$f":"Picture!AD100","v":0},{"$f":"Picture!AE100","v":0},{"$f":"Picture!AF100","v":0},{"$f":"Picture!AG100","v":0},{"$f":"Picture!AH100","v":0},{"$f":"Picture!AI100","v":0},{"$f":"Picture!AJ100","v":0},{"$f":"Picture!AK100","v":0},{"$f":"Picture!AL100","v":0},{"$f":"Picture!AM100","v":0},{"$f":"Picture!AN100","v":0},{"$f":"Picture!AO100","v":0},{"$f":"Picture!AP100","v":0},{"$f":"Picture!AQ100","v":0},{"$f":"Picture!AR100","v":0},{"$f":"Picture!AS100","v":0},{"$f":"Picture!AT100","v":0},{"$f":"Picture!AU100","v":0},{"$f":"Picture!AV100","v":0},{"$f":"Picture!AW100","v":0},{"$f":"Picture!AX100","v":0},{"$f":"Picture!AY100","v":0},{"$f":"Picture!AZ100","v":0}]
[{"$f":"Picture!A101","v":0},{"$f":"Picture!B101","v":0},{"$f":"Picture!C101","v":0},{"$f":"Picture!D101","v":0},{"$f":"Picture!E101","v":0},{"$f":"Picture!F101","v":0},{"$f":"Picture!G101","v":0},{"$f":"Picture!H101","v":0},{"$f":"Picture!I101","v":0},{"$f":"Picture!J101","v":0},{"$f":"Picture!K101","v":0},{"$f":"Picture!L101","v":0},{"$f":"Picture!M101","v":0},{"$f":"Picture!N101","v":0},{"$f":"Picture!O101","v":0},{"$f":"Picture!P101","v":0},{"$f":"Picture!Q101","v":0},{"$f":"Picture!R101","v":0},{"$f":"Picture!S101","v":0},{"$f":"Picture!T101","v":0},{"$f":"Picture!U101","v":0},{"$f":"Picture!V101","v":0},{"$f":"Picture!W101","v":0},{"$f":"Picture!X101","v":0},{"$f":"Picture!Y101","v":0},{"$f":"Picture!Z101","v":0},{"$f":"Picture!AA101","v":0},{"$f":"Picture!AB101","v":0},{"$f":"Picture!AC101","v":0},{"$f":"Picture!AD101","v":0},{"$f":"Picture!AE101","v":0},{"$f":"Picture!AF101","v":0},{"$f":"Picture!AG101","v":0},{"$f":"Picture!AH101","v":0},{"$f":"Picture!AI101","v":0},{"$f":"Picture!AJ101","v":0},{"$f":"Picture!AK101","v":0},{"$f":"Picture!AL101","v":0},{"$f":"Picture!AM101","v":0},{"$f":"Picture!AN101","v":0},{"$f":"Picture!AO101","v":0},{"$f":"Picture!AP101","v":0},{"$f":"Picture!AQ101","v":0},{"$f":"Picture!AR101","v":0},{"$f":"Picture!AS101","v":0},{"$f":"Picture!AT101","v":0},{"$f":"Picture!AU101","v":0},{"$f":"Picture!AV101","v":0},{"$f":"Picture!AW101","v":0},{"$f":"Picture!AX101","v":0},{"$f":"Picture!AY101","v":0},{"$f":"Picture!AZ101","v":0}]
[{"$f":"Picture!A102","v":0},{"$f":"Picture!B102","v":0},{"$f":"Picture!C102","v":0},{"$f":"Picture!D102","v":0},{"$f":"Picture!E102","v":0},{"$f":"Picture!F102","v":0},{"$f":"Picture!G102","v":0},{"$f":"Picture!H102","v":0},{"$f":"Picture!I102","v":0},{"$f":"Picture!J102","v":0},{"$f":"Picture!K102","v":0},{"$f":"Picture!L102","v":0},{"$f":"Picture!M102","v":0},{"$f":"Picture!N102","v":0},{"$f":"Picture!O102","v":0},{"$f":"Picture!P102","v":0},{"$f":"Picture!Q102","v":0},{"$f":"Picture!R102","v":0},{"$f":"Picture!S102","v":0},{"$f":"Picture!T102","v":0},{"$f":"Picture!U102","v":0},{"$f":"Picture!V102","v":0},{"$f":"Picture!W102","v":0},{"$f":"Picture!X102","v":0},{"$f":"Picture!Y102","v":0},{"$f":"Picture!Z102","v":0},{"$f":"Picture!AA102","v":0},{"$f":"Picture!AB102","v":0},{"$f":"Picture!AC102","v":0},{"$f":"Picture!AD102","v":0},{"$f":"Picture!AE102","v":0},{"$f":"Picture!AF102","v":0},{"$f":"Picture!AG102","v":0},{"$f":"Picture!AH102","v":0},{"$f":"Picture!AI102","v":0},{"$f":"Picture!AJ102","v":0},{"$f":"Picture!AK102","v":0},{"$f":"Picture!AL102","v":0},{"$f":"Picture!AM102","v":0},{"$f":"Picture!AN102","v":0},{"$f":"Picture!AO102","v":0},{"$f":"Picture!AP102","v":0},{"$f":"Picture!AQ102","v":0},{"$f":"Picture!AR102","v":0},{"$f":"Picture!AS102","v":0},{"$f":"Picture!AT102","v":0},{"$f":"Picture!AU102","v":0},{"$f":"Picture!AV102","v":0},{"$f":"Picture!AW102","v":0},{"$f":"Picture!AX102","v":0},{"$f":"Picture!AY102","v":0},{"$f":"Picture!AZ102","v":0}]
[{"$f":"Picture!A103","v":0},{"$f":"Picture!B103","v":0},{"$f":"Picture!C103","v":0},{"$f":"Picture!D103","v":0},{"$f":"Picture!E103","v":0},{"$f":"Picture!F103","v":0},{"$f":"Picture!G103","v":0},{"$f":"Picture!H103","v":0},{"$f":"Picture!I103","v":0},{"$f":"Picture!J103","v":0},{"$f":"Picture!K103","v":0},{"$f":"Picture!L103","v":0},{"$f":"Picture!M103","v":0},{"$f":"Picture!N103","v":0},{"$f":"Picture!O103","v":0},{"$f":"Picture!P103","v":0},{"$f":"Picture!Q103","v":0},{"$f":"Picture!R103","v":0},{"$f":"Picture!S103","v":0},{"$f":"Picture!T103","v":0},{"$f":"Picture!U103","v":0},{"$f":"Picture!V103","v":0},{"$f":"Picture!W103","v":0},{"$f":"Picture!X103","v":0},{"$f":"Picture!Y103","v":0},{"$f":"Picture!Z103","v":0},{"$f":"Picture!AA103","v":0},{"$f":"Picture!AB103","v":0},{"$f":"Picture!AC103","v":0},{"$f":"Picture!AD103","v":0},{"$f":"Picture!AE103","v":0},{"$f":"Picture!AF103","v":0},{"$f":"Picture!AG103","v":0},{"$f":"Picture!AH103","v":0},{"$f":"Picture!AI103","v":0},{"$f":"Picture!AJ103","v":0},{"$f":"Picture!AK103","v":0},{"$f":"Picture!AL103","v":0},{"$f":"Picture!AM103","v":0},{"$f":"Picture!AN103","v":0},{"$f":"Picture!AO103","v":0},{"$f":"Picture!AP103","v":0},{"$f":"Picture!AQ103","v":0},{"$f":"Picture!AR103","v":0},{"$f":"Picture!AS103","v":0},{"$f":"Picture!AT103","v":0},{"$f":"Picture!AU103","v":0},{"$f":"Picture!AV103","v":0},{"$f":"Picture!AW103","v":0},{"$f":"Picture!AX103","v":0},{"$f":"Picture!AY103","v":0},{"$f":"Picture!AZ103","v":0}]
[{"$f":"Picture!A104","v":0},{"$f":"Picture!B104","v":0},{"$f":"Picture!C104","v":0},{"$f":"Picture!D104","v":0},{"$f":"Picture!E104","v":0},{"$f":"Picture!F104","v":0},{"$f":"Picture!G104","v":0},{"$f":"Picture!H104","v":0},{"$f":"Picture!I104","v":0},{"$f":"Picture!J104","v":0},{"$f":"Picture!K104","v":0},{"$f":"Picture!L104","v":0},{"$f":"Picture!M104","v":0},{"$f":"Picture!N104","v":0},{"$f":"Picture!O104","v":0},{"$f":"Picture!P104","v":0},{"$f":"Picture!Q104","v":0},{"$f":"Picture!R104","v":0},{"$f":"Picture!S104","v":0},{"$f":"Picture!T104","v":0},{"$f":"Picture!U104","v":0},{"$f":"Picture!V104","v":0},{"$f":"Picture!W104","v":0},{"$f":"Picture!X104","v":0},{"$f":"Picture!Y104","v":0},{"$f":"Picture!Z104","v":0},{"$f":"Picture!AA104","v":0},{"$f":"Picture!AB104","v":0},{"$f":"Picture!AC104","v":0},{"$f":"Picture!AD104","v":0},{"$f":"Picture!AE104","v":0},{"$f":"Picture!AF104","v":0},{"$f":"Picture!AG104","v":0},{"$f":"Picture!AH104","v":0},{"$f":"Picture!AI104","v":0},{"$f":"Picture!AJ104","v":0},{"$f":"Picture!AK104","v":0},{"$f":"Picture!AL104","v":0},{"$f":"Picture!AM104","v":0},{"$f":"Picture!AN104","v":0},{"$f":"Picture!AO104","v":0},{"$f":"Picture!AP104","v":0},{"$f":"Picture!AQ104","v":0},{"$f":"Picture!AR104","v":0},{"$f":"Picture!AS104","v":0},{"$f":"Picture!AT104","v":0},{"$f":"Picture!AU104","v":0},{"$f":"Picture!AV104","v":0},{"$f":"Picture!AW104","v":0},{"$f":"Picture!AX104","v":0},{"$f":"Picture!AY104","v":0},{"$f":"Picture!AZ104","v":0}]
[{"$f":"Picture!A105","v":0},{"$f":"Picture!B105","v":0},{"$f":"Picture!C105","v":0},{"$f":"Picture!D105","v":0},{"$f":"Picture!E105","v":0},{"$f":"Picture!F105","v":0},{"$f":"Picture!G105","v":0},{"$f":"Picture!H105","v":0},{"$f":"Picture!I105","v":0},{"$f":"Picture!J105","v":0},{"$f":"Picture!K105","v":0},{"$f":"Picture!L105","v":0},{"$f":"Picture!M105","v":0},{"$f":"Picture!N105","v":0},{"$f":"Picture!O105","v":0},{"$f":"Picture!P105","v":0},{"$f":"Picture!Q105","v":0},{"$f":"Picture!R105","v":0},{"$f":"Picture!S105","v":0},{"$f":"Picture!T105","v":0},{"$f":"Picture!U105","v":0},{"$f":"Picture!V105","v":0},{"$f":"Picture!W105","v":0},{"$f":"Picture!X105","v":0},{"$f":"Picture!Y105","v":0},{"$f":"Picture!Z105","v":0},{"$f":"Picture!AA105","v":0},{"$f":"Picture!AB105","v":0},{"$f":"Picture!AC105","v":0},{"$f":"Picture!AD105","v":0},{"$f":"Picture!AE105","v":0},{"$f":"Picture!AF105","v":0},{"$f":"Picture!AG105","v":0},{"$f":"Picture!AH105","v":0},{"$f":"Picture!AI105","v":0},{"$f":"Picture!AJ105","v":0},{"$f":"Picture!AK105","v":0},{"$f":"Picture!AL105","v":0},{"$f":"Picture!AM105","v":0},{"$f":"Picture!AN105","v":0},{"$f":"Picture!AO105","v":0},{"$f":"Picture!AP105","v":0},{"$f":"Picture!AQ105","v":0},{"$f":"Picture!AR105","v":0},{"$f":"Picture!AS105","v":0},{"$f":"Picture!AT105","v":0},{"$f":"Picture!AU105","v":0},{"$f":"Picture!AV105","v":0},{"$f":"Picture!AW105","v":0},{"$f":"Picture!AX105","v":0},{"$f":"Picture!AY105","v":0},{"$f":"Picture!AZ105","v":0}]
[{"$f":"Picture!A106","v":0},{"$f":"Picture!B106","v":0},{"$f":"Picture!C106","v":0},{"$f":"Picture!D106","v":0},{"$f":"Picture!E106","v":0},{"$f":"Picture!F106","v":0},{"$f":"Picture!G106","v":0},{"$f":"Picture!H106","v":0},{"$f":"Picture!I106","v":0},{"$f":"Picture!J106","v":0},{"$f":"Picture!K106","v":0},{"$f":"Picture!L106","v":0},{"$f":"Picture!M106","v":0},{"$f":"Picture!N106","v":0},{"$f":"Picture!O106","v":0},{"$f":"Picture!P106","v":0},{"$f":"Picture!Q106","v":0},{"$f":"Picture!R106","v":0},{"$f":"Picture!S106","v":0},{"$f":"Picture!T106","v":0},{"$f":"Picture!U106","v":0},{"$f":"Picture!V106","v":0},{"$f":"Picture!W106","v":0},{"$f":"Picture!X106","v":0},{"$f":"Picture!Y106","v":0},{"$f":"Picture!Z106","v":0},{"$f":"Picture!AA106","v":0},{"$f":"Picture!AB106","v":0},{"$f":"Picture!AC106","v":0},{"$f":"Picture!AD106","v":0},{"$f":"Picture!AE106","v":0},{"$f":"Picture!AF106","v":0},{"$f":"Picture!AG106","v":0},{"$f":"Picture!AH106","v":0},{"$f":"Picture!AI106","v":0},{"$f":"Picture!AJ106","v":0},{"$f":"Picture!AK106","v":0},{"$f":"Picture!AL106","v":0},{"$f":"Picture!AM106","v":0},{"$f":"Picture!AN106","v":0},{"$f":"Picture!AO106","v":0},{"$f":"Picture!AP106","v":0},{"$f":"Picture!AQ106","v":0},{"$f":"Picture!AR106","v":0},{"$f":"Picture!AS106","v":0},{"$f":"Picture!AT106","v":0},{"$f":"Picture!AU106","v":0},{"$f":"Picture!AV106","v":0},{"$f":"Picture!AW106","v":0},{"$f":"Picture!AX106","v":0},{"$f":"Picture!AY106","v":0},{"$f":"Picture!AZ106","v":0}]
[{"$f":"Picture!A107","v":0},{"$f":"Picture!B107","v":0},{"$f":"Picture!C107","v":0},{"$f":"Picture!D107","v":0},{"$f":"Picture!E107","v":0},{"$f":"Picture!F107","v":0},{"$f":"Picture!G107","v":0},{"$f":"Picture!H107","v":0},{"$f":"Picture!I107","v":0},{"$f":"Picture!J107","v":0},{"$f":"Picture!K107","v":0},{"$f":"Picture!L107","v":0},{"$f":"Picture!M107","v":0},{"$f":"Picture!N107","v":0},{"$f":"Picture!O107","v":0},{"$f":"Picture!P107","v":0},{"$f":"Picture!Q107","v":0},{"$f":"Picture!R107","v":0},{"$f":"Picture!S107","v":0},{"$f":"Picture!T107","v":0},{"$f":"Picture!U107","v":0},{"$f":"Picture!V107","v":0},{"$f":"Picture!W107","v":0},{"$f":"Picture!X107","v":0},{"$f":"Picture!Y107","v":0},{"$f":"Picture!Z107","v":0},{"$f":"Picture!AA107","v":0},{"$f":"Picture!AB107","v":0},{"$f":"Picture!AC107","v":0},{"$f":"Picture!AD107","v":0},{"$f":"Picture!AE107","v":0},{"$f":"Picture!AF107","v":0},{"$f":"Picture!AG107","v":0},{"$f":"Picture!AH107","v":0},{"$f":"Picture!AI107","v":0},{"$f":"Picture!AJ107","v":0},{"$f":"Picture!AK107","v":0},{"$f":"Picture!AL107","v":0},{"$f":"Picture!AM107","v":0},{"$f":"Picture!AN107","v":0},{"$f":"Picture!AO107","v":0},{"$f":"Picture!AP107","v":0},{"$f":"Picture!AQ107","v":0},{"$f":"Picture!AR107","v":0},{"$f":"Picture!AS107","v":0},{"$f":"Picture!AT107","v":0},{"$f":"Picture!AU107","v":0},{"$f":"Picture!AV107","v":0},{"$f":"Picture!AW107","v":0},{"$f":"Picture!AX107","v":0},{"$f":"Picture!AY107","v":0},{"$f":"Picture!AZ107","v":0}]
[{"$f":"Picture!A108","v":0},{"$f":"Picture!B108","v":0},{"$f":"Picture!C108","v":0},{"$f":"Picture!D108","v":0},{"$f":"Picture!E108","v":0},{"$f":"Picture!F108","v":0},{"$f":"Picture!G108","v":0},{"$f":"Picture!H108","v":0},{"$f":"Picture!I108","v":0},{"$f":"Picture!J108","v":0},{"$f":"Picture!K108","v":0},{"$f":"Picture!L108","v":0},{"$f":"Picture!M108","v":0},{"$f":"Picture!N108","v":0},{"$f":"Picture!O108","v":0},{"$f":"Picture!P108","v":0},{"$f":"Picture!Q108","v":0},{"$f":"Picture!R108","v":0},{"$f":"Picture!S108","v":0},{"$f":"Picture!T108","v":0},{"$f":"Picture!U108","v":0},{"$f":"Picture!V108","v":0},{"$f":"Picture!W108","v":0},{"$f":"Picture!X108","v":0},{"$f":"Picture!Y108","v":0},{"$f":"Picture!Z108","v":0},{"$f":"Picture!AA108","v":0},{"$f":"Picture!AB108","v":0},{"$f":"Picture!AC108","v":0},{"$f":"Picture!AD108","v":0},{"$f":"Picture!AE108","v":0},{"$f":"Picture!AF108","v":0},{"$f":"Picture!AG108","v":0},{"$f":"Picture!AH108","v":0},{"$f":"Picture!AI108","v":0},{"$f":"Picture!AJ108","v":0},{"$f":"Picture!AK108","v":0},{"$f":"Picture!AL108","v":0},{"$f":"Picture!AM108","v":0},{"$f":"Picture!AN108","v":0},{"$f":"Picture!AO108","v":0},{"$f":"Picture!AP108","v":0},{"$f":"Picture!AQ108","v":0},{"$f":"Picture!AR108","v":0},{"$f":"Picture!AS108","v":0},{"$f":"Picture!AT108","v":0},{"$f":"Picture!AU108","v":0},{"$f":"Picture!AV108","v":0},{"$f":"Picture!AW108","v":0},{"$f":"Picture!AX108","v":0},{"$f":"Picture!AY108","v":0},{"$f":"Picture!AZ108","v":0}]
[{"$f":"Picture!A109","v":0},{"$f":"Picture!B109","v":0},{"$f":"Picture!C109","v":0},{"$f":"Picture!D109","v":0},{"$f":"Picture!E109","v":0},{"$f":"Picture!F109","v":0},{"$f":"Picture!G109","v":0},{"$f":"Picture!H109","v":0},{"$f":"Picture!I109","v":0},{"$f":"Picture!J109","v":0},{"$f":"Picture!K109","v":0},{"$f":"Picture!L109","v":0},{"$f":"Picture!M109","v":0},{"$f":"Picture!N109","v":0},{"$f":"Picture!O109","v":0},{"$f":"Picture!P109","v":0},{"$f":"Picture!Q109","v":0},{"$f":"Picture!R109","v":0},{"$f":"Picture!S109","v":0},{"$f":"Picture!T109","v":0},{"$f":"Picture!U109","v":0},{"$f":"Picture!V109","v":0},{"$f":"Picture!W109","v":0},{"$f":"Picture!X109","v":0},{"$f":"Picture!Y109","v":0},{"$f":"Picture!Z109","v":0},{"$f":"Picture!AA109","v":0},{"$f":"Picture!AB109","v":0},{"$f":"Picture!AC109","v":0},{"$f":"Picture!AD109","v":0},{"$f":"Picture!AE109","v":0},{"$f":"Picture!AF109","v":0},{"$f":"Picture!AG109","v":0},{"$f":"Picture!AH109","v":0},{"$f":"Picture!AI109","v":0},{"$f":"Picture!AJ109","v":0},{"$f":"Picture!AK109","v":0},{"$f":"Picture!AL109","v":0},{"$f":"Picture!AM109","v":0},{"$f":"Picture!AN109","v":0},{"$f":"Picture!AO109","v":0},{"$f":"Picture!AP109","v":0},{"$f":"Picture!AQ109","v":0},{"$f":"Picture!AR109","v":0},{"$f":"Picture!AS109","v":0},{"$f":"Picture!AT109","v":0},{"$f":"Picture!AU109","v":0},{"$f":"Picture!AV109","v":0},{"$f":"Picture!AW109","v":0},{"$f":"Picture!AX109","v":0},{"$f":"Picture!AY109","v":0},{"$f":"Picture!AZ109","v":0}]
[{"$f":"Picture!A110","v":0},{"$f":"Picture!B110","v":0},{"$f":"Picture!C110","v":0},{"$f":"Picture!D110","v":0},{"$f":"Picture!E110","v":0},{"$f":"Picture!F110","v":0},{"$f":"Picture!G110","v":0},{"$f":"Picture!H110","v":0},{"$f":"Picture!I110","v":0},{"$f":"Picture!J110","v":0},{"$f":"Picture!K110","v":0},{"$f":"Picture!L110","v":0},{"$f":"Picture!M110","v":0},{"$f":"Picture!N110","v":0},{"$f":"Picture!O110","v":0},{"$f":"Picture!P110","v":0},{"$f":"Picture!Q110","v":0},{"$f":"Picture!R110","v":0},{"$f":"Picture!S110","v":0},{"$f":"Picture!T110","v":0},{"$f":"Picture!U110","v":0},{"$f":"Picture!V110","v":0},{"$f":"Picture!W110","v":0},{"$f":"Picture!X110","v":0},{"$f":"Picture!Y110","v":0},{"$f":"Picture!Z110","v":0},{"$f":"Picture!AA110","v":0},{"$f":"Picture!AB110","v":0},{"$f":"Picture!AC110","v":0},{"$f":"Picture!AD110","v":0},{"$f":"Picture!AE110","v":0},{"$f":"Picture!AF110","v":0},{"$f":"Picture!AG110","v":0},{"$f":"Picture!AH110","v":0},{"$f":"Picture!AI110","v":0},{"$f":"Picture!AJ110","v":0},{"$f":"Picture!AK110","v":0},{"$f":"Picture!AL110","v":0},{"$f":"Picture!AM110","v":0},{"$f":"Picture!AN110","v":0},{"$f":"Picture!AO110","v":0},{"$f":"Picture!AP110","v":0},{"$f":"Picture!AQ110","v":0},{"$f":"Picture!AR110","v":0},{"$f":"Picture!AS110","v":0},{"$f":"Picture!AT110","v":0},{"$f":"Picture!AU110","v":0},{"$f":"Picture!AV110","v":0},{"$f":"Picture!AW110","v":0},{"$f":"Picture!AX110","v":0},{"$f":"Picture!AY110","v":0},{"$f":"Picture!AZ110","v":0}]
[{"$f":"Picture!A111","v":0},{"$f":"Picture!B111","v":0},{"$f":"Picture!C111","v":0},{"$f":"Picture!D111","v":0},{"$f":"Picture!E111","v":0},{"$f":"Picture!F111","v":0},{"$f":"Picture!G111","v":0},{"$f":"Picture!H111","v":0},{"$f":"Picture!I111","v":0},{"$f":"Picture!J111","v":0},{"$f":"Picture!K111","v":0},{"$f":"Picture!L111","v":0},{"$f":"Picture!M111","v":0},{"$f":"Picture!N111","v":0},{"$f":"Picture!O111","v":0},{"$f":"Picture!P111","v":0},{"$f":"Picture!Q111","v":0},{"$f":"Picture!R111","v":0},{"$f":"Picture!S111","v":0},{"$f":"Picture!T111","v":0},{"$f":"Picture!U111","v":0},{"$f":"Picture!V111","v":0},{"$f":"Picture!W111","v":0},{"$f":"Picture!X111","v":0},{"$f":"Picture!Y111","v":0},{"$f":"Picture!Z111","v":0},{"$f":"Picture!AA111","v":0},{"$f":"Picture!AB111","v":0},{"$f":"Picture!AC111","v":0},{"$f":"Picture!AD111","v":0},{"$f":"Picture!AE111","v":0},{"$f":"Picture!AF111","v":0},{"$f":"Picture!AG111","v":0},{"$f":"Picture!AH111","v":0},{"$f":"Picture!AI111","v":0},{"$f":"Picture!AJ111","v":0},{"$f":"Picture!AK111","v":0},{"$f":"Picture!AL111","v":0},{"$f":"Picture!AM111","v":0},{"$f":"Picture!AN111","v":0},{"$f":"Picture!AO111","v":0},{"$f":"Picture!AP111","v":0},{"$f":"Picture!AQ111","v":0},{"$f":"Picture!AR111","v":0},{"$f":"Picture!AS111","v":0},{"$f":"Picture!AT111","v":0},{"$f":"Picture!AU111","v":0},{"$f":"Picture!AV111","v":0},{"$f":"Picture!AW111","v":0},{"$f":"Picture!AX111","v":0},{"$f":"Picture!AY111","v":0},{"$f":"Picture!AZ111","v":0}]
[{"$f":"Picture!A112","v":0},{"$f":"Picture!B112","v":0},{"$f":"Picture!C112","v":0},{"$f":"Picture!D112","v":0},{"$f":"Picture!E112","v":0},{"$f":"Picture!F112","v":0},{"$f":"Picture!G112","v":0},{"$f":"Picture!H112","v":0},{"$f":"Picture!I112","v":0},{"$f":"Picture!J112","v":0},{"$f":"Picture!K112","v":0},{"$f":"Picture!L112","v":0},{"$f":"Picture!M112","v":0},{"$f":"Picture!N112","v":0},{"$f":"Picture!O112","v":0},{"$f":"Picture!P112","v":0},{"$f":"Picture!Q112","v":0},{"$f":"Picture!R112","v":0},{"$f":"Picture!S112","v":0},{"$f":"Picture!T112","v":0},{"$f":"Picture!U112","v":0},{"$f":"Picture!V112","v":0},{"$f":"Picture!W112","v":0},{"$f":"Picture!X112","v":0},{"$f":"Picture!Y112","v":0},{"$f":"Picture!Z112","v":0},{"$f":"Picture!AA112","v":0},{"$f":"Picture!AB112","v":0},{"$f":"Picture!AC112","v":0},{"$f":"Picture!AD112","v":0},{"$f":"Picture!AE112","v":0},{"$f":"Picture!AF112","v":0},{"$f":"Picture!AG112","v":0},{"$f":"Picture!AH112","v":0},{"$f":"Picture!AI112","v":0},{"$f":"Picture!AJ112","v":0},{"$f":"Picture!AK112","v":0},{"$f":"Picture!AL112","v":0},{"$f":"Picture!AM112","v":0},{"$f":"Picture!AN112","v":0},{"$f":"Picture!AO112","v":0},{"$f":"Picture!AP112","v":0},{"$f":"Picture!AQ112","v":0},{"$f":"Picture!AR112","v":0},{"$f":"Picture!AS112","v":0},{"$f":"Picture!AT112","v":0},{"$f":"Picture!AU112","v":0},{"$f":"Picture!AV112","v":0},{"$f":"Picture!AW112","v":0},{"$f":"Picture!AX112","v":0},{"$f":"Picture!AY112","v":0},{"$f":"Picture!AZ112","v":0}]
[{"$f":"Picture!A113","v":0},{"$f":"Picture!B113","v":0},{"$f":"Picture!C113","v":0},{"$f":"Picture!D113","v":0},{"$f":"Picture!E113","v":0},{"$f":"Picture!F113","v":0},{"$f":"Picture!G113","v":0},{"$f":"Picture!H113","v":0},{"$f":"Picture!I113","v":0},{"$f":"Picture!J113","v":0},{"$f":"Picture!K113","v":0},{"$f":"Picture!L113","v":0},{"$f":"Picture!M113","v":0},{"$f":"Picture!N113","v":0},{"$f":"Picture!O113","v":0},{"$f":"Picture!P113","v":0},{"$f":"Picture!Q113","v":0},{"$f":"Picture!R113","v":0},{"$f":"Picture!S113","v":0},{"$f":"Picture!T113","v":0},{"$f":"Picture!U113","v":0},{"$f":"Picture!V113","v":0},{"$f":"Picture!W113","v":0},{"$f":"Picture!X113","v":0},{"$f":"Picture!Y113","v":0},{"$f":"Picture!Z113","v":0},{"$f":"Picture!AA113","v":0},{"$f":"Picture!AB113","v":0},{"$f":"Picture!AC113","v":0},{"$f":"Picture!AD113","v":0},{"$f":"Picture!AE113","v":0},{"$f":"Picture!AF113","v":0},{"$f":"Picture!AG113","v":0},{"$f":"Picture!AH113","v":0},{"$f":"Picture!AI113","v":0},{"$f":"Picture!AJ113","v":0},{"$f":"Picture!AK113","v":0},{"$f":"Picture!AL113","v":0},{"$f":"Picture!AM113","v":0},{"$f":"Picture!AN113","v":0},{"$f":"Picture!AO113","v":0},{"$f":"Picture!AP113","v":0},{"$f":"Picture!AQ113","v":0},{"$f":"Picture!AR113","v":0},{"$f":"Picture!AS113","v":0},{"$f":"Picture!AT113","v":0},{"$f":"Picture!AU113","v":0},{"$f":"Picture!AV113","v":0},{"$f":"Picture!AW113","v":0},{"$f":"Picture!AX113","v":0},{"$f":"Picture!AY113","v":0},{"$f":"Picture!AZ113","v":0}]
[{"$f":"Picture!A114","v":0},{"$f":"Picture!B114","v":0},{"$f":"Picture!C114","v":0},{"$f":"Picture!D114","v":0},{"$f":"Picture!E114","v":0},{"$f":"Picture!F114","v":0},{"$f":"Picture!G114","v":0},{"$f":"Picture!H114","v":0},{"$f":"Picture!I114","v":0},{"$f":"Picture!J114","v":0},{"$f":"Picture!K114","v":0},{"$f":"Picture!L114","v":0},{"$f":"Picture!M114","v":0},{"$f":"Picture!N114","v":0},{"$f":"Picture!O114","v":0},{"$f":"Picture!P114","v":0},{"$f":"Picture!Q114","v":0},{"$f":"Picture!R114","v":0},{"$f":"Picture!S114","v":0},{"$f":"Picture!T114","v":0},{"$f":"Picture!U114","v":0},{"$f":"Picture!V114","v":0},{"$f":"Picture!W114","v":0},{"$f":"Picture!X114","v":0},{"$f":"Picture!Y114","v":0},{"$f":"Picture!Z114","v":0},{"$f":"Picture!AA114","v":0},{"$f":"Picture!AB114","v":0},{"$f":"Picture!AC114","v":0},{"$f":"Picture!AD114","v":0},{"$f":"Picture!AE114","v":0},{"$f":"Picture!AF114","v":0},{"$f":"Picture!AG114","v":0},{"$f":"Picture!AH114","v":0},{"$f":"Picture!AI114","v":0},{"$f":"Picture!AJ114","v":0},{"$f":"Picture!AK114","v":0},{"$f":"Picture!AL114","v":0},{"$f":"Picture!AM114","v":0},{"$f":"Picture!AN114","v":0},{"$f":"Picture!AO114","v":0},{"$f":"Picture!AP114","v":0},{"$f":"Picture!AQ114","v":0},{"$f":"Picture!AR114","v":0},{"$f":"Picture!AS114","v":0},{"$f":"Picture!AT114","v":0},{"$f":"Picture!AU114","v":0},{"$f":"Picture!AV114","v":0},{"$f":"Picture!AW114","v":0},{"$f":"Picture!AX114","v":0},{"$f":"Picture!AY114","v":0},{"$f":"Picture!AZ114","v":0}]
[{"$f":"Picture!A115","v":0},{"$f":"Picture!B115","v":0},{"$f":"Picture!C115","v":0},{"$f":"Picture!D115","v":0},{"$f":"Picture!E115","v":0},{"$f":"Picture!F115","v":0},{"$f":"Picture!G115","v":0},{"$f":"Picture!H115","v":0},{"$f":"Picture!I115","v":0},{"$f":"Picture!J115","v":0},{"$f":"Picture!K115","v":0},{"$f":"Picture!L115","v":0},{"$f":"Picture!M115","v":0},{"$f":"Picture!N115","v":0},{"$f":"Picture!O115","v":0},{"$f":"Picture!P115","v":0},{"$f":"Picture!Q115","v":0},{"$f":"Picture!R115","v":0},{"$f":"Picture!S115","v":0},{"$f":"Picture!T115","v":0},{"$f":"Picture!U115","v":0},{"$f":"Picture!V115","v":0},{"$f":"Picture!W115","v":0},{"$f":"Picture!X115","v":0},{"$f":"Picture!Y115","v":0},{"$f":"Picture!Z115","v":0},{"$f":"Picture!AA115","v":0},{"$f":"Picture!AB115","v":0},{"$f":"Picture!AC115","v":0},{"$f":"Picture!AD115","v":0},{"$f":"Picture!AE115","v":0},{"$f":"Picture!AF115","v":0},{"$f":"Picture!AG115","v":0},{"$f":"Picture!AH115","v":0},{"$f":"Picture!AI115","v":0},{"$f":"Picture!AJ115","v":0},{"$f":"Picture!AK115","v":0},{"$f":"Picture!AL115","v":0},{"$f":"Picture!AM115","v":0},{"$f":"Picture!AN115","v":0},{"$f":"Picture!AO115","v":0},{"$f":"Picture!AP115","v":0},{"$f":"Picture!AQ115","v":0},{"$f":"Picture!AR115","v":0},{"$f":"Picture!AS115","v":0},{"$f":"Picture!AT115","v":0},{"$f":"Picture!AU115","v":0},{"$f":"Picture!AV115","v":0},{"$f":"Picture!AW115","v":0},{"$f":"Picture!AX115","v":0},{"$f":"Picture!AY115","v":0},{"$f":"Picture!AZ115","v":0}]
[{"$f":"Picture!A116","v":0},{"$f":"Picture!B116","v":0},{"$f":"Picture!C116","v":0},{"$f":"Picture!D116","v":0},{"$f":"Picture!E116","v":0},{"$f":"Picture!F116","v":0},{"$f":"Picture!G116","v":0},{"$f":"Picture!H116","v":0},{"$f":"Picture!I116","v":0},{"$f":"Picture!J116","v":0},{"$f":"Picture!K116","v":0},{"$f":"Picture!L116","v":0},{"$f":"Picture!M116","v":0},{"$f":"Picture!N116","v":0},{"$f":"Picture!O116","v":0},{"$f":"Picture!P116","v":0},{"$f":"Picture!Q116","v":0},{"$f":"Picture!R116","v":0},{"$f":"Picture!S116","v":0},{"$f":"Picture!T116","v":0},{"$f":"Picture!U116","v":0},{"$f":"Picture!V116","v":0},{"$f":"Picture!W116","v":0},{"$f":"Picture!X116","v":0},{"$f":"Picture!Y116","v":0},{"$f":"Picture!Z116","v":0},{"$f":"Picture!AA116","v":0},{"$f":"Picture!AB116","v":0},{"$f":"Picture!AC116","v":0},{"$f":"Picture!AD116","v":0},{"$f":"Picture!AE116","v":0},{"$f":"Picture!AF116","v":0},{"$f":"Picture!AG116","v":0},{"$f":"Picture!AH116","v":0},{"$f":"Picture!AI116","v":0},{"$f":"Picture!AJ116","v":0},{"$f":"Picture!AK116","v":0},{"$f":"Picture!AL116","v":0},{"$f":"Picture!AM116","v":0},{"$f":"Picture!AN116","v":0},{"$f":"Picture!AO116","v":0},{"$f":"Picture!AP116","v":0},{"$f":"Picture!AQ116","v":0},{"$f":"Picture!AR116","v":0},{"$f":"Picture!AS116","v":0},{"$f":"Picture!AT116","v":0},{"$f":"Picture!AU116","v":0},{"$f":"Picture!AV116","v":0},{"$f":"Picture!AW116","v":0},{"$f":"Picture!AX116","v":0},{"$f":"Picture!AY116","v":0},{"$f":"Picture!AZ116","v":0}]
[{"$f":"Picture!A117","v":0},{"$f":"Picture!B117","v":0},{"$f":"Picture!C117","v":0},{"$f":"Picture!D117","v":0},{"$f":"Picture!E117","v":0},{"$f":"Picture!F117","v":0},{"$f":"Picture!G117","v":0},{"$f":"Picture!H117","v":0},{"$f":"Picture!I117","v":0},{"$f":"Picture!J117","v":0},{"$f":"Picture!K117","v":0},{"$f":"Picture!L117","v":0},{"$f":"Picture!M117","v":0},{"$f":"Picture!N117","v":0},{"$f":"Picture!O117","v":0},{"$f":"Picture!P117","v":0},{"$f":"Picture!Q117","v":0},{"$f":"Picture!R117","v":0},{"$f":"Picture!S117","v":0},{"$f":"Picture!T117","v":0},{"$f":"Picture!U117","v":0},{"$f":"Picture!V117","v":0},{"$f":"Picture!W117","v":0},{"$f":"Picture!X117","v":0},{"$f":"Picture!Y117","v":0},{"$f":"Picture!Z117","v":0},{"$f":"Picture!AA117","v":0},{"$f":"Picture!AB117","v":0},{"$f":"Picture!AC117","v":0},{"$f":"Picture!AD117","v":0},{"$f":"Picture!AE117","v":0},{"$f":"Picture!AF117","v":0},{"$f":"Picture!AG117","v":0},{"$f":"Picture!AH117","v":0},{"$f":"Picture!AI117","v":0},{"$f":"Picture!AJ117","v":0},{"$f":"Picture!AK117","v":0},{"$f":"Picture!AL117","v":0},{"$f":"Picture!AM117","v":0},{"$f":"Picture!AN117","v":0},{"$f":"Picture!AO117","v":0},{"$f":"Picture!AP117","v":0},{"$f":"Picture!AQ117","v":0},{"$f":"Picture!AR117","v":0},{"$f":"Picture!AS117","v":0},{"$f":"Picture!AT117","v":0},{"$f":"Picture!AU117","v":0},{"$f":"Picture!AV117","v":0},{"$f":"Picture!AW117","v":0},{"$f":"Picture!AX117","v":0},{"$f":"Picture!AY117","v":0},{"$f":"Picture!AZ117","v":0}]
[{"$f":"Picture!A118","v":0},{"$f":"Picture!B118","v":0},{"$f":"Picture!C118","v":0},{"$f":"Picture!D118","v":0},{"$f":"Picture!E118","v":0},{"$f":"Picture!F118","v":0},{"$f":"Picture!G118","v":0},{"$f":"Picture!H118","v":0},{"$f":"Picture!I118","v":0},{"$f":"Picture!J118","v":0},{"$f":"Picture!K118","v":0},{"$f":"Picture!L118","v":0},{"$f":"Picture!M118","v":0},{"$f":"Picture!N118","v":0},{"$f":"Picture!O118","v":0},{"$f":"Picture!P118","v":0},{"$f":"Picture!Q118","v":0},{"$f":"Picture!R118","v":0},{"$f":"Picture!S118","v":0},{"$f":"Picture!T118","v":0},{"$f":"Picture!U118","v":0},{"$f":"Picture!V118","v":0},{"$f":"Picture!W118","v":0},{"$f":"Picture!X118","v":0},{"$f":"Picture!Y118","v":0},{"$f":"Picture!Z118","v":0},{"$f":"Picture!AA118","v":0},{"$f":"Picture!AB118","v":0},{"$f":"Picture!AC118","v":0},{"$f":"Picture!AD118","v":0},{"$f":"Picture!AE118","v":0},{"$f":"Picture!AF118","v":0},{"$f":"Picture!AG118","v":0},{"$f":"Picture!AH118","v":0},{"$f":"Picture!AI118","v":0},{"$f":"Picture!AJ118","v":0},{"$f":"Picture!AK118","v":0},{"$f":"Picture!AL118","v":0},{"$f":"Picture!AM118","v":0},{"$f":"Picture!AN118","v":0},{"$f":"Picture!AO118","v":0},{"$f":"Picture!AP118","v":0},{"$f":"Picture!AQ118","v":0},{"$f":"Picture!AR118","v":0},{"$f":"Picture!AS118","v":0},{"$f":"Picture!AT118","v":0},{"$f":"Picture!AU118","v":0},{"$f":"Picture!AV118","v":0},{"$f":"Picture!AW118","v":0},{"$f":"Picture!AX118","v":0},{"$f":"Picture!AY118","v":0},{"$f":"Picture!AZ118","v":0}]
[{"$f":"Picture!A119","v":0},{"$f":"Picture!B119","v":0},{"$f":"Picture!C119","v":0},{"$f":"Picture!D119","v":0},{"$f":"Picture!E119","v":0},{"$f":"Picture!F119","v":0},{"$f":"Picture!G119","v":0},{"$f":"Picture!H119","v":0},{"$f":"Picture!I119","v":0},{"$f":"Picture!J119","v":0},{"$f":"Picture!K119","v":0},{"$f":"Picture!L119","v":0},{"$f":"Picture!M119","v":0},{"$f":"Picture!N119","v":0},{"$f":"Picture!O119","v":0},{"$f":"Picture!P119","v":0},{"$f":"Picture!Q119","v":0},{"$f":"Picture!R119","v":0},{"$f":"Picture!S119","v":0},{"$f":"Picture!T119","v":0},{"$f":"Picture!U119","v":0},{"$f":"Picture!V119","v":0},{"$f":"Picture!W119","v":0},{"$f":"Picture!X119","v":0},{"$f":"Picture!Y119","v":0},{"$f":"Picture!Z119","v":0},{"$f":"Picture!AA119","v":0},{"$f":"Picture!AB119","v":0},{"$f":"Picture!AC119","v":0},{"$f":"Picture!AD119","v":0},{"$f":"Picture!AE119","v":0},{"$f":"Picture!AF119","v":0},{"$f":"Picture!AG119","v":0},{"$f":"Picture!AH119","v":0},{"$f":"Picture!AI119","v":0},{"$f":"Picture!AJ119","v":0},{"$f":"Picture!AK119","v":0},{"$f":"Picture!AL119","v":0},{"$f":"Picture!AM119","v":0},{"$f":"Picture!AN119","v":0},{"$f":"Picture!AO119","v":0},{"$f":"Picture!AP119","v":0},{"$f":"Picture!AQ119","v":0},{"$f":"Picture!AR119","v":0},{"$f":"Picture!AS119","v":0},{"$f":"Picture!AT119","v":0},{"$f":"Picture!AU119","v":0},{"$f":"Picture!AV119","v":0},{"$f":"Picture!AW119","v":0},{"$f":"Picture!AX119","v":0},{"$f":"Picture!AY119","v":0},{"$f":"Picture!AZ119","v":0}]
[{"$f":"Picture!A120","v":0},{"$f":"Picture!B120","v":0},{"$f":"Picture!C120","v":0},{"$f":"Picture!D120","v":0},{"$f":"Picture!E120","v":0},{"$f":"Picture!F120","v":0},{"$f":"Picture!G120","v":0},{"$f":"Picture!H120","v":0},{"$f":"Picture!I120","v":0},{"$f":"Picture!J120","v":0},{"$f":"Picture!K120","v":0},{"$f":"Picture!L120","v":0},{"$f":"Picture!M120","v":0},{"$f":"Picture!N120","v":0},{"$f":"Picture!O120","v":0},{"$f":"Picture!P120","v":0},{"$f":"Picture!Q120","v":0},{"$f":"Picture!R120","v":0},{"$f":"Picture!S120","v":0},{"$f":"Picture!T120","v":0},{"$f":"Picture!U120","v":0},{"$f":"Picture!V120","v":0},{"$f":"Picture!W120","v":0},{"$f":"Picture!X120","v":0},{"$f":"Picture!Y120","v":0},{"$f":"Picture!Z120","v":0},{"$f":"Picture!AA120","v":0},{"$f":"Picture!AB120","v":0},{"$f":"Picture!AC120","v":0},{"$f":"Picture!AD120","v":0},{"$f":"Picture!AE120","v":0},{"$f":"Picture!AF120","v":0},{"$f":"Picture!AG120","v":0},{"$f":"Picture!AH120","v":0},{"$f":"Picture!AI120","v":0},{"$f":"Picture!AJ120","v":0},{"$f":"Picture!AK120","v":0},{"$f":"Picture!AL120","v":0},{"$f":"Picture!AM120","v":0},{"$f":"Picture!AN120","v":0},{"$f":"Picture!AO120","v":0},{"$f":"Picture!AP120","v":0},{"$f":"Picture!AQ120","v":0},{"$f":"Picture!AR120","v":0},{"$f":"Picture!AS120","v":0},{"$f":"Picture!AT120","v":0},{"$f":"Picture!AU120","v":0},{"$f":"Picture!AV120","v":0},{"$f":"Picture!AW120","v":0},{"$f":"Picture!AX120","v":0},{"$f":"Picture!AY120","v":0},{"$f":"Picture!AZ120","v":0}]
[{"$f":"Picture!A121","v":0},{"$f":"Picture!B121","v":0},{"$f":"Picture!C121","v":0},{"$f":"Picture!D121","v":0},{"$f":"Picture!E121","v":0},{"$f":"Picture!F121","v":0},{"$f":"Picture!G121","v":0},{"$f":"Picture!H121","v":0},{"$f":"Picture!I121","v":0},{"$f":"Picture!J121","v":0},{"$f":"Picture!K121","v":0},{"$f":"Picture!L121","v":0},{"$f":"Picture!M121","v":0},{"$f":"Picture!N121","v":0},{"$f":"Picture!O121","v":0},{"$f":"Picture!P121","v":0},{"$f":"Picture!Q121","v":0},{"$f":"Picture!R121","v":0},{"$f":"Picture!S121","v":0},{"$f":"Picture!T121","v":0},{"$f":"Picture!U121","v":0},{"$f":"Picture!V121","v":0},{"$f":"Picture!W121","v":0},{"$f":"Picture!X121","v":0},{"$f":"Picture!Y121","v":0},{"$f":"Picture!Z121","v":0},{"$f":"Picture!AA121","v":0},{"$f":"Picture!AB121","v":0},{"$f":"Picture!AC121","v":0},{"$f":"Picture!AD121","v":0},{"$f":"Picture!AE121","v":0},{"$f":"Picture!AF121","v":0},{"$f":"Picture!AG121","v":0},{"$f":"Picture!AH121","v":0},{"$f":"Picture!AI121","v":0},{"$f":"Picture!AJ121","v":0},{"$f":"Picture!AK121","v":0},{"$f":"Picture!AL121","v":0},{"$f":"Picture!AM121","v":0},{"$f":"Picture!AN121","v":0},{"$f":"Picture!AO121","v":0},{"$f":"Picture!AP121","v":0},{"$f":"Picture!AQ121","v":0},{"$f":"Picture!AR121","v":0},{"$f":"Picture!AS121","v":0},{"$f":"Picture!AT121","v":0},{"$f":"Picture!AU121","v":0},{"$f":"Picture!AV121","v":0},{"$f":"Picture!AW121","v":0},{"$f":"Picture!AX121","v":0},{"$f":"Picture!AY121","v":0},{"$f":"Picture!AZ121","v":0}]
[{"$f":"Picture!A122","v":0},{"$f":"Picture!B122","v":0},{"$f":"Picture!C122","v":0},{"$f":"Picture!D122","v":0},{"$f":"Picture!E122","v":0},{"$f":"Picture!F122","v":0},{"$f":"Picture!G122","v":0},{"$f":"Picture!H122","v":0},{"$f":"Picture!I122","v":0},{"$f":"Picture!J122","v":0},{"$f":"Picture!K122","v":0},{"$f":"Picture!L122","v":0},{"$f":"Picture!M122","v":0},{"$f":"Picture!N122","v":0},{"$f":"Picture!O122","v":0},{"$f":"Picture!P122","v":0},{"$f":"Picture!Q122","v":0},{"$f":"Picture!R122","v":0},{"$f":"Picture!S122","v":0},{"$f":"Picture!T122","v":0},{"$f":"Picture!U122","v":0},{"$f":"Picture!V122","v":0},{"$f":"Picture!W122","v":0},{"$f":"Picture!X122","v":0},{"$f":"Picture!Y122","v":0},{"$f":"Picture!Z122","v":0},{"$f":"Picture!AA122","v":0},{"$f":"Picture!AB122","v":0},{"$f":"Picture!AC122","v":0},{"$f":"Picture!AD122","v":0},{"$f":"Picture!AE122","v":0},{"$f":"Picture!AF122","v":0},{"$f":"Picture!AG122","v":0},{"$f":"Picture!AH122","v":0},{"$f":"Picture!AI122","v":0},{"$f":"Picture!AJ122","v":0},{"$f":"Picture!AK122","v":0},{"$f":"Picture!AL122","v":0},{"$f":"Picture!AM122","v":0},{"$f":"Picture!AN122","v":0},{"$f":"Picture!AO122","v":0},{"$f":"Picture!AP122","v":0},{"$f":"Picture!AQ122","v":0},{"$f":"Picture!AR122","v":0},{"$f":"Picture!AS122","v":0},{"$f":"Picture!AT122","v":0},{"$f":"Picture!AU122","v":0},{"$f":"Picture!AV122","v":0},{"$f":"Picture!AW122","v":0},{"$f":"Picture!AX122","v":0},{"$f":"Picture!AY122","v":0},{"$f":"Picture!AZ122","v":0}]
[{"$f":"Picture!A123","v":0},{"$f":"Picture!B123","v":0},{"$f":"Picture!C123","v":0},{"$f":"Picture!D123","v":0},{"$f":"Picture!E123","v":0},{"$f":"Picture!F123","v":0},{"$f":"Picture!G123","v":0},{"$f":"Picture!H123","v":0},{"$f":"Picture!I123","v":0},{"$f":"Picture!J123","v":0},{"$f":"Picture!K123","v":0},{"$f":"Picture!L123","v":0},{"$f":"Picture!M123","v":0},{"$f":"Picture!N123","v":0},{"$f":"Picture!O123","v":0},{"$f":"Picture!P123","v":0},{"$f":"Picture!Q123","v":0},{"$f":"Picture!R123","v":0},{"$f":"Picture!S123","v":0},{"$f":"Picture!T123","v":0},{"$f":"Picture!U123","v":0},{"$f":"Picture!V123","v":0},{"$f":"Picture!W123","v":0},{"$f":"Picture!X123","v":0},{"$f":"Picture!Y123","v":0},{"$f":"Picture!Z123","v":0},{"$f":"Picture!AA123","v":0},{"$f":"Picture!AB123","v":0},{"$f":"Picture!AC123","v":0},{"$f":"Picture!AD123","v":0},{"$f":"Picture!AE123","v":0},{"$f":"Picture!AF123","v":0},{"$f":"Picture!AG123","v":0},{"$f":"Picture!AH123","v":0},{"$f":"Picture!AI123","v":0},{"$f":"Picture!AJ123","v":0},{"$f":"Picture!AK123","v":0},{"$f":"Picture!AL123","v":0},{"$f":"Picture!AM123","v":0},{"$f":"Picture!AN123","v":0},{"$f":"Picture!AO123","v":0},{"$f":"Picture!AP123","v":0},{"$f":"Picture!AQ123","v":0},{"$f":"Picture!AR123","v":0},{"$f":"Picture!AS123","v":0},{"$f":"Picture!AT123","v":0},{"$f":"Picture!AU123","v":0},{"$f":"Picture!AV123","v":0},{"$f":"Picture!AW123","v":0},{"$f":"Picture!AX123","v":0},{"$f":"Picture!AY123","v":0},{"$f":"Picture!AZ123","v":0}]
[{"$f":"Picture!A124","v":0},{"$f":"Picture!B124","v":0},{"$f":"Picture!C124","v":0},{"$f":"Picture!D124","v":0},{"$f":"Picture!E124","v":0},{"$f":"Picture!F124","v":0},{"$f":"Picture!G124","v":0},{"$f":"Picture!H124","v":0},{"$f":"Picture!I124","v":0},{"$f":"Picture!J124","v":0},{"$f":"Picture!K124","v":0},{"$f":"Picture!L124","v":0},{"$f":"Picture!M124","v":0},{"$f":"Picture!N124","v":0},{"$f":"Picture!O124","v":0},{"$f":"Picture!P124","v":0},{"$f":"Picture!Q124","v":0},{"$f":"Picture!R124","v":0},{"$f":"Picture!S124","v":0},{"$f":"Picture!T124","v":0},{"$f":"Picture!U124","v":0},{"$f":"Picture!V124","v":0},{"$f":"Picture!W124","v":0},{"$f":"Picture!X124","v":0},{"$f":"Picture!Y124","v":0},{"$f":"Picture!Z124","v":0},{"$f":"Picture!AA124","v":0},{"$f":"Picture!AB124","v":0},{"$f":"Picture!AC124","v":0},{"$f":"Picture!AD124","v":0},{"$f":"Picture!AE124","v":0},{"$f":"Picture!AF124","v":0},{"$f":"Picture!AG124","v":0},{"$f":"Picture!AH124","v":0},{"$f":"Picture!AI124","v":0},{"$f":"Picture!AJ124","v":0},{"$f":"Picture!AK124","v":0},{"$f":"Picture!AL124","v":0},{"$f":"Picture!AM124","v":0},{"$f":"Picture!AN124","v":0},{"$f":"Picture!AO124","v":0},{"$f":"Picture!AP124","v":0},{"$f":"Picture!AQ124","v":0},{"$f":"Picture!AR124","v":0},{"$f":"Picture!AS124","v":0},{"$f":"Picture!AT124","v":0},{"$f":"Picture!AU124","v":0},{"$f":"Picture!AV124","v":0},{"$f":"Picture!AW124","v":0},{"$f":"Picture!AX124","v":0},{"$f":"Picture!AY124","v":0},{"$f":"Picture!AZ124","v":0}]
[{"$f":"Picture!A125","v":0},{"$f":"Picture!B125","v":0},{"$f":"Picture!C125","v":0},{"$f":"Picture!D125","v":0},{"$f":"Picture!E125","v":0},{"$f":"Picture!F125","v":0},{"$f":"Picture!G125","v":0},{"$f":"Picture!H125","v":0},{"$f":"Picture!I125","v":0},{"$f":"Picture!J125","v":0},{"$f":"Picture!K125","v":0},{"$f":"Picture!L125","v":0},{"$f":"Picture!M125","v":0},{"$f":"Picture!N125","v":0},{"$f":"Picture!O125","v":0},{"$f":"Picture!P125","v":0},{"$f":"Picture!Q125","v":0},{"$f":"Picture!R125","v":0},{"$f":"Picture!S125","v":0},{"$f":"Picture!T125","v":0},{"$f":"Picture!U125","v":0},{"$f":"Picture!V125","v":0},{"$f":"Picture!W125","v":0},{"$f":"Picture!X125","v":0},{"$f":"Picture!Y125","v":0},{"$f":"Picture!Z125","v":0},{"$f":"Picture!AA125","v":0},{"$f":"Picture!AB125","v":0},{"$f":"Picture!AC125","v":0},{"$f":"Picture!AD125","v":0},{"$f":"Picture!AE125","v":0},{"$f":"Picture!AF125","v":0},{"$f":"Picture!AG125","v":0},{"$f":"Picture!AH125","v":0},{"$f":"Picture!AI125","v":0},{"$f":"Picture!AJ125","v":0},{"$f":"Picture!AK125","v":0},{"$f":"Picture!AL125","v":0},{"$f":"Picture!AM125","v":0},{"$f":"Picture!AN125","v":0},{"$f":"Picture!AO125","v":0},{"$f":"Picture!AP125","v":0},{"$f":"Picture!AQ125","v":0},{"$f":"Picture!AR125","v":0},{"$f":"Picture!AS125","v":0},{"$f":"Picture!AT125","v":0},{"$f":"Picture!AU125","v":0},{"$f":"Picture!AV125","v":0},{"$f":"Picture!AW125","v":0},{"$f":"Picture!AX125","v":0},{"$f":"Picture!AY125","v":0},{"$f":"Picture!AZ125","v":0}]
[{"$f":"Picture!A126","v":0},{"$f":"Picture!B126","v":0},{"$f":"Picture!C126","v":0},{"$f":"Picture!D126","v":0},{"$f":"Picture!E126","v":0},{"$f":"Picture!F126","v":0},{"$f":"Picture!G126","v":0},{"$f":"Picture!H126","v":0},{"$f":"Picture!I126","v":0},{"$f":"Picture!J126","v":0},{"$f":"Picture!K126","v":0},{"$f":"Picture!L126","v":0},{"$f":"Picture!M126","v":0},{"$f":"Picture!N126","v":0},{"$f":"Picture!O126","v":0},{"$f":"Picture!P126","v":0},{"$f":"Picture!Q126","v":0},{"$f":"Picture!R126","v":0},{"$f":"Picture!S126","v":0},{"$f":"Picture!T126","v":0},{"$f":"Picture!U126","v":0},{"$f":"Picture!V126","v":0},{"$f":"Picture!W126","v":0},{"$f":"Picture!X126","v":0},{"$f":"Picture!Y126","v":0},{"$f":"Picture!Z126","v":0},{"$f":"Picture!AA126","v":0},{"$f":"Picture!AB126","v":0},{"$f":"Picture!AC126","v":0},{"$f":"Picture!AD126","v":0},{"$f":"Picture!AE126","v":0},{"$f":"Picture!AF126","v":0},{"$f":"Picture!AG126","v":0},{"$f":"Picture!AH126","v":0},{"$f":"Picture!AI126","v":0},{"$f":"Picture!AJ126","v":0},{"$f":"Picture!AK126","v":0},{"$f":"Picture!AL126","v":0},{"$f":"Picture!AM126","v":0},{"$f":"Picture!AN126","v":0},{"$f":"Picture!AO126","v":0},{"$f":"Picture!AP126","v":0},{"$f":"Picture!AQ126","v":0},{"$f":"Picture!AR126","v":0},{"$f":"Picture!AS126","v":0},{"$f":"Picture!AT126","v":0},{"$f":"Picture!AU126","v":0},{"$f":"Picture!AV126","v":0},{"$f":"Picture!AW126","v":0},{"$f":"Picture!AX126","v":0},{"$f":"Picture!AY126","v":0},{"$f":"Picture!AZ126","v":0}]
[{"$f":"Picture!A127","v":0},{"$f":"Picture!B127","v":0},{"$f":"Picture!C127","v":0},{"$f":"Picture!D127","v":0},{"$f":"Picture!E127","v":0},{"$f":"Picture!F127","v":0},{"$f":"Picture!G127","v":0},{"$f":"Picture!H127","v":0},{"$f":"Picture!I127","v":0},{"$f":"Picture!J127","v":0},{"$f":"Picture!K127","v":0},{"$f":"Picture!L127","v":0},{"$f":"Picture!M127","v":0},{"$f":"Picture!N127","v":0},{"$f":"Picture!O127","v":0},{"$f":"Picture!P127","v":0},{"$f":"Picture!Q127","v":0},{"$f":"Picture!R127","v":0},{"$f":"Picture!S127","v":0},{"$f":"Picture!T127","v":0},{"$f":"Picture!U127","v":0},{"$f":"Picture!V127","v":0},{"$f":"Picture!W127","v":0},{"$f":"Picture!X127","v":0},{"$f":"Picture!Y127","v":0},{"$f":"Picture!Z127","v":0},{"$f":"Picture!AA127","v":0},{"$f":"Picture!AB127","v":0},{"$f":"Picture!AC127","v":0},{"$f":"Picture!AD127","v":0},{"$f":"Picture!AE127","v":0},{"$f":"Picture!AF127","v":0},{"$f":"Picture!AG127","v":0},{"$f":"Picture!AH127","v":0},{"$f":"Picture!AI127","v":0},{"$f":"Picture!AJ127","v":0},{"$f":"Picture!AK127","v":0},{"$f":"Picture!AL127","v":0},{"$f":"Picture!AM127","v":0},{"$f":"Picture!AN127","v":0},{"$f":"Picture!AO127","v":0},{"$f":"Picture!AP127","v":0},{"$f":"Picture!AQ127","v":0},{"$f":"Picture!AR127","v":0},{"$f":"Picture!AS127","v":0},{"$f":"Picture!AT127","v":0},{"$f":"Picture!AU127","v":0},{"$f":"Picture!AV127","v":0},{"$f":"Picture!AW127","v":0},{"$f":"Picture!AX127","v":0},{"$f":"Picture!AY127","v":0},{"$f":"Picture!AZ127","v":0}]
[{"$f":"Picture!A128","v":0},{"$f":"Picture!B128","v":0},{"$f":"Picture!C128","v":0},{"$f":"Picture!D128","v":0},{"$f":"Picture!E128","v":0},{"$f":"Picture!F128","v":0},{"$f":"Picture!G128","v":0},{"$f":"Picture!H128","v":0},{"$f":"Picture!I128","v":0},{"$f":"Picture!J128","v":0},{"$f":"Picture!K128","v":0},{"$f":"Picture!L128","v":0},{"$f":"Picture!M128","v":0},{"$f":"Picture!N128","v":0},{"$f":"Picture!O128","v":0},{"$f":"Picture!P128","v":0},{"$f":"Picture!Q128","v":0},{"$f":"Picture!R128","v":0},{"$f":"Picture!S128","v":0},{"$f":"Picture!T128","v":0},{"$f":"Picture!U128","v":0},{"$f":"Picture!V128","v":0},{"$f":"Picture!W128","v":0},{"$f":"Picture!X128","v":0},{"$f":"Picture!Y128","v":0},{"$f":"Picture!Z128","v":0},{"$f":"Picture!AA128","v":0},{"$f":"Picture!AB128","v":0},{"$f":"Picture!AC128","v":0},{"$f":"Picture!AD128","v":0},{"$f":"Picture!AE128","v":0},{"$f":"Picture!AF128","v":0},{"$f":"Picture!AG128","v":0},{"$f":"Picture!AH128","v":0},{"$f":"Picture!AI128","v":0},{"$f":"Picture!AJ128","v":0},{"$f":"Picture!AK128","v":0},{"$f":"Picture!AL128","v":0},{"$f":"Picture!AM128","v":0},{"$f":"Picture!AN128","v":0},{"$f":"Picture!AO128","v":0},{"$f":"Picture!AP128","v":0},{"$f":"Picture!AQ128","v":0},{"$f":"Picture!AR128","v":0},{"$f":"Picture!AS128","v":0},{"$f":"Picture!AT128","v":0},{"$f":"Picture!AU128","v":0},{"$f":"Picture!AV128","v":0},{"$f":"Picture!AW128","v":0},{"$f":"Picture!AX128","v":0},{"$f":"Picture!AY128","v":0},{"$f":"Picture!AZ128","v":0}]
[{"$f":"Picture!A129","v":0},{"$f":"Picture!B129","v":0},{"$f":"Picture!C129","v":0},{"$f":"Picture!D129","v":0},{"$f":"Picture!E129","v":0},{"$f":"Picture!F129","v":0},{"$f":"Picture!G129","v":0},{"$f":"Picture!H129","v":0},{"$f":"Picture!I129","v":0},{"$f":"Picture!J129","v":0},{"$f":"Picture!K129","v":0},{"$f":"Picture!L129","v":0},{"$f":"Picture!M129","v":0},{"$f":"Picture!N129","v":0},{"$f":"Picture!O129","v":0},{"$f":"Picture!P129","v":0},{"$f":"Picture!Q129","v":0},{"$f":"Picture!R129","v":0},{"$f":"Picture!S129","v":0},{"$f":"Picture!T129","v":0},{"$f":"Picture!U129","v":0},{"$f":"Picture!V129","v":0},{"$f":"Picture!W129","v":0},{"$f":"Picture!X129","v":0},{"$f":"Picture!Y129","v":0},{"$f":"Picture!Z129","v":0},{"$f":"Picture!AA129","v":0},{"$f":"Picture!AB129","v":0},{"$f":"Picture!AC129","v":0},{"$f":"Picture!AD129","v":0},{"$f":"Picture!AE129","v":0},{"$f":"Picture!AF129","v":0},{"$f":"Picture!AG129","v":0},{"$f":"Picture!AH129","v":0},{"$f":"Picture!AI129","v":0},{"$f":"Picture!AJ129","v":0},{"$f":"Picture!AK129","v":0},{"$f":"Picture!AL129","v":0},{"$f":"Picture!AM129","v":0},{"$f":"Picture!AN129","v":0},{"$f":"Picture!AO129","v":0},{"$f":"Picture!AP129","v":0},{"$f":"Picture!AQ129","v":0},{"$f":"Picture!AR129","v":0},{"$f":"Picture!AS129","v":0},{"$f":"Picture!AT129","v":0},{"$f":"Picture!AU129","v":0},{"$f":"Picture!AV129","v":0},{"$f":"Picture!AW129","v":0},{"$f":"Picture!AX129","v":0},{"$f":"Picture!AY129","v":0},{"$f":"Picture!AZ129","v":0}]
[{"$f":"Picture!A130","v":0},{"$f":"Picture!B130","v":0},{"$f":"Picture!C130","v":0},{"$f":"Picture!D130","v":0},{"$f":"Picture!E130","v":0},{"$f":"Picture!F130","v":0},{"$f":"Picture!G130","v":0},{"$f":"Picture!H130","v":0},{"$f":"Picture!I130","v":0},{"$f":"Picture!J130","v":0},{"$f":"Picture!K130","v":0},{"$f":"Picture!L130","v":0},{"$f":"Picture!M130","v":0},{"$f":"Picture!N130","v":0},{"$f":"Picture!O130","v":0},{"$f":"Picture!P130","v":0},{"$f":"Picture!Q130","v":0},{"$f":"Picture!R130","v":0},{"$f":"Picture!S130","v":0},{"$f":"Picture!T130","v":0},{"$f":"Picture!U130","v":0},{"$f":"Picture!V130","v":0},{"$f":"Picture!W130","v":0},{"$f":"Picture!X130","v":0},{"$f":"Picture!Y130","v":0},{"$f":"Picture!Z130","v":0},{"$f":"Picture!AA130","v":0},{"$f":"Picture!AB130","v":0},{"$f":"Picture!AC130","v":0},{"$f":"Picture!AD130","v":0},{"$f":"Picture!AE130","v":0},{"$f":"Picture!AF130","v":0},{"$f":"Picture!AG130","v":0},{"$f":"Picture!AH130","v":0},{"$f":"Picture!AI130","v":0},{"$f":"Picture!AJ130","v":0},{"$f":"Picture!AK130","v":0},{"$f":"Picture!AL130","v":0},{"$f":"Picture!AM130","v":0},{"$f":"Picture!AN130","v":0},{"$f":"Picture!AO130","v":0},{"$f":"Picture!AP130","v":0},{"$f":"Picture!AQ130","v":0},{"$f":"Picture!AR130","v":0},{"$f":"Picture!AS130","v":0},{"$f":"Picture!AT130","v":0},{"$f":"Picture!AU130","v":0},{"$f":"Picture!AV130","v":0},{"$f":"Picture!AW130","v":0},{"$f":"Picture!AX130","v":0},{"$f":"Picture!AY130","v":0},{"$f":"Picture!AZ130","v":0}]
[{"$f":"Picture!A131","v":0},{"$f":"Picture!B131","v":0},{"$f":"Picture!C131","v":0},{"$f":"Picture!D131","v":0},{"$f":"Picture!E131","v":0},{"$f":"Picture!F131","v":0},{"$f":"Picture!G131","v":0},{"$f":"Picture!H131","v":0},{"$f":"Picture!I131","v":0},{"$f":"Picture!J131","v":0},{"$f":"Picture!K131","v":0},{"$f":"Picture!L131","v":0},{"$f":"Picture!M131","v":0},{"$f":"Picture!N131","v":0},{"$f":"Picture!O131","v":0},{"$f":"Picture!P131","v":0},{"$f":"Picture!Q131","v":0},{"$f":"Picture!R131","v":0},{"$f":"Picture!S131","v":0},{"$f":"Picture!T131","v":0},{"$f":"Picture!U131","v":0},{"$f":"Picture!V131","v":0},{"$f":"Picture!W131","v":0},{"$f":"Picture!X131","v":0},{"$f":"Picture!Y131","v":0},{"$f":"Picture!Z131","v":0},{"$f":"Picture!AA131","v":0},{"$f":"Picture!AB131","v":0},{"$f":"Picture!AC131","v":0},{"$f":"Picture!AD131","v":0},{"$f":"Picture!AE131","v":0},{"$f":"Picture!AF131","v":0},{"$f":"Picture!AG131","v":0},{"$f":"Picture!AH131","v":0},{"$f":"Picture!AI131","v":0},{"$f":"Picture!AJ131","v":0},{"$f":"Picture!AK131","v":0},{"$f":"Picture!AL131","v":0},{"$f":"Picture!AM131","v":0},{"$f":"Picture!AN131","v":0},{"$f":"Picture!AO131","v":0},{"$f":"Picture!AP131","v":0},{"$f":"Picture!AQ131","v":0},{"$f":"Picture!AR131","v":0},{"$f":"Picture!AS131","v":0},{"$f":"Picture!AT131","v":0},{"$f":"Picture!AU131","v":0},{"$f":"Picture!AV131","v":0},{"$f":"Picture!AW131","v":0},{"$f":"Picture!AX131","v":0},{"$f":"Picture!AY131","v":0},{"$f":"Picture!AZ131","v":0}]
[{"$f":"Picture!A132","v":0},{"$f":"Picture!B132","v":0},{"$f":"Picture!C132","v":0},{"$f":"Picture!D132","v":0},{"$f":"Picture!E132","v":0},{"$f":"Picture!F132","v":0},{"$f":"Picture!G132","v":0},{"$f":"Picture!H132","v":0},{"$f":"Picture!I132","v":0},{"$f":"Picture!J132","v":0},{"$f":"Picture!K132","v":0},{"$f":"Picture!L132","v":0},{"$f":"Picture!M132","v":0},{"$f":"Picture!N132","v":0},{"$f":"Picture!O132","v":0},{"$f":"Picture!P132","v":0},{"$f":"Picture!Q132","v":0},{"$f":"Picture!R132","v":0},{"$f":"Picture!S132","v":0},{"$f":"Picture!T132","v":0},{"$f":"Picture!U132","v":0},{"$f":"Picture!V132","v":0},{"$f":"Picture!W132","v":0},{"$f":"Picture!X132","v":0},{"$f":"Picture!Y132","v":0},{"$f":"Picture!Z132","v":0},{"$f":"Picture!AA132","v":0},{"$f":"Picture!AB132","v":0},{"$f":"Picture!AC132","v":0},{"$f":"Picture!AD132","v":0},{"$f":"Picture!AE132","v":0},{"$f":"Picture!AF132","v":0},{"$f":"Picture!AG132","v":0},{"$f":"Picture!AH132","v":0},{"$f":"Picture!AI132","v":0},{"$f":"Picture!AJ132","v":0},{"$f":"Picture!AK132","v":0},{"$f":"Picture!AL132","v":0},{"$f":"Picture!AM132","v":0},{"$f":"Picture!AN132","v":0},{"$f":"Picture!AO132","v":0},{"$f":"Picture!AP132","v":0},{"$f":"Picture!AQ132","v":0},{"$f":"Picture!AR132","v":0},{"$f":"Picture!AS132","v":0},{"$f":"Picture!AT132","v":0},{"$f":"Picture!AU132","v":0},{"$f":"Picture!AV132","v":0},{"$f":"Picture!AW132","v":0},{"$f":"Picture!AX132","v":0},{"$f":"Picture!AY132","v":0},{"$f":"Picture!AZ132","v":0}]
[{"$f":"Picture!A133","v":0},{"$f":"Picture!B133","v":0},{"$f":"Picture!C133","v":0},{"$f":"Picture!D133","v":0},{"$f":"Picture!E133","v":0},{"$f":"Picture!F133","v":0},{"$f":"Picture!G133","v":0},{"$f":"Picture!H133","v":0},{"$f":"Picture!I133","v":0},{"$f":"Picture!J133","v":0},{"$f":"Picture!K133","v":0},{"$f":"Picture!L133","v":0},{"$f":"Picture!M133","v":0},{"$f":"Picture!N133","v":0},{"$f":"Picture!O133","v":0},{"$f":"Picture!P133","v":0},{"$f":"Picture!Q133","v":0},{"$f":"Picture!R133","v":0},{"$f":"Picture!S133","v":0},{"$f":"Picture!T133","v":0},{"$f":"Picture!U133","v":0},{"$f":"Picture!V133","v":0},{"$f":"Picture!W133","v":0},{"$f":"Picture!X133","v":0},{"$f":"Picture!Y133","v":0},{"$f":"Picture!Z133","v":0},{"$f":"Picture!AA133","v":0},{"$f":"Picture!AB133","v":0},{"$f":"Picture!AC133","v":0},{"$f":"Picture!AD133","v":0},{"$f":"Picture!AE133","v":0},{"$f":"Picture!AF133","v":0},{"$f":"Picture!AG133","v":0},{"$f":"Picture!AH133","v":0},{"$f":"Picture!AI133","v":0},{"$f":"Picture!AJ133","v":0},{"$f":"Picture!AK133","v":0},{"$f":"Picture!AL133","v":0},{"$f":"Picture!AM133","v":0},{"$f":"Picture!AN133","v":0},{"$f":"Picture!AO133","v":0},{"$f":"Picture!AP133","v":0},{"$f":"Picture!AQ133","v":0},{"$f":"Picture!AR133","v":0},{"$f":"Picture!AS133","v":0},{"$f":"Picture!AT133","v":0},{"$f":"Picture!AU133","v":0},{"$f":"Picture!AV133","v":0},{"$f":"Picture!AW133","v":0},{"$f":"Picture!AX133","v":0},{"$f":"Picture!AY133","v":0},{"$f":"Picture!AZ133","v":0}]
[{"$f":"Picture!A134","v":0},{"$f":"Picture!B134","v":0},{"$f":"Picture!C134","v":0},{"$f":"Picture!D134","v":0},{"$f":"Picture!E134","v":0},{"$f":"Picture!F134","v":0},{"$f":"Picture!G134","v":0},{"$f":"Picture!H134","v":0},{"$f":"Picture!I134","v":0},{"$f":"Picture!J134","v":0},{"$f":"Picture!K134","v":0},{"$f":"Picture!L134","v":0},{"$f":"Picture!M134","v":0},{"$f":"Picture!N134","v":0},{"$f":"Picture!O134","v":0},{"$f":"Picture!P134","v":0},{"$f":"Picture!Q134","v":0},{"$f":"Picture!R134","v":0},{"$f":"Picture!S134","v":0},{"$f":"Picture!T134","v":0},{"$f":"Picture!U134","v":0},{"$f":"Picture!V134","v":0},{"$f":"Picture!W134","v":0},{"$f":"Picture!X134","v":0},{"$f":"Picture!Y134","v":0},{"$f":"Picture!Z134","v":0},{"$f":"Picture!AA134","v":0},{"$f":"Picture!AB134","v":0},{"$f":"Picture!AC134","v":0},{"$f":"Picture!AD134","v":0},{"$f":"Picture!AE134","v":0},{"$f":"Picture!AF134","v":0},{"$f":"Picture!AG134","v":0},{"$f":"Picture!AH134","v":0},{"$f":"Picture!AI134","v":0},{"$f":"Picture!AJ134","v":0},{"$f":"Picture!AK134","v":0},{"$f":"Picture!AL134","v":0},{"$f":"Picture!AM134","v":0},{"$f":"Picture!AN134","v":0},{"$f":"Picture!AO134","v":0},{"$f":"Picture!AP134","v":0},{"$f":"Picture!AQ134","v":0},{"$f":"Picture!AR134","v":0},{"$f":"Picture!AS134","v":0},{"$f":"Picture!AT134","v":0},{"$f":"Picture!AU134","v":0},{"$f":"Picture!AV134","v":0},{"$f":"Picture!AW134","v":0},{"$f":"Picture!AX134","v":0},{"$f":"Picture!AY134","v":0},{"$f":"Picture!AZ134","v":0}]
[{"$f":"Picture!A135","v":0},{"$f":"Picture!B135","v":0},{"$f":"Picture!C135","v":0},{"$f":"Picture!D135","v":0},{"$f":"Picture!E135","v":0},{"$f":"Picture!F135","v":0},{"$f":"Picture!G135","v":0},{"$f":"Picture!H135","v":0},{"$f":"Picture!I135","v":0},{"$f":"Picture!J135","v":0},{"$f":"Picture!K135","v":0},{"$f":"Picture!L135","v":0},{"$f":"Picture!M135","v":0},{"$f":"Picture!N135","v":0},{"$f":"Picture!O135","v":0},{"$f":"Picture!P135","v":0},{"$f":"Picture!Q135","v":0},{"$f":"Picture!R135","v":0},{"$f":"Picture!S135","v":0},{"$f":"Picture!T135","v":0},{"$f":"Picture!U135","v":0},{"$f":"Picture!V135","v":0},{"$f":"Picture!W135","v":0},{"$f":"Picture!X135","v":0},{"$f":"Picture!Y135","v":0},{"$f":"Picture!Z135","v":0},{"$f":"Picture!AA135","v":0},{"$f":"Picture!AB135","v":0},{"$f":"Picture!AC135","v":0},{"$f":"Picture!AD135","v":0},{"$f":"Picture!AE135","v":0},{"$f":"Picture!AF135","v":0},{"$f":"Picture!AG135","v":0},{"$f":"Picture!AH135","v":0},{"$f":"Picture!AI135","v":0},{"$f":"Picture!AJ135","v":0},{"$f":"Picture!AK135","v":0},{"$f":"Picture!AL135","v":0},{"$f":"Picture!AM135","v":0},{"$f":"Picture!AN135","v":0},{"$f":"Picture!AO135","v":0},{"$f":"Picture!AP135","v":0},{"$f":"Picture!AQ135","v":0},{"$f":"Picture!AR135","v":0},{"$f":"Picture!AS135","v":0},{"$f":"Picture!AT135","v":0},{"$f":"Picture!AU135","v":0},{"$f":"Picture!AV135","v":0},{"$f":"Picture!AW135","v":0},{"$f":"Picture!AX135","v":0},{"$f":"Picture!AY135","v":0},{"$f":"Picture!AZ135","v":0}]
[{"$f":"Picture!A136","v":0},{"$f":"Picture!B136","v":0},{"$f":"Picture!C136","v":0},{"$f":"Picture!D136","v":0},{"$f":"Picture!E136","v":0},{"$f":"Picture!F136","v":0},{"$f":"Picture!G136","v":0},{"$f":"Picture!H136","v":0},{"$f":"Picture!I136","v":0},{"$f":"Picture!J136","v":0},{"$f":"Picture!K136","v":0},{"$f":"Picture!L136","v":0},{"$f":"Picture!M136","v":0},{"$f":"Picture!N136","v":0},{"$f":"Picture!O136","v":0},{"$f":"Picture!P136","v":0},{"$f":"Picture!Q136","v":0},{"$f":"Picture!R136","v":0},{"$f":"Picture!S136","v":0},{"$f":"Picture!T136","v":0},{"$f":"Picture!U136","v":0},{"$f":"Picture!V136","v":0},{"$f":"Picture!W136","v":0},{"$f":"Picture!X136","v":0},{"$f":"Picture!Y136","v":0},{"$f":"Picture!Z136","v":0},{"$f":"Picture!AA136","v":0},{"$f":"Picture!AB136","v":0},{"$f":"Picture!AC136","v":0},{"$f":"Picture!AD136","v":0},{"$f":"Picture!AE136","v":0},{"$f":"Picture!AF136","v":0},{"$f":"Picture!AG136","v":0},{"$f":"Picture!AH136","v":0},{"$f":"Picture!AI136","v":0},{"$f":"Picture!AJ136","v":0},{"$f":"Picture!AK136","v":0},{"$f":"Picture!AL136","v":0},{"$f":"Picture!AM136","v":0},{"$f":"Picture!AN136","v":0},{"$f":"Picture!AO136","v":0},{"$f":"Picture!AP136","v":0},{"$f":"Picture!AQ136","v":0},{"$f":"Picture!AR136","v":0},{"$f":"Picture!AS136","v":0},{"$f":"Picture!AT136","v":0},{"$f":"Picture!AU136","v":0},{"$f":"Picture!AV136","v":0},{"$f":"Picture!AW136","v":0},{"$f":"Picture!AX136","v":0},{"$f":"Picture!AY136","v":0},{"$f":"Picture!AZ136","v":0}]
[{"$f":"Picture!A137","v":0},{"$f":"Picture!B137","v":0},{"$f":"Picture!C137","v":0},{"$f":"Picture!D137","v":0},{"$f":"Picture!E137","v":0},{"$f":"Picture!F137","v":0},{"$f":"Picture!G137","v":0},{"$f":"Picture!H137","v":0},{"$f":"Picture!I137","v":0},{"$f":"Picture!J137","v":0},{"$f":"Picture!K137","v":0},{"$f":"Picture!L137","v":0},{"$f":"Picture!M137","v":0},{"$f":"Picture!N137","v":0},{"$f":"Picture!O137","v":0},{"$f":"Picture!P137","v":0},{"$f":"Picture!Q137","v":0},{"$f":"Picture!R137","v":0},{"$f":"Picture!S137","v":0},{"$f":"Picture!T137","v":0},{"$f":"Picture!U137","v":0},{"$f":"Picture!V137","v":0},{"$f":"Picture!W137","v":0},{"$f":"Picture!X137","v":0},{"$f":"Picture!Y137","v":0},{"$f":"Picture!Z137","v":0},{"$f":"Picture!AA137","v":0},{"$f":"Picture!AB137","v":0},{"$f":"Picture!AC137","v":0},{"$f":"Picture!AD137","v":0},{"$f":"Picture!AE137","v":0},{"$f":"Picture!AF137","v":0},{"$f":"Picture!AG137","v":0},{"$f":"Picture!AH137","v":0},{"$f":"Picture!AI137","v":0},{"$f":"Picture!AJ137","v":0},{"$f":"Picture!AK137","v":0},{"$f":"Picture!AL137","v":0},{"$f":"Picture!AM137","v":0},{"$f":"Picture!AN137","v":0},{"$f":"Picture!AO137","v":0},{"$f":"Picture!AP137","v":0},{"$f":"Picture!AQ137","v":0},{"$f":"Picture!AR137","v":0},{"$f":"Picture!AS137","v":0},{"$f":"Picture!AT137","v":0},{"$f":"Picture!AU137","v":0},{"$f":"Picture!AV137","v":0},{"$f":"Picture!AW137","v":0},{"$f":"Picture!AX137","v":0},{"$f":"Picture!AY137","v":0},{"$f":"Picture!AZ137","v":0}]
[{"$f":"Picture!A138","v":0},{"$f":"Picture!B138","v":0},{"$f":"Picture!C138","v":0},{"$f":"Picture!D138","v":0},{"$f":"Picture!E138","v":0},{"$f":"Picture!F138","v":0},{"$f":"Picture!G138","v":0},{"$f":"Picture!H138","v":0},{"$f":"Picture!I138","v":0},{"$f":"Picture!J138","v":0},{"$f":"Picture!K138","v":0},{"$f":"Picture!L138","v":0},{"$f":"Picture!M138","v":0},{"$f":"Picture!N138","v":0},{"$f":"Picture!O138","v":0},{"$f":"Picture!P138","v":0},{"$f":"Picture!Q138","v":0},{"$f":"Picture!R138","v":0},{"$f":"Picture!S138","v":0},{"$f":"Picture!T138","v":0},{"$f":"Picture!U138","v":0},{"$f":"Picture!V138","v":0},{"$f":"Picture!W138","v":0},{"$f":"Picture!X138","v":0},{"$f":"Picture!Y138","v":0},{"$f":"Picture!Z138","v":0},{"$f":"Picture!AA138","v":0},{"$f":"Picture!AB138","v":0},{"$f":"Picture!AC138","v":0},{"$f":"Picture!AD138","v":0},{"$f":"Picture!AE138","v":0},{"$f":"Picture!AF138","v":0},{"$f":"Picture!AG138","v":0},{"$f":"Picture!AH138","v":0},{"$f":"Picture!AI138","v":0},{"$f":"Picture!AJ138","v":0},{"$f":"Picture!AK138","v":0},{"$f":"Picture!AL138","v":0},{"$f":"Picture!AM138","v":0},{"$f":"Picture!AN138","v":0},{"$f":"Picture!AO138","v":0},{"$f":"Picture!AP138","v":0},{"$f":"Picture!AQ138","v":0},{"$f":"Picture!AR138","v":0},{"$f":"Picture!AS138","v":0},{"$f":"Picture!AT138","v":0},{"$f":"Picture!AU138","v":0},{"$f":"Picture!AV138","v":0},{"$f":"Picture!AW138","v":0},{"$f":"Picture!AX138","v":0},{"$f":"Picture!AY138","v":0},{"$f":"Picture!AZ138","v":0}]
[{"$f":"Picture!A139","v":0},{"$f":"Picture!B139","v":0},{"$f":"Picture!C139","v":0},{"$f":"Picture!D139","v":0},{"$f":"Picture!E139","v":0},{"$f":"Picture!F139","v":0},{"$f":"Picture!G139","v":0},{"$f":"Picture!H139","v":0},{"$f":"Picture!I139","v":0},{"$f":"Picture!J139","v":0},{"$f":"Picture!K139","v":0},{"$f":"Picture!L139","v":0},{"$f":"Picture!M139","v":0},{"$f":"Picture!N139","v":0},{"$f":"Picture!O139","v":0},{"$f":"Picture!P139","v":0},{"$f":"Picture!Q139","v":0},{"$f":"Picture!R139","v":0},{"$f":"Picture!S139","v":0},{"$f":"Picture!T139","v":0},{"$f":"Picture!U139","v":0},{"$f":"Picture!V139","v":0},{"$f":"Picture!W139","v":0},{"$f":"Picture!X139","v":0},{"$f":"Picture!Y139","v":0},{"$f":"Picture!Z139","v":0},{"$f":"Picture!AA139","v":0},{"$f":"Picture!AB139","v":0},{"$f":"Picture!AC139","v":0},{"$f":"Picture!AD139","v":0},{"$f":"Picture!AE139","v":0},{"$f":"Picture!AF139","v":0},{"$f":"Picture!AG139","v":0},{"$f":"Picture!AH139","v":0},{"$f":"Picture!AI139","v":0},{"$f":"Picture!AJ139","v":0},{"$f":"Picture!AK139","v":0},{"$f":"Picture!AL139","v":0},{"$f":"Picture!AM139","v":0},{"$f":"Picture!AN139","v":0},{"$f":"Picture!AO139","v":0},{"$f":"Picture!AP139","v":0},{"$f":"Picture!AQ139","v":0},{"$f":"Picture!AR139","v":0},{"$f":"Picture!AS139","v":0},{"$f":"Picture!AT139","v":0},{"$f":"Picture!AU139","v":0},{"$f":"Picture!AV139","v":0},{"$f":"Picture!AW139","v":0},{"$f":"Picture!AX139","v":0},{"$f":"Picture!AY139","v":0},{"$f":"Picture!AZ139","v":0}]
[{"$f":"Picture!A140","v":0},{"$f":"Picture!B140","v":0},{"$f":"Picture!C140","v":0},{"$f":"Picture!D140","v":0},{"$f":"Picture!E140","v":0},{"$f":"Picture!F140","v":0},{"$f":"Picture!G140","v":0},{"$f":"Picture!H140","v":0},{"$f":"Picture!I140","v":0},{"$f":"Picture!J140","v":0},{"$f":"Picture!K140","v":0},{"$f":"Picture!L140","v":0},{"$f":"Picture!M140","v":0},{"$f":"Picture!N140","v":0},{"$f":"Picture!O140","v":0},{"$f":"Picture!P140","v":0},{"$f":"Picture!Q140","v":0},{"$f":"Picture!R140","v":0},{"$f":"Picture!S140","v":0},{"$f":"Picture!T140","v":0},{"$f":"Picture!U140","v":0},{"$f":"Picture!V140","v":0},{"$f":"Picture!W140","v":0},{"$f":"Picture!X140","v":0},{"$f":"Picture!Y140","v":0},{"$f":"Picture!Z140","v":0},{"$f":"Picture!AA140","v":0},{"$f":"Picture!AB140","v":0},{"$f":"Picture!AC140","v":0},{"$f":"Picture!AD140","v":0},{"$f":"Picture!AE140","v":0},{"$f":"Picture!AF140","v":0},{"$f":"Picture!AG140","v":0},{"$f":"Picture!AH140","v":0},{"$f":"Picture!AI140","v":0},{"$f":"Picture!AJ140","v":0},{"$f":"Picture!AK140","v":0},{"$f":"Picture!AL140","v":0},{"$f":"Picture!AM140","v":0},{"$f":"Picture!AN140","v":0},{"$f":"Picture!AO140","v":0},{"$f":"Picture!AP140","v":0},{"$f":"Picture!AQ140","v":0},{"$f":"Picture!AR140","v":0},{"$f":"Picture!AS140","v":0},{"$f":"Picture!AT140","v":0},{"$f":"Picture!AU140","v":0},{"$f":"Picture!AV140","v":0},{"$f":"Picture!AW140","v":0},{"$f":"Picture!AX140","v":0},{"$f":"Picture!AY140","v":0},{"$f":"Picture!AZ140","v":0}]
[{"$f":"Picture!A141","v":0},{"$f":"Picture!B141","v":0},{"$f":"Picture!C141","v":0},{"$f":"Picture!D141","v":0},{"$f":"Picture!E141","v":0},{"$f":"Picture!F141","v":0},{"$f":"Picture!G141","v":0},{"$f":"Picture!H141","v":0},{"$f":"Picture!I141","v":0},{"$f":"Picture!J141","v":0},{"$f":"Picture!K141","v":0},{"$f":"Picture!L141","v":0},{"$f":"Picture!M141","v":0},{"$f":"Picture!N141","v":0},{"$f":"Picture!O141","v":0},{"$f":"Picture!P141","v":0},{"$f":"Picture!Q141","v":0},{"$f":"Picture!R141","v":0},{"$f":"Picture!S141","v":0},{"$f":"Picture!T141","v":0},{"$f":"Picture!U141","v":0},{"$f":"Picture!V141","v":0},{"$f":"Picture!W141","v":0},{"$f":"Picture!X141","v":0},{"$f":"Picture!Y141","v":0},{"$f":"Picture!Z141","v":0},{"$f":"Picture!AA141","v":0},{"$f":"Picture!AB141","v":0},{"$f":"Picture!AC141","v":0},{"$f":"Picture!AD141","v":0},{"$f":"Picture!AE141","v":0},{"$f":"Picture!AF141","v":0},{"$f":"Picture!AG141","v":0},{"$f":"Picture!AH141","v":0},{"$f":"Picture!AI141","v":0},{"$f":"Picture!AJ141","v":0},{"$f":"Picture!AK141","v":0},{"$f":"Picture!AL141","v":0},{"$f":"Picture!AM141","v":0},{"$f":"Picture!AN141","v":0},{"$f":"Picture!AO141","v":0},{"$f":"Picture!AP141","v":0},{"$f":"Picture!AQ141","v":0},{"$f":"Picture!AR141","v":0},{"$f":"Picture!AS141","v":0},{"$f":"Picture!AT141","v":0},{"$f":"Picture!AU141","v":0},{"$f":"Picture!AV141","v":0},{"$f":"Picture!AW141","v":0},{"$f":"Picture!AX141","v":0},{"$f":"Picture!AY141","v":0},{"$f":"Picture!AZ141","v":0}]
[{"$f":"Picture!A142","v":0},{"$f":"Picture!B142","v":0},{"$f":"Picture!C142","v":0},{"$f":"Picture!D142","v":0},{"$f":"Picture!E142","v":0},{"$f":"Picture!F142","v":0},{"$f":"Picture!G142","v":0},{"$f":"Picture!H142","v":0},{"$f":"Picture!I142","v":0},{"$f":"Picture!J142","v":0},{"$f":"Picture!K142","v":0},{"$f":"Picture!L142","v":0},{"$f":"Picture!M142","v":0},{"$f":"Picture!N142","v":0},{"$f":"Picture!O142","v":0},{"$f":"Picture!P142","v":0},{"$f":"Picture!Q142","v":0},{"$f":"Picture!R142","v":0},{"$f":"Picture!S142","v":0},{"$f":"Picture!T142","v":0},{"$f":"Picture!U142","v":0},{"$f":"Picture!V142","v":0},{"$f":"Picture!W142","v":0},{"$f":"Picture!X142","v":0},{"$f":"Picture!Y142","v":0},{"$f":"Picture!Z142","v":0},{"$f":"Picture!AA142","v":0},{"$f":"Picture!AB142","v":0},{"$f":"Picture!AC142","v":0},{"$f":"Picture!AD142","v":0},{"$f":"Picture!AE142","v":0},{"$f":"Picture!AF142","v":0},{"$f":"Picture!AG142","v":0},{"$f":"Picture!AH142","v":0},{"$f":"Picture!AI142","v":0},{"$f":"Picture!AJ142","v":0},{"$f":"Picture!AK142","v":0},{"$f":"Picture!AL142","v":0},{"$f":"Picture!AM142","v":0},{"$f":"Picture!AN142","v":0},{"$f":"Picture!AO142","v":0},{"$f":"Picture!AP142","v":0},{"$f":"Picture!AQ142","v":0},{"$f":"Picture!AR142","v":0},{"$f":"Picture!AS142","v":0},{"$f":"Picture!AT142","v":0},{"$f":"Picture!AU142","v":0},{"$f":"Picture!AV142","v":0},{"$f":"Picture!AW142","v":0},{"$f":"Picture!AX142","v":0},{"$f":"Picture!AY142","v":0},{"$f":"Picture!AZ142","v":0}]
[{"$f":"Picture!A143","v":0},{"$f":"Picture!B143","v":0},{"$f":"Picture!C143","v":0},{"$f":"Picture!D143","v":0},{"$f":"Picture!E143","v":0},{"$f":"Picture!F143","v":0},{"$f":"Picture!G143","v":0},{"$f":"Picture!H143","v":0},{"$f":"Picture!I143","v":0},{"$f":"Picture!J143","v":0},{"$f":"Picture!K143","v":0},{"$f":"Picture!L143","v":0},{"$f":"Picture!M143","v":0},{"$f":"Picture!N143","v":0},{"$f":"Picture!O143","v":0},{"$f":"Picture!P143","v":0},{"$f":"Picture!Q143","v":0},{"$f":"Picture!R143","v":0},{"$f":"Picture!S143","v":0},{"$f":"Picture!T143","v":0},{"$f":"Picture!U143","v":0},{"$f":"Picture!V143","v":0},{"$f":"Picture!W143","v":0},{"$f":"Picture!X143","v":0},{"$f":"Picture!Y143","v":0},{"$f":"Picture!Z143","v":0},{"$f":"Picture!AA143","v":0},{"$f":"Picture!AB143","v":0},{"$f":"Picture!AC143","v":0},{"$f":"Picture!AD143","v":0},{"$f":"Picture!AE143","v":0},{"$f":"Picture!AF143","v":0},{"$f":"Picture!AG143","v":0},{"$f":"Picture!AH143","v":0},{"$f":"Picture!AI143","v":0},{"$f":"Picture!AJ143","v":0},{"$f":"Picture!AK143","v":0},{"$f":"Picture!AL143","v":0},{"$f":"Picture!AM143","v":0},{"$f":"Picture!AN143","v":0},{"$f":"Picture!AO143","v":0},{"$f":"Picture!AP143","v":0},{"$f":"Picture!AQ143","v":0},{"$f":"Picture!AR143","v":0},{"$f":"Picture!AS143","v":0},{"$f":"Picture!AT143","v":0},{"$f":"Picture!AU143","v":0},{"$f":"Picture!AV143","v":0},{"$f":"Picture!AW143","v":0},{"$f":"Picture!AX143","v":0},{"$f":"Picture!AY143","v":0},{"$f":"Picture!AZ143","v":0}]
[{"$f":"Picture!A144","v":0},{"$f":"Picture!B144","v":0},{"$f":"Picture!C144","v":0},{"$f":"Picture!D144","v":0},{"$f":"Picture!E144","v":0},{"$f":"Picture!F144","v":0},{"$f":"Picture!G144","v":0},{"$f":"Picture!H144","v":0},{"$f":"Picture!I144","v":0},{"$f":"Picture!J144","v":0},{"$f":"Picture!K144","v":0},{"$f":"Picture!L144","v":0},{"$f":"Picture!M144","v":0},{"$f":"Picture!N144","v":0},{"$f":"Picture!O144","v":0},{"$f":"Picture!P144","v":0},{"$f":"Picture!Q144","v":0},{"$f":"Picture!R144","v":0},{"$f":"Picture!S144","v":0},{"$f":"Picture!T144","v":0},{"$f":"Picture!U144","v":0},{"$f":"Picture!V144","v":0},{"$f":"Picture!W144","v":0},{"$f":"Picture!X144","v":0},{"$f":"Picture!Y144","v":0},{"$f":"Picture!Z144","v":0},{"$f":"Picture!AA144","v":0},{"$f":"Picture!AB144","v":0},{"$f":"Picture!AC144","v":0},{"$f":"Picture!AD144","v":0},{"$f":"Picture!AE144","v":0},{"$f":"Picture!AF144","v":0},{"$f":"Picture!AG144","v":0},{"$f":"Picture!AH144","v":0},{"$f":"Picture!AI144","v":0},{"$f":"Picture!AJ144","v":0},{"$f":"Picture!AK144","v":0},{"$f":"Picture!AL144","v":0},{"$f":"Picture!AM144","v":0},{"$f":"Picture!AN144","v":0},{"$f":"Picture!AO144","v":0},{"$f":"Picture!AP144","v":0},{"$f":"Picture!AQ144","v":0},{"$f":"Picture!AR144","v":0},{"$f":"Picture!AS144","v":0},{"$f":"Picture!AT144","v":0},{"$f":"Picture!AU144","v":0},{"$f":"Picture!AV144","v":0},{"$f":"Picture!AW144","v":0},{"$f":"Picture!AX144","v":0},{"$f":"Picture!AY144","v":0},{"$f":"Picture!AZ144","v":0}]
[{"$f":"Picture!A145","v":0},{"$f":"Picture!B145","v":0},{"$f":"Picture!C145","v":0},{"$f":"Picture!D145","v":0},{"$f":"Picture!E145","v":0},{"$f":"Picture!F145","v":0},{"$f":"Picture!G145","v":0},{"$f":"Picture!H145","v":0},{"$f":"Picture!I145","v":0},{"$f":"Picture!J145","v":0},{"$f":"Picture!K145","v":0},{"$f":"Picture!L145","v":0},{"$f":"Picture!M145","v":0},{"$f":"Picture!N145","v":0},{"$f":"Picture!O145","v":0},{"$f":"Picture!P145","v":0},{"$f":"Picture!Q145","v":0},{"$f":"Picture!R145","v":0},{"$f":"Picture!S145","v":0},{"$f":"Picture!T145","v":0},{"$f":"Picture!U145","v":0},{"$f":"Picture!V145","v":0},{"$f":"Picture!W145","v":0},{"$f":"Picture!X145","v":0},{"$f":"Picture!Y145","v":0},{"$f":"Picture!Z145","v":0},{"$f":"Picture!AA145","v":0},{"$f":"Picture!AB145","v":0},{"$f":"Picture!AC145","v":0},{"$f":"Picture!AD145","v":0},{"$f":"Picture!AE145","v":0},{"$f":"Picture!AF145","v":0},{"$f":"Picture!AG145","v":0},{"$f":"Picture!AH145","v":0},{"$f":"Picture!AI145","v":0},{"$f":"Picture!AJ145","v":0},{"$f":"Picture!AK145","v":0},{"$f":"Picture!AL145","v":0},{"$f":"Picture!AM145","v":0},{"$f":"Picture!AN145","v":0},{"$f":"Picture!AO145","v":0},{"$f":"Picture!AP145","v":0},{"$f":"Picture!AQ145","v":0},{"$f":"Picture!AR145","v":0},{"$f":"Picture!AS145","v":0},{"$f":"Picture!AT145","v":0},{"$f":"Picture!AU145","v":0},{"$f":"Picture!AV145","v":0},{"$f":"Picture!AW145","v":0},{"$f":"Picture!AX145","v":0},{"$f":"Picture!AY145","v":0},{"$f":"Picture!AZ145","v":0}]
[{"$f":"Picture!A146","v":0},{"$f":"Picture!B146","v":0},{"$f":"Picture!C146","v":0},{"$f":"Picture!D146","v":0},{"$f":"Picture!E146","v":0},{"$f":"Picture!F146","v":0},{"$f":"Picture!G146","v":0},{"$f":"Picture!H146","v":0},{"$f":"Picture!I146","v":0},{"$f":"Picture!J146","v":0},{"$f":"Picture!K146","v":0},{"$f":"Picture!L146","v":0},{"$f":"Picture!M146","v":0},{"$f":"Picture!N146","v":0},{"$f":"Picture!O146","v":0},{"$f":"Picture!P146","v":0},{"$f":"Picture!Q146","v":0},{"$f":"Picture!R146","v":0},{"$f":"Picture!S146","v":0},{"$f":"Picture!T146","v":0},{"$f":"Picture!U146","v":0},{"$f":"Picture!V146","v":0},{"$f":"Picture!W146","v":0},{"$f":"Picture!X146","v":0},{"$f":"Picture!Y146","v":0},{"$f":"Picture!Z146","v":0},{"$f":"Picture!AA146","v":0},{"$f":"Picture!AB146","v":0},{"$f":"Picture!AC146","v":0},{"$f":"Picture!AD146","v":0},{"$f":"Picture!AE146","v":0},{"$f":"Picture!AF146","v":0},{"$f":"Picture!AG146","v":0},{"$f":"Picture!AH146","v":0},{"$f":"Picture!AI146","v":0},{"$f":"Picture!AJ146","v":0},{"$f":"Picture!AK146","v":0},{"$f":"Picture!AL146","v":0},{"$f":"Picture!AM146","v":0},{"$f":"Picture!AN146","v":0},{"$f":"Picture!AO146","v":0},{"$f":"Picture!AP146","v":0},{"$f":"Picture!AQ146","v":0},{"$f":"Picture!AR146","v":0},{"$f":"Picture!AS146","v":0},{"$f":"Picture!AT146","v":0},{"$f":"Picture!AU146","v":0},{"$f":"Picture!AV146","v":0},{"$f":"Picture!AW146","v":0},{"$f":"Picture!AX146","v":0},{"$f":"Picture!AY146","v":0},{"$f":"Picture!AZ146","v":0}]
[{"$f":"Picture!A147","v":0},{"$f":"Picture!B147","v":0},{"$f":"Picture!C147","v":0},{"$f":"Picture!D147","v":0},{"$f":"Picture!E147","v":0},{"$f":"Picture!F147","v":0},{"$f":"Picture!G147","v":0},{"$f":"Picture!H147","v":0},{"$f":"Picture!I147","v":0},{"$f":"Picture!J147","v":0},{"$f":"Picture!K147","v":0},{"$f":"Picture!L147","v":0},{"$f":"Picture!M147","v":0},{"$f":"Picture!N147","v":0},{"$f":"Picture!O147","v":0},{"$f":"Picture!P147","v":0},{"$f":"Picture!Q147","v":0},{"$f":"Picture!R147","v":0},{"$f":"Picture!S147","v":0},{"$f":"Picture!T147","v":0},{"$f":"Picture!U147","v":0},{"$f":"Picture!V147","v":0},{"$f":"Picture!W147","v":0},{"$f":"Picture!X147","v":0},{"$f":"Picture!Y147","v":0},{"$f":"Picture!Z147","v":0},{"$f":"Picture!AA147","v":0},{"$f":"Picture!AB147","v":0},{"$f":"Picture!AC147","v":0},{"$f":"Picture!AD147","v":0},{"$f":"Picture!AE147","v":0},{"$f":"Picture!AF147","v":0},{"$f":"Picture!AG147","v":0},{"$f":"Picture!AH147","v":0},{"$f":"Picture!AI147","v":0},{"$f":"Picture!AJ147","v":0},{"$f":"Picture!AK147","v":0},{"$f":"Picture!AL147","v":0},{"$f":"Picture!AM147","v":0},{"$f":"Picture!AN147","v":0},{"$f":"Picture!AO147","v":0},{"$f":"Picture!AP147","v":0},{"$f":"Picture!AQ147","v":0},{"$f":"Picture!AR147","v":0},{"$f":"Picture!AS147","v":0},{"$f":"Picture!AT147","v":0},{"$f":"Picture!AU147","v":0},{"$f":"Picture!AV147","v":0},{"$f":"Picture!AW147","v":0},{"$f":"Picture!AX147","v":0},{"$f":"Picture!AY147","v":0},{"$f":"Picture!AZ147","v":0}]
[{"$f":"Picture!A148","v":0},{"$f":"Picture!B148","v":0},{"$f":"Picture!C148","v":0},{"$f":"Picture!D148","v":0},{"$f":"Picture!E148","v":0},{"$f":"Picture!F148","v":0},{"$f":"Picture!G148","v":0},{"$f":"Picture!H148","v":0},{"$f":"Picture!I148","v":0},{"$f":"Picture!J148","v":0},{"$f":"Picture!K148","v":0},{"$f":"Picture!L148","v":0},{"$f":"Picture!M148","v":0},{"$f":"Picture!N148","v":0},{"$f":"Picture!O148","v":0},{"$f":"Picture!P148","v":0},{"$f":"Picture!Q148","v":0},{"$f":"Picture!R148","v":0},{"$f":"Picture!S148","v":0},{"$f":"Picture!T148","v":0},{"$f":"Picture!U148","v":0},{"$f":"Picture!V148","v":0},{"$f":"Picture!W148","v":0},{"$f":"Picture!X148","v":0},{"$f":"Picture!Y148","v":0},{"$f":"Picture!Z148","v":0},{"$f":"Picture!AA148","v":0},{"$f":"Picture!AB148","v":0},{"$f":"Picture!AC148","v":0},{"$f":"Picture!AD148","v":0},{"$f":"Picture!AE148","v":0},{"$f":"Picture!AF148","v":0},{"$f":"Picture!AG148","v":0},{"$f":"Picture!AH148","v":0},{"$f":"Picture!AI148","v":0},{"$f":"Picture!AJ148","v":0},{"$f":"Picture!AK148","v":0},{"$f":"Picture!AL148","v":0},{"$f":"Picture!AM148","v":0},{"$f":"Picture!AN148","v":0},{"$f":"Picture!AO148","v":0},{"$f":"Picture!AP148","v":0},{"$f":"Picture!AQ148","v":0},{"$f":"Picture!AR148","v":0},{"$f":"Picture!AS148","v":0},{"$f":"Picture!AT148","v":0},{"$f":"Picture!AU148","v":0},{"$f":"Picture!AV148","v":0},{"$f":"Picture!AW148","v":0},{"$f":"Picture!AX148","v":0},{"$f":"Picture!AY148","v":0},{"$f":"Picture!AZ148","v":0}]
[{"$f":"Picture!A149","v":0},{"$f":"Picture!B149","v":0},{"$f":"Picture!C149","v":0},{"$f":"Picture!D149","v":0},{"$f":"Picture!E149","v":0},{"$f":"Picture!F149","v":0},{"$f":"Picture!G149","v":0},{"$f":"Picture!H149","v":0},{"$f":"Picture!I149","v":0},{"$f":"Picture!J149","v":0},{"$f":"Picture!K149","v":0},{"$f":"Picture!L149","v":0},{"$f":"Picture!M149","v":0},{"$f":"Picture!N149","v":0},{"$f":"Picture!O149","v":0},{"$f":"Picture!P149","v":0},{"$f":"Picture!Q149","v":0},{"$f":"Picture!R149","v":0},{"$f":"Picture!S149","v":0},{"$f":"Picture!T149","v":0},{"$f":"Picture!U149","v":0},{"$f":"Picture!V149","v":0},{"$f":"Picture!W149","v":0},{"$f":"Picture!X149","v":0},{"$f":"Picture!Y149","v":0},{"$f":"Picture!Z149","v":0},{"$f":"Picture!AA149","v":0},{"$f":"Picture!AB149","v":0},{"$f":"Picture!AC149","v":0},{"$f":"Picture!AD149","v":0},{"$f":"Picture!AE149","v":0},{"$f":"Picture!AF149","v":0},{"$f":"Picture!AG149","v":0},{"$f":"Picture!AH149","v":0},{"$f":"Picture!AI149","v":0},{"$f":"Picture!AJ149","v":0},{"$f":"Picture!AK149","v":0},{"$f":"Picture!AL149","v":0},{"$f":"Picture!AM149","v":0},{"$f":"Picture!AN149","v":0},{"$f":"Picture!AO149","v":0},{"$f":"Picture!AP149","v":0},{"$f":"Picture!AQ149","v":0},{"$f":"Picture!AR149","v":0},{"$f":"Picture!AS149","v":0},{"$f":"Picture!AT149","v":0},{"$f":"Picture!AU149","v":0},{"$f":"Picture!AV149","v":0},{"$f":"Picture!AW149","v":0},{"$f":"Picture!AX149","v":0},{"$f":"Picture!AY149","v":0},{"$f":"Picture!AZ149","v":0}]
[{"$f":"Picture!A150","v":0},{"$f":"Picture!B150","v":0},{"$f":"Picture!C150","v":0},{"$f":"Picture!D150","v":0},{"$f":"Picture!E150","v":0},{"$f":"Picture!F150","v":0},{"$f":"Picture!G150","v":0},{"$f":"Picture!H150","v":0},{"$f":"Picture!I150","v":0},{"$f":"Picture!J150","v":0},{"$f":"Picture!K150","v":0},{"$f":"Picture!L150","v":0},{"$f":"Picture!M150","v":0},{"$f":"Picture!N150","v":0},{"$f":"Picture!O150","v":0},{"$f":"Picture!P150","v":0},{"$f":"Picture!Q150","v":0},{"$f":"Picture!R150","v":0},{"$f":"Picture!S150","v":0},{"$f":"Picture!T150","v":0},{"$f":"Picture!U150","v":0},{"$f":"Picture!V150","v":0},{"$f":"Picture!W150","v":0},{"$f":"Picture!X150","v":0},{"$f":"Picture!Y150","v":0},{"$f":"Picture!Z150","v":0},{"$f":"Picture!AA150","v":0},{"$f":"Picture!AB150","v":0},{"$f":"Picture!AC150","v":0},{"$f":"Picture!AD150","v":0},{"$f":"Picture!AE150","v":0},{"$f":"Picture!AF150","v":0},{"$f":"Picture!AG150","v":0},{"$f":"Picture!AH150","v":0},{"$f":"Picture!AI150","v":0},{"$f":"Picture!AJ150","v":0},{"$f":"Picture!AK150","v":0},{"$f":"Picture!AL150","v":0},{"$f":"Picture!AM150","v":0},{"$f":"Picture!AN150","v":0},{"$f":"Picture!AO150","v":0},{"$f":"Picture!AP150","v":0},{"$f":"Picture!AQ150","v":0},{"$f":"Picture!AR150","v":0},{"$f":"Picture!AS150","v":0},{"$f":"Picture!AT150","v":0},{"$f":"Picture!AU150","v":0},{"$f":"Picture!AV150","v":0},{"$f":"Picture!AW150","v":0},{"$f":"Picture!AX150","v":0},{"$f":"Picture!AY150","v":0},{"$f":"Picture!AZ150","v":0}]
[{"$f":"Picture!A151","v":0},{"$f":"Picture!B151","v":0},{"$f":"Picture!C151","v":0},{"$f":"Picture!D151","v":0},{"$f":"Picture!E151","v":0},{"$f":"Picture!F151","v":0},{"$f":"Picture!G151","v":0},{"$f":"Picture!H151","v":0},{"$f":"Picture!I151","v":0},{"$f":"Picture!J151","v":0},{"$f":"Picture!K151","v":0},{"$f":"Picture!L151","v":0},{"$f":"Picture!M151","v":0},{"$f":"Picture!N151","v":0},{"$f":"Picture!O151","v":0},{"$f":"Picture!P151","v":0},{"$f":"Picture!Q151","v":0},{"$f":"Picture!R151","v":0},{"$f":"Picture!S151","v":0},{"$f":"Picture!T151","v":0},{"$f":"Picture!U151","v":0},{"$f":"Picture!V151","v":0},{"$f":"Picture!W151","v":0},{"$f":"Picture!X151","v":0},{"$f":"Picture!Y151","v":0},{"$f":"Picture!Z151","v":0},{"$f":"Picture!AA151","v":0},{"$f":"Picture!AB151","v":0},{"$f":"Picture!AC151","v":0},{"$f":"Picture!AD151","v":0},{"$f":"Picture!AE151","v":0},{"$f":"Picture!AF151","v":0},{"$f":"Picture!AG151","v":0},{"$f":"Picture!AH151","v":0},{"$f":"Picture!AI151","v":0},{"$f":"Picture!AJ151","v":0},{"$f":"Picture!AK151","v":0},{"$f":"Picture!AL151","v":0},{"$f":"Picture!AM151","v":0},{"$f":"Picture!AN151","v":0},{"$f":"Picture!AO151","v":0},{"$f":"Picture!AP151","v":0},{"$f":"Picture!AQ151","v":0},{"$f":"Picture!AR151","v":0},{"$f":"Picture!AS151","v":0},{"$f":"Picture!AT151","v":0},{"$f":"Picture!AU151","v":0},{"$f":"Picture!AV151","v":0},{"$f":"Picture!AW151","v":0},{"$f":"Picture!AX151","v":0},{"$f":"Picture!AY151","v":0},{"$f":"Picture!AZ151","v":0}]
[{"$f":"Picture!A152","v":0},{"$f":"Picture!B152","v":0},{"$f":"Picture!C152","v":0},{"$f":"Picture!D152","v":0},{"$f":"Picture!E152","v":0},{"$f":"Picture!F152","v":0},{"$f":"Picture!G152","v":0},{"$f":"Picture!H152","v":0},{"$f":"Picture!I152","v":0},{"$f":"Picture!J152","v":0},{"$f":"Picture!K152","v":0},{"$f":"Picture!L152","v":0},{"$f":"Picture!M152","v":0},{"$f":"Picture!N152","v":0},{"$f":"Picture!O152","v":0},{"$f":"Picture!P152","v":0},{"$f":"Picture!Q152","v":0},{"$f":"Picture!R152","v":0},{"$f":"Picture!S152","v":0},{"$f":"Picture!T152","v":0},{"$f":"Picture!U152","v":0},{"$f":"Picture!V152","v":0},{"$f":"Picture!W152","v":0},{"$f":"Picture!X152","v":0},{"$f":"Picture!Y152","v":0},{"$f":"Picture!Z152","v":0},{"$f":"Picture!AA152","v":0},{"$f":"Picture!AB152","v":0},{"$f":"Picture!AC152","v":0},{"$f":"Picture!AD152","v":0},{"$f":"Picture!AE152","v":0},{"$f":"Picture!AF152","v":0},{"$f":"Picture!AG152","v":0},{"$f":"Picture!AH152","v":0},{"$f":"Picture!AI152","v":0},{"$f":"Picture!AJ152","v":0},{"$f":"Picture!AK152","v":0},{"$f":"Picture!AL152","v":0},{"$f":"Picture!AM152","v":0},{"$f":"Picture!AN152","v":0},{"$f":"Picture!AO152","v":0},{"$f":"Picture!AP152","v":0},{"$f":"Picture!AQ152","v":0},{"$f":"Picture!AR152","v":0},{"$f":"Picture!AS152","v":0},{"$f":"Picture!AT152","v":0},{"$f":"Picture!AU152","v":0},{"$f":"Picture!AV152","v":0},{"$f":"Picture!AW152","v":0},{"$f":"Picture!AX152","v":0},{"$f":"Picture!AY152","v":0},{"$f":"Picture!AZ152","v":0}]
[{"$f":"Picture!A153","v":0},{"$f":"Picture!B153","v":0},{"$f":"Picture!C153","v":0},{"$f":"Picture!D153","v":0},{"$f":"Picture!E153","v":0},{"$f":"Picture!F153","v":0},{"$f":"Picture!G153","v":0},{"$f":"Picture!H153","v":0},{"$f":"Picture!I153","v":0},{"$f":"Picture!J153","v":0},{"$f":"Picture!K153","v":0},{"$f":"Picture!L153","v":0},{"$f":"Picture!M153","v":0},{"$f":"Picture!N153","v":0},{"$f":"Picture!O153","v":0},{"$f":"Picture!P153","v":0},{"$f":"Picture!Q153","v":0},{"$f":"Picture!R153","v":0},{"$f":"Picture!S153","v":0},{"$f":"Picture!T153","v":0},{"$f":"Picture!U153","v":0},{"$f":"Picture!V153","v":0},{"$f":"Picture!W153","v":0},{"$f":"Picture!X153","v":0},{"$f":"Picture!Y153","v":0},{"$f":"Picture!Z153","v":0},{"$f":"Picture!AA153","v":0},{"$f":"Picture!AB153","v":0},{"$f":"Picture!AC153","v":0},{"$f":"Picture!AD153","v":0},{"$f":"Picture!AE153","v":0},{"$f":"Picture!AF153","v":0},{"$f":"Picture!AG153","v":0},{"$f":"Picture!AH153","v":0},{"$f":"Picture!AI153","v":0},{"$f":"Picture!AJ153","v":0},{"$f":"Picture!AK153","v":0},{"$f":"Picture!AL153","v":0},{"$f":"Picture!AM153","v":0},{"$f":"Picture!AN153","v":0},{"$f":"Picture!AO153","v":0},{"$f":"Picture!AP153","v":0},{"$f":"Picture!AQ153","v":0},{"$f":"Picture!AR153","v":0},{"$f":"Picture!AS153","v":0},{"$f":"Picture!AT153","v":0},{"$f":"Picture!AU153","v":0},{"$f":"Picture!AV153","v":0},{"$f":"Picture!AW153","v":0},{"$f":"Picture!AX153","v":0},{"$f":"Picture!AY153","v":0},{"$f":"Picture!AZ153","v":0}]
[{"$f":"Picture!A154","v":0},{"$f":"Picture!B154","v":0},{"$f":"Picture!C154","v":0},{"$f":"Picture!D154","v":0},{"$f":"Picture!E154","v":0},{"$f":"Picture!F154","v":0},{"$f":"Picture!G154","v":0},{"$f":"Picture!H154","v":0},{"$f":"Picture!I154","v":0},{"$f":"Picture!J154","v":0},{"$f":"Picture!K154","v":0},{"$f":"Picture!L154","v":0},{"$f":"Picture!M154","v":0},{"$f":"Picture!N154","v":0},{"$f":"Picture!O154","v":0},{"$f":"Picture!P154","v":0},{"$f":"Picture!Q154","v":0},{"$f":"Picture!R154","v":0},{"$f":"Picture!S154","v":0},{"$f":"Picture!T154","v":0},{"$f":"Picture!U154","v":0},{"$f":"Picture!V154","v":0},{"$f":"Picture!W154","v":0},{"$f":"Picture!X154","v":0},{"$f":"Picture!Y154","v":0},{"$f":"Picture!Z154","v":0},{"$f":"Picture!AA154","v":0},{"$f":"Picture!AB154","v":0},{"$f":"Picture!AC154","v":0},{"$f":"Picture!AD154","v":0},{"$f":"Picture!AE154","v":0},{"$f":"Picture!AF154","v":0},{"$f":"Picture!AG154","v":0},{"$f":"Picture!AH154","v":0},{"$f":"Picture!AI154","v":0},{"$f":"Picture!AJ154","v":0},{"$f":"Picture!AK154","v":0},{"$f":"Picture!AL154","v":0},{"$f":"Picture!AM154","v":0},{"$f":"Picture!AN154","v":0},{"$f":"Picture!AO154","v":0},{"$f":"Picture!AP154","v":0},{"$f":"Picture!AQ154","v":0},{"$f":"Picture!AR154","v":0},{"$f":"Picture!AS154","v":0},{"$f":"Picture!AT154","v":0},{"$f":"Picture!AU154","v":0},{"$f":"Picture!AV154","v":0},{"$f":"Picture!AW154","v":0},{"$f":"Picture!AX154","v":0},{"$f":"Picture!AY154","v":0},{"$f":"Picture!AZ154","v":0}]
[{"$f":"Picture!A155","v":0},{"$f":"Picture!B155","v":0},{"$f":"Picture!C155","v":0},{"$f":"Picture!D155","v":0},{"$f":"Picture!E155","v":0},{"$f":"Picture!F155","v":0},{"$f":"Picture!G155","v":0},{"$f":"Picture!H155","v":0},{"$f":"Picture!I155","v":0},{"$f":"Picture!J155","v":0},{"$f":"Picture!K155","v":0},{"$f":"Picture!L155","v":0},{"$f":"Picture!M155","v":0},{"$f":"Picture!N155","v":0},{"$f":"Picture!O155","v":0},{"$f":"Picture!P155","v":0},{"$f":"Picture!Q155","v":0},{"$f":"Picture!R155","v":0},{"$f":"Picture!S155","v":0},{"$f":"Picture!T155","v":0},{"$f":"Picture!U155","v":0},{"$f":"Picture!V155","v":0},{"$f":"Picture!W155","v":0},{"$f":"Picture!X155","v":0},{"$f":"Picture!Y155","v":0},{"$f":"Picture!Z155","v":0},{"$f":"Picture!AA155","v":0},{"$f":"Picture!AB155","v":0},{"$f":"Picture!AC155","v":0},{"$f":"Picture!AD155","v":0},{"$f":"Picture!AE155","v":0},{"$f":"Picture!AF155","v":0},{"$f":"Picture!AG155","v":0},{"$f":"Picture!AH155","v":0},{"$f":"Picture!AI155","v":0},{"$f":"Picture!AJ155","v":0},{"$f":"Picture!AK155","v":0},{"$f":"Picture!AL155","v":0},{"$f":"Picture!AM155","v":0},{"$f":"Picture!AN155","v":0},{"$f":"Picture!AO155","v":0},{"$f":"Picture!AP155","v":0},{"$f":"Picture!AQ155","v":0},{"$f":"Picture!AR155","v":0},{"$f":"Picture!AS155","v":0},{"$f":"Picture!AT155","v":0},{"$f":"Picture!AU155","v":0},{"$f":"Picture!AV155","v":0},{"$f":"Picture!AW155","v":0},{"$f":"Picture!AX155","v":0},{"$f":"Picture!AY155","v":0},{"$f":"Picture!AZ155","v":0}]
[{"$f":"Picture!A156","v":0},{"$f":"Picture!B156","v":0},{"$f":"Picture!C156","v":0},{"$f":"Picture!D156","v":0},{"$f":"Picture!E156","v":0},{"$f":"Picture!F156","v":0},{"$f":"Picture!G156","v":0},{"$f":"Picture!H156","v":0},{"$f":"Picture!I156","v":0},{"$f":"Picture!J156","v":0},{"$f":"Picture!K156","v":0},{"$f":"Picture!L156","v":0},{"$f":"Picture!M156","v":0},{"$f":"Picture!N156","v":0},{"$f":"Picture!O156","v":0},{"$f":"Picture!P156","v":0},{"$f":"Picture!Q156","v":0},{"$f":"Picture!R156","v":0},{"$f":"Picture!S156","v":0},{"$f":"Picture!T156","v":0},{"$f":"Picture!U156","v":0},{"$f":"Picture!V156","v":0},{"$f":"Picture!W156","v":0},{"$f":"Picture!X156","v":0},{"$f":"Picture!Y156","v":0},{"$f":"Picture!Z156","v":0},{"$f":"Picture!AA156","v":0},{"$f":"Picture!AB156","v":0},{"$f":"Picture!AC156","v":0},{"$f":"Picture!AD156","v":0},{"$f":"Picture!AE156","v":0},{"$f":"Picture!AF156","v":0},{"$f":"Picture!AG156","v":0},{"$f":"Picture!AH156","v":0},{"$f":"Picture!AI156","v":0},{"$f":"Picture!AJ156","v":0},{"$f":"Picture!AK156","v":0},{"$f":"Picture!AL156","v":0},{"$f":"Picture!AM156","v":0},{"$f":"Picture!AN156","v":0},{"$f":"Picture!AO156","v":0},{"$f":"Picture!AP156","v":0},{"$f":"Picture!AQ156","v":0},{"$f":"Picture!AR156","v":0},{"$f":"Picture!AS156","v":0},{"$f":"Picture!AT156","v":0},{"$f":"Picture!AU156","v":0},{"$f":"Picture!AV156","v":0},{"$f":"Picture!AW156","v":0},{"$f":"Picture!AX156","v":0},{"$f":"Picture!AY156","v":0},{"$f":"Picture!AZ156","v":0}]
[{"$f":"Picture!A157","v":0},{"$f":"Picture!B157","v":0},{"$f":"Picture!C157","v":0},{"$f":"Picture!D157","v":0},{"$f":"Picture!E157","v":0},{"$f":"Picture!F157","v":0},{"$f":"Picture!G157","v":0},{"$f":"Picture!H157","v":0},{"$f":"Picture!I157","v":0},{"$f":"Picture!J157","v":0},{"$f":"Picture!K157","v":0},{"$f":"Picture!L157","v":0},{"$f":"Picture!M157","v":0},{"$f":"Picture!N157","v":0},{"$f":"Picture!O157","v":0},{"$f":"Picture!P157","v":0},{"$f":"Picture!Q157","v":0},{"$f":"Picture!R157","v":0},{"$f":"Picture!S157","v":0},{"$f":"Picture!T157","v":0},{"$f":"Picture!U157","v":0},{"$f":"Picture!V157","v":0},{"$f":"Picture!W157","v":0},{"$f":"Picture!X157","v":0},{"$f":"Picture!Y157","v":0},{"$f":"Picture!Z157","v":0},{"$f":"Picture!AA157","v":0},{"$f":"Picture!AB157","v":0},{"$f":"Picture!AC157","v":0},{"$f":"Picture!AD157","v":0},{"$f":"Picture!AE157","v":0},{"$f":"Picture!AF157","v":0},{"$f":"Picture!AG157","v":0},{"$f":"Picture!AH157","v":0},{"$f":"Picture!AI157","v":0},{"$f":"Picture!AJ157","v":0},{"$f":"Picture!AK157","v":0},{"$f":"Picture!AL157","v":0},{"$f":"Picture!AM157","v":0},{"$f":"Picture!AN157","v":0},{"$f":"Picture!AO157","v":0},{"$f":"Picture!AP157","v":0},{"$f":"Picture!AQ157","v":0},{"$f":"Picture!AR157","v":0},{"$f":"Picture!AS157","v":0},{"$f":"Picture!AT157","v":0},{"$f":"Picture!AU157","v":0},{"$f":"Picture!AV157","v":0},{"$f":"Picture!AW157","v":0},{"$f":"Picture!AX157","v":0},{"$f":"Picture!AY157","v":0},{"$f":"Picture!AZ157","v":0}]
[{"$f":"Picture!A158","v":0},{"$f":"Picture!B158","v":0},{"$f":"Picture!C158","v":0},{"$f":"Picture!D158","v":0},{"$f":"Picture!E158","v":0},{"$f":"Picture!F158","v":0},{"$f":"Picture!G158","v":0},{"$f":"Picture!H158","v":0},{"$f":"Picture!I158","v":0},{"$f":"Picture!J158","v":0},{"$f":"Picture!K158","v":0},{"$f":"Picture!L158","v":0},{"$f":"Picture!M158","v":0},{"$f":"Picture!N158","v":0},{"$f":"Picture!O158","v":0},{"$f":"Picture!P158","v":0},{"$f":"Picture!Q158","v":0},{"$f":"Picture!R158","v":0},{"$f":"Picture!S158","v":0},{"$f":"Picture!T158","v":0},{"$f":"Picture!U158","v":0},{"$f":"Picture!V158","v":0},{"$f":"Picture!W158","v":0},{"$f":"Picture!X158","v":0},{"$f":"Picture!Y158","v":0},{"$f":"Picture!Z158","v":0},{"$f":"Picture!AA158","v":0},{"$f":"Picture!AB158","v":0},{"$f":"Picture!AC158","v":0},{"$f":"Picture!AD158","v":0},{"$f":"Picture!AE158","v":0},{"$f":"Picture!AF158","v":0},{"$f":"Picture!AG158","v":0},{"$f":"Picture!AH158","v":0},{"$f":"Picture!AI158","v":0},{"$f":"Picture!AJ158","v":0},{"$f":"Picture!AK158","v":0},{"$f":"Picture!AL158","v":0},{"$f":"Picture!AM158","v":0},{"$f":"Picture!AN158","v":0},{"$f":"Picture!AO158","v":0},{"$f":"Picture!AP158","v":0},{"$f":"Picture!AQ158","v":0},{"$f":"Picture!AR158","v":0},{"$f":"Picture!AS158","v":0},{"$f":"Picture!AT158","v":0},{"$f":"Picture!AU158","v":0},{"$f":"Picture!AV158","v":0},{"$f":"Picture!AW158","v":0},{"$f":"Picture!AX158","v":0},{"$f":"Picture!AY158","v":0},{"$f":"Picture!AZ158","v":0}]
[{"$f":"Picture!A159","v":0},{"$f":"Picture!B159","v":0},{"$f":"Picture!C159","v":0},{"$f":"Picture!D159","v":0},{"$f":"Picture!E159","v":0},{"$f":"Picture!F159","v":0},{"$f":"Picture!G159","v":0},{"$f":"Picture!H159","v":0},{"$f":"Picture!I159","v":0},{"$f":"Picture!J159","v":0},{"$f":"Picture!K159","v":0},{"$f":"Picture!L159","v":0},{"$f":"Picture!M159","v":0},{"$f":"Picture!N159","v":0},{"$f":"Picture!O159","v":0},{"$f":"Picture!P159","v":0},{"$f":"Picture!Q159","v":0},{"$f":"Picture!R159","v":0},{"$f":"Picture!S159","v":0},{"$f":"Picture!T159","v":0},{"$f":"Picture!U159","v":0},{"$f":"Picture!V159","v":0},{"$f":"Picture!W159","v":0},{"$f":"Picture!X159","v":0},{"$f":"Picture!Y159","v":0},{"$f":"Picture!Z159","v":0},{"$f":"Picture!AA159","v":0},{"$f":"Picture!AB159","v":0},{"$f":"Picture!AC159","v":0},{"$f":"Picture!AD159","v":0},{"$f":"Picture!AE159","v":0},{"$f":"Picture!AF159","v":0},{"$f":"Picture!AG159","v":0},{"$f":"Picture!AH159","v":0},{"$f":"Picture!AI159","v":0},{"$f":"Picture!AJ159","v":0},{"$f":"Picture!AK159","v":0},{"$f":"Picture!AL159","v":0},{"$f":"Picture!AM159","v":0},{"$f":"Picture!AN159","v":0},{"$f":"Picture!AO159","v":0},{"$f":"Picture!AP159","v":0},{"$f":"Picture!AQ159","v":0},{"$f":"Picture!AR159","v":0},{"$f":"Picture!AS159","v":0},{"$f":"Picture!AT159","v":0},{"$f":"Picture!AU159","v":0},{"$f":"Picture!AV159","v":0},{"$f":"Picture!AW159","v":0},{"$f":"Picture!AX159","v":0},{"$f":"Picture!AY159","v":0},{"$f":"Picture!AZ159","v":0}]
[{"$f":"Picture!A160","v":0},{"$f":"Picture!B160","v":0},{"$f":"Picture!C160","v":0},{"$f":"Picture!D160","v":0},{"$f":"Picture!E160","v":0},{"$f":"Picture!F160","v":0},{"$f":"Picture!G160","v":0},{"$f":"Picture!H160","v":0},{"$f":"Picture!I160","v":0},{"$f":"Picture!J160","v":0},{"$f":"Picture!K160","v":0},{"$f":"Picture!L160","v":0},{"$f":"Picture!M160","v":0},{"$f":"Picture!N160","v":0},{"$f":"Picture!O160","v":0},{"$f":"Picture!P160","v":0},{"$f":"Picture!Q160","v":0},{"$f":"Picture!R160","v":0},{"$f":"Picture!S160","v":0},{"$f":"Picture!T160","v":0},{"$f":"Picture!U160","v":0},{"$f":"Picture!V160","v":0},{"$f":"Picture!W160","v":0},{"$f":"Picture!X160","v":0},{"$f":"Picture!Y160","v":0},{"$f":"Picture!Z160","v":0},{"$f":"Picture!AA160","v":0},{"$f":"Picture!AB160","v":0},{"$f":"Picture!AC160","v":0},{"$f":"Picture!AD160","v":0},{"$f":"Picture!AE160","v":0},{"$f":"Picture!AF160","v":0},{"$f":"Picture!AG160","v":0},{"$f":"Picture!AH160","v":0},{"$f":"Picture!AI160","v":0},{"$f":"Picture!AJ160","v":0},{"$f":"Picture!AK160","v":0},{"$f":"Picture!AL160","v":0},{"$f":"Picture!AM160","v":0},{"$f":"Picture!AN160","v":0},{"$f":"Picture!AO160","v":0},{"$f":"Picture!AP160","v":0},{"$f":"Picture!AQ160","v":0},{"$f":"Picture!AR160","v":0},{"$f":"Picture!AS160","v":0},{"$f":"Picture!AT160","v":0},{"$f":"Picture!AU160","v":0},{"$f":"Picture!AV160","v":0},{"$f":"Picture!AW160","v":0},{"$f":"Picture!AX160","v":0},{"$f":"Picture!AY160","v":0},{"$f":"Picture!AZ160","v":0}]
[{"$f":"Picture!A161","v":0},{"$f":"Picture!B161","v":0},{"$f":"Picture!C161","v":0},{"$f":"Picture!D161","v":0},{"$f":"Picture!E161","v":0},{"$f":"Picture!F161","v":0},{"$f":"Picture!G161","v":0},{"$f":"Picture!H161","v":0},{"$f":"Picture!I161","v":0},{"$f":"Picture!J161","v":0},{"$f":"Picture!K161","v":0},{"$f":"Picture!L161","v":0},{"$f":"Picture!M161","v":0},{"$f":"Picture!N161","v":0},{"$f":"Picture!O161","v":0},{"$f":"Picture!P161","v":0},{"$f":"Picture!Q161","v":0},{"$f":"Picture!R161","v":0},{"$f":"Picture!S161","v":0},{"$f":"Picture!T161","v":0},{"$f":"Picture!U161","v":0},{"$f":"Picture!V161","v":0},{"$f":"Picture!W161","v":0},{"$f":"Picture!X161","v":0},{"$f":"Picture!Y161","v":0},{"$f":"Picture!Z161","v":0},{"$f":"Picture!AA161","v":0},{"$f":"Picture!AB161","v":0},{"$f":"Picture!AC161","v":0},{"$f":"Picture!AD161","v":0},{"$f":"Picture!AE161","v":0},{"$f":"Picture!AF161","v":0},{"$f":"Picture!AG161","v":0},{"$f":"Picture!AH161","v":0},{"$f":"Picture!AI161","v":0},{"$f":"Picture!AJ161","v":0},{"$f":"Picture!AK161","v":0},{"$f":"Picture!AL161","v":0},{"$f":"Picture!AM161","v":0},{"$f":"Picture!AN161","v":0},{"$f":"Picture!AO161","v":0},{"$f":"Picture!AP161","v":0},{"$f":"Picture!AQ161","v":0},{"$f":"Picture!AR161","v":0},{"$f":"Picture!AS161","v":0},{"$f":"Picture!AT161","v":0},{"$f":"Picture!AU161","v":0},{"$f":"Picture!AV161","v":0},{"$f":"Picture!AW161","v":0},{"$f":"Picture!AX161","v":0},{"$f":"Picture!AY161","v":0},{"$f":"Picture!AZ161","v":0}]
[{"$f":"Picture!A162","v":0},{"$f":"Picture!B162","v":0},{"$f":"Picture!C162","v":0},{"$f":"Picture!D162","v":0},{"$f":"Picture!E162","v":0},{"$f":"Picture!F162","v":0},{"$f":"Picture!G162","v":0},{"$f":"Picture!H162","v":0},{"$f":"Picture!I162","v":0},{"$f":"Picture!J162","v":0},{"$f":"Picture!K162","v":0},{"$f":"Picture!L162","v":0},{"$f":"Picture!M162","v":0},{"$f":"Picture!N162","v":0},{"$f":"Picture!O162","v":0},{"$f":"Picture!P162","v":0},{"$f":"Picture!Q162","v":0},{"$f":"Picture!R162","v":0},{"$f":"Picture!S162","v":0},{"$f":"Picture!T162","v":0},{"$f":"Picture!U162","v":0},{"$f":"Picture!V162","v":0},{"$f":"Picture!W162","v":0},{"$f":"Picture!X162","v":0},{"$f":"Picture!Y162","v":0},{"$f":"Picture!Z162","v":0},{"$f":"Picture!AA162","v":0},{"$f":"Picture!AB162","v":0},{"$f":"Picture!AC162","v":0},{"$f":"Picture!AD162","v":0},{"$f":"Picture!AE162","v":0},{"$f":"Picture!AF162","v":0},{"$f":"Picture!AG162","v":0},{"$f":"Picture!AH162","v":0},{"$f":"Picture!AI162","v":0},{"$f":"Picture!AJ162","v":0},{"$f":"Picture!AK162","v":0},{"$f":"Picture!AL162","v":0},{"$f":"Picture!AM162","v":0},{"$f":"Picture!AN162","v":0},{"$f":"Picture!AO162","v":0},{"$f":"Picture!AP162","v":0},{"$f":"Picture!AQ162","v":0},{"$f":"Picture!AR162","v":0},{"$f":"Picture!AS162","v":0},{"$f":"Picture!AT162","v":0},{"$f":"Picture!AU162","v":0},{"$f":"Picture!AV162","v":0},{"$f":"Picture!AW162","v":0},{"$f":"Picture!AX162","v":0},{"$f":"Picture!AY162","v":0},{"$f":"Picture!AZ162","v":0}]
[{"$f":"Picture!A163","v":0},{"$f":"Picture!B163","v":0},{"$f":"Picture!C163","v":0},{"$f":"Picture!D163","v":0},{"$f":"Picture!E163","v":0},{"$f":"Picture!F163","v":0},{"$f":"Picture!G163","v":0},{"$f":"Picture!H163","v":0},{"$f":"Picture!I163","v":0},{"$f":"Picture!J163","v":0},{"$f":"Picture!K163","v":0},{"$f":"Picture!L163","v":0},{"$f":"Picture!M163","v":0},{"$f":"Picture!N163","v":0},{"$f":"Picture!O163","v":0},{"$f":"Picture!P163","v":0},{"$f":"Picture!Q163","v":0},{"$f":"Picture!R163","v":0},{"$f":"Picture!S163","v":0},{"$f":"Picture!T163","v":0},{"$f":"Picture!U163","v":0},{"$f":"Picture!V163","v":0},{"$f":"Picture!W163","v":0},{"$f":"Picture!X163","v":0},{"$f":"Picture!Y163","v":0},{"$f":"Picture!Z163","v":0},{"$f":"Picture!AA163","v":0},{"$f":"Picture!AB163","v":0},{"$f":"Picture!AC163","v":0},{"$f":"Picture!AD163","v":0},{"$f":"Picture!AE163","v":0},{"$f":"Picture!AF163","v":0},{"$f":"Picture!AG163","v":0},{"$f":"Picture!AH163","v":0},{"$f":"Picture!AI163","v":0},{"$f":"Picture!AJ163","v":0},{"$f":"Picture!AK163","v":0},{"$f":"Picture!AL163","v":0},{"$f":"Picture!AM163","v":0},{"$f":"Picture!AN163","v":0},{"$f":"Picture!AO163","v":0},{"$f":"Picture!AP163","v":0},{"$f":"Picture!AQ163","v":0},{"$f":"Picture!AR163","v":0},{"$f":"Picture!AS163","v":0},{"$f":"Picture!AT163","v":0},{"$f":"Picture!AU163","v":0},{"$f":"Picture!AV163","v":0},{"$f":"Picture!AW163","v":0},{"$f":"Picture!AX163","v":0},{"$f":"Picture!AY163","v":0},{"$f":"Picture!AZ163","v":0}]
[{"$f":"Picture!A164","v":0},{"$f":"Picture!B164","v":0},{"$f":"Picture!C164","v":0},{"$f":"Picture!D164","v":0},{"$f":"Picture!E164","v":0},{"$f":"Picture!F164","v":0},{"$f":"Picture!G164","v":0},{"$f":"Picture!H164","v":0},{"$f":"Picture!I164","v":0},{"$f":"Picture!J164","v":0},{"$f":"Picture!K164","v":0},{"$f":"Picture!L164","v":0},{"$f":"Picture!M164","v":0},{"$f":"Picture!N164","v":0},{"$f":"Picture!O164","v":0},{"$f":"Picture!P164","v":0},{"$f":"Picture!Q164","v":0},{"$f":"Picture!R164","v":0},{"$f":"Picture!S164","v":0},{"$f":"Picture!T164","v":0},{"$f":"Picture!U164","v":0},{"$f":"Picture!V164","v":0},{"$f":"Picture!W164","v":0},{"$f":"Picture!X164","v":0},{"$f":"Picture!Y164","v":0},{"$f":"Picture!Z164","v":0},{"$f":"Picture!AA164","v":0},{"$f":"Picture!AB164","v":0},{"$f":"Picture!AC164","v":0},{"$f":"Picture!AD164","v":0},{"$f":"Picture!AE164","v":0},{"$f":"Picture!AF164","v":0},{"$f":"Picture!AG164","v":0},{"$f":"Picture!AH164","v":0},{"$f":"Picture!AI164","v":0},{"$f":"Picture!AJ164","v":0},{"$f":"Picture!AK164","v":0},{"$f":"Picture!AL164","v":0},{"$f":"Picture!AM164","v":0},{"$f":"Picture!AN164","v":0},{"$f":"Picture!AO164","v":0},{"$f":"Picture!AP164","v":0},{"$f":"Picture!AQ164","v":0},{"$f":"Picture!AR164","v":0},{"$f":"Picture!AS164","v":0},{"$f":"Picture!AT164","v":0},{"$f":"Picture!AU164","v":0},{"$f":"Picture!AV164","v":0},{"$f":"Picture!AW164","v":0},{"$f":"Picture!AX164","v":0},{"$f":"Picture!AY164","v":0},{"$f":"Picture!AZ164","v":0}]
[{"$f":"Picture!A165","v":0},{"$f":"Picture!B165","v":0},{"$f":"Picture!C165","v":0},{"$f":"Picture!D165","v":0},{"$f":"Picture!E165","v":0},{"$f":"Picture!F165","v":0},{"$f":"Picture!G165","v":0},{"$f":"Picture!H165","v":0},{"$f":"Picture!I165","v":0},{"$f":"Picture!J165","v":0},{"$f":"Picture!K165","v":0},{"$f":"Picture!L165","v":0},{"$f":"Picture!M165","v":0},{"$f":"Picture!N165","v":0},{"$f":"Picture!O165","v":0},{"$f":"Picture!P165","v":0},{"$f":"Picture!Q165","v":0},{"$f":"Picture!R165","v":0},{"$f":"Picture!S165","v":0},{"$f":"Picture!T165","v":0},{"$f":"Picture!U165","v":0},{"$f":"Picture!V165","v":0},{"$f":"Picture!W165","v":0},{"$f":"Picture!X165","v":0},{"$f":"Picture!Y165","v":0},{"$f":"Picture!Z165","v":0},{"$f":"Picture!AA165","v":0},{"$f":"Picture!AB165","v":0},{"$f":"Picture!AC165","v":0},{"$f":"Picture!AD165","v":0},{"$f":"Picture!AE165","v":0},{"$f":"Picture!AF165","v":0},{"$f":"Picture!AG165","v":0},{"$f":"Picture!AH165","v":0},{"$f":"Picture!AI165","v":0},{"$f":"Picture!AJ165","v":0},{"$f":"Picture!AK165","v":0},{"$f":"Picture!AL165","v":0},{"$f":"Picture!AM165","v":0},{"$f":"Picture!AN165","v":0},{"$f":"Picture!AO165","v":0},{"$f":"Picture!AP165","v":0},{"$f":"Picture!AQ165","v":0},{"$f":"Picture!AR165","v":0},{"$f":"Picture!AS165","v":0},{"$f":"Picture!AT165","v":0},{"$f":"Picture!AU165","v":0},{"$f":"Picture!AV165","v":0},{"$f":"Picture!AW165","v":0},{"$f":"Picture!AX165","v":0},{"$f":"Picture!AY165","v":0},{"$f":"Picture!AZ165","v":0}]
[{"$f":"Picture!A166","v":0},{"$f":"Picture!B166","v":0},{"$f":"Picture!C166","v":0},{"$f":"Picture!D166","v":0},{"$f":"Picture!E166","v":0},{"$f":"Picture!F166","v":0},{"$f":"Picture!G166","v":0},{"$f":"Picture!H166","v":0},{"$f":"Picture!I166","v":0},{"$f":"Picture!J166","v":0},{"$f":"Picture!K166","v":0},{"$f":"Picture!L166","v":0},{"$f":"Picture!M166","v":0},{"$f":"Picture!N166","v":0},{"$f":"Picture!O166","v":0},{"$f":"Picture!P166","v":0},{"$f":"Picture!Q166","v":0},{"$f":"Picture!R166","v":0},{"$f":"Picture!S166","v":0},{"$f":"Picture!T166","v":0},{"$f":"Picture!U166","v":0},{"$f":"Picture!V166","v":0},{"$f":"Picture!W166","v":0},{"$f":"Picture!X166","v":0},{"$f":"Picture!Y166","v":0},{"$f":"Picture!Z166","v":0},{"$f":"Picture!AA166","v":0},{"$f":"Picture!AB166","v":0},{"$f":"Picture!AC166","v":0},{"$f":"Picture!AD166","v":0},{"$f":"Picture!AE166","v":0},{"$f":"Picture!AF166","v":0},{"$f":"Picture!AG166","v":0},{"$f":"Picture!AH166","v":0},{"$f":"Picture!AI166","v":0},{"$f":"Picture!AJ166","v":0},{"$f":"Picture!AK166","v":0},{"$f":"Picture!AL166","v":0},{"$f":"Picture!AM166","v":0},{"$f":"Picture!AN166","v":0},{"$f":"Picture!AO166","v":0},{"$f":"Picture!AP166","v":0},{"$f":"Picture!AQ166","v":0},{"$f":"Picture!AR166","v":0},{"$f":"Picture!AS166","v":0},{"$f":"Picture!AT166","v":0},{"$f":"Picture!AU166","v":0},{"$f":"Picture!AV166","v":0},{"$f":"Picture!AW166","v":0},{"$f":"Picture!AX166","v":0},{"$f":"Picture!AY166","v":0},{"$f":"Picture!AZ166","v":0}]
[{"$f":"Picture!A167","v":0},{"$f":"Picture!B167","v":0},{"$f":"Picture!C167","v":0},{"$f":"Picture!D167","v":0},{"$f":"Picture!E167","v":0},{"$f":"Picture!F167","v":0},{"$f":"Picture!G167","v":0},{"$f":"Picture!H167","v":0},{"$f":"Picture!I167","v":0},{"$f":"Picture!J167","v":0},{"$f":"Picture!K167","v":0},{"$f":"Picture!L167","v":0},{"$f":"Picture!M167","v":0},{"$f":"Picture!N167","v":0},{"$f":"Picture!O167","v":0},{"$f":"Picture!P167","v":0},{"$f":"Picture!Q167","v":0},{"$f":"Picture!R167","v":0},{"$f":"Picture!S167","v":0},{"$f":"Picture!T167","v":0},{"$f":"Picture!U167","v":0},{"$f":"Picture!V167","v":0},{"$f":"Picture!W167","v":0},{"$f":"Picture!X167","v":0},{"$f":"Picture!Y167","v":0},{"$f":"Picture!Z167","v":0},{"$f":"Picture!AA167","v":0},{"$f":"Picture!AB167","v":0},{"$f":"Picture!AC167","v":0},{"$f":"Picture!AD167","v":0},{"$f":"Picture!AE167","v":0},{"$f":"Picture!AF167","v":0},{"$f":"Picture!AG167","v":0},{"$f":"Picture!AH167","v":0},{"$f":"Picture!AI167","v":0},{"$f":"Picture!AJ167","v":0},{"$f":"Picture!AK167","v":0},{"$f":"Picture!AL167","v":0},{"$f":"Picture!AM167","v":0},{"$f":"Picture!AN167","v":0},{"$f":"Picture!AO167","v":0},{"$f":"Picture!AP167","v":0},{"$f":"Picture!AQ167","v":0},{"$f":"Picture!AR167","v":0},{"$f":"Picture!AS167","v":0},{"$f":"Picture!AT167","v":0},{"$f":"Picture!AU167","v":0},{"$f":"Picture!AV167","v":0},{"$f":"Picture!AW167","v":0},{"$f":"Picture!AX167","v":0},{"$f":"Picture!AY167","v":0},{"$f":"Picture!AZ167","v":0}]
[{"$f":"Picture!A168","v":0},{"$f":"Picture!B168","v":0},{"$f":"Picture!C168","v":0},{"$f":"Picture!D168","v":0},{"$f":"Picture!E168","v":0},{"$f":"Picture!F168","v":0},{"$f":"Picture!G168","v":0},{"$f":"Picture!H168","v":0},{"$f":"Picture!I168","v":0},{"$f":"Picture!J168","v":0},{"$f":"Picture!K168","v":0},{"$f":"Picture!L168","v":0},{"$f":"Picture!M168","v":0},{"$f":"Picture!N168","v":0},{"$f":"Picture!O168","v":0},{"$f":"Picture!P168","v":0},{"$f":"Picture!Q168","v":0},{"$f":"Picture!R168","v":0},{"$f":"Picture!S168","v":0},{"$f":"Picture!T168","v":0},{"$f":"Picture!U168","v":0},{"$f":"Picture!V168","v":0},{"$f":"Picture!W168","v":0},{"$f":"Picture!X168","v":0},{"$f":"Picture!Y168","v":0},{"$f":"Picture!Z168","v":0},{"$f":"Picture!AA168","v":0},{"$f":"Picture!AB168","v":0},{"$f":"Picture!AC168","v":0},{"$f":"Picture!AD168","v":0},{"$f":"Picture!AE168","v":0},{"$f":"Picture!AF168","v":0},{"$f":"Picture!AG168","v":0},{"$f":"Picture!AH168","v":0},{"$f":"Picture!AI168","v":0},{"$f":"Picture!AJ168","v":0},{"$f":"Picture!AK168","v":0},{"$f":"Picture!AL168","v":0},{"$f":"Picture!AM168","v":0},{"$f":"Picture!AN168","v":0},{"$f":"Picture!AO168","v":0},{"$f":"Picture!AP168","v":0},{"$f":"Picture!AQ168","v":0},{"$f":"Picture!AR168","v":0},{"$f":"Picture!AS168","v":0},{"$f":"Picture!AT168","v":0},{"$f":"Picture!AU168","v":0},{"$f":"Picture!AV168","v":0},{"$f":"Picture!AW168","v":0},{"$f":"Picture!AX168","v":0},{"$f":"Picture!AY168","v":0},{"$f":"Picture!AZ168","v":0}]
[{"$f":"Picture!A169","v":0},{"$f":"Picture!B169","v":0},{"$f":"Picture!C169","v":0},{"$f":"Picture!D169","v":0},{"$f":"Picture!E169","v":0},{"$f":"Picture!F169","v":0},{"$f":"Picture!G169","v":0},{"$f":"Picture!H169","v":0},{"$f":"Picture!I169","v":0},{"$f":"Picture!J169","v":0},{"$f":"Picture!K169","v":0},{"$f":"Picture!L169","v":0},{"$f":"Picture!M169","v":0},{"$f":"Picture!N169","v":0},{"$f":"Picture!O169","v":0},{"$f":"Picture!P169","v":0},{"$f":"Picture!Q169","v":0},{"$f":"Picture!R169","v":0},{"$f":"Picture!S169","v":0},{"$f":"Picture!T169","v":0},{"$f":"Picture!U169","v":0},{"$f":"Picture!V169","v":0},{"$f":"Picture!W169","v":0},{"$f":"Picture!X169","v":0},{"$f":"Picture!Y169","v":0},{"$f":"Picture!Z169","v":0},{"$f":"Picture!AA169","v":0},{"$f":"Picture!AB169","v":0},{"$f":"Picture!AC169","v":0},{"$f":"Picture!AD169","v":0},{"$f":"Picture!AE169","v":0},{"$f":"Picture!AF169","v":0},{"$f":"Picture!AG169","v":0},{"$f":"Picture!AH169","v":0},{"$f":"Picture!AI169","v":0},{"$f":"Picture!AJ169","v":0},{"$f":"Picture!AK169","v":0},{"$f":"Picture!AL169","v":0},{"$f":"Picture!AM169","v":0},{"$f":"Picture!AN169","v":0},{"$f":"Picture!AO169","v":0},{"$f":"Picture!AP169","v":0},{"$f":"Picture!AQ169","v":0},{"$f":"Picture!AR169","v":0},{"$f":"Picture!AS169","v":0},{"$f":"Picture!AT169","v":0},{"$f":"Picture!AU169","v":0},{"$f":"Picture!AV169","v":0},{"$f":"Picture!AW169","v":0},{"$f":"Picture!AX169","v":0},{"$f":"Picture!AY169","v":0},{"$f":"Picture!AZ169","v":0}]
[{"$f":"Picture!A170","v":0},{"$f":"Picture!B170","v":0},{"$f":"Picture!C170","v":0},{"$f":"Picture!D170","v":0},{"$f":"Picture!E170","v":0},{"$f":"Picture!F170","v":0},{"$f":"Picture!G170","v":0},{"$f":"Picture!H170","v":0},{"$f":"Picture!I170","v":0},{"$f":"Picture!J170","v":0},{"$f":"Picture!K170","v":0},{"$f":"Picture!L170","v":0},{"$f":"Picture!M170","v":0},{"$f":"Picture!N170","v":0},{"$f":"Picture!O170","v":0},{"$f":"Picture!P170","v":0},{"$f":"Picture!Q170","v":0},{"$f":"Picture!R170","v":0},{"$f":"Picture!S170","v":0},{"$f":"Picture!T170","v":0},{"$f":"Picture!U170","v":0},{"$f":"Picture!V170","v":0},{"$f":"Picture!W170","v":0},{"$f":"Picture!X170","v":0},{"$f":"Picture!Y170","v":0},{"$f":"Picture!Z170","v":0},{"$f":"Picture!AA170","v":0},{"$f":"Picture!AB170","v":0},{"$f":"Picture!AC170","v":0},{"$f":"Picture!AD170","v":0},{"$f":"Picture!AE170","v":0},{"$f":"Picture!AF170","v":0},{"$f":"Picture!AG170","v":0},{"$f":"Picture!AH170","v":0},{"$f":"Picture!AI170","v":0},{"$f":"Picture!AJ170","v":0},{"$f":"Picture!AK170","v":0},{"$f":"Picture!AL170","v":0},{"$f":"Picture!AM170","v":0},{"$f":"Picture!AN170","v":0},{"$f":"Picture!AO170","v":0},{"$f":"Picture!AP170","v":0},{"$f":"Picture!AQ170","v":0},{"$f":"Picture!AR170","v":0},{"$f":"Picture!AS170","v":0},{"$f":"Picture!AT170","v":0},{"$f":"Picture!AU170","v":0},{"$f":"Picture!AV170","v":0},{"$f":"Picture!AW170","v":0},{"$f":"Picture!AX170","v":0},{"$f":"Picture!AY170","v":0},{"$f":"Picture!AZ170","v":0}]
[{"$f":"Picture!A171","v":0},{"$f":"Picture!B171","v":0},{"$f":"Picture!C171","v":0},{"$f":"Picture!D171","v":0},{"$f":"Picture!E171","v":0},{"$f":"Picture!F171","v":0},{"$f":"Picture!G171","v":0},{"$f":"Picture!H171","v":0},{"$f":"Picture!I171","v":0},{"$f":"Picture!J171","v":0},{"$f":"Picture!K171","v":0},{"$f":"Picture!L171","v":0},{"$f":"Picture!M171","v":0},{"$f":"Picture!N171","v":0},{"$f":"Picture!O171","v":0},{"$f":"Picture!P171","v":0},{"$f":"Picture!Q171","v":0},{"$f":"Picture!R171","v":0},{"$f":"Picture!S171","v":0},{"$f":"Picture!T171","v":0},{"$f":"Picture!U171","v":0},{"$f":"Picture!V171","v":0},{"$f":"Picture!W171","v":0},{"$f":"Picture!X171","v":0},{"$f":"Picture!Y171","v":0},{"$f":"Picture!Z171","v":0},{"$f":"Picture!AA171","v":0},{"$f":"Picture!AB171","v":0},{"$f":"Picture!AC171","v":0},{"$f":"Picture!AD171","v":0},{"$f":"Picture!AE171","v":0},{"$f":"Picture!AF171","v":0},{"$f":"Picture!AG171","v":0},{"$f":"Picture!AH171","v":0},{"$f":"Picture!AI171","v":0},{"$f":"Picture!AJ171","v":0},{"$f":"Picture!AK171","v":0},{"$f":"Picture!AL171","v":0},{"$f":"Picture!AM171","v":0},{"$f":"Picture!AN171","v":0},{"$f":"Picture!AO171","v":0},{"$f":"Picture!AP171","v":0},{"$f":"Picture!AQ171","v":0},{"$f":"Picture!AR171","v":0},{"$f":"Picture!AS171","v":0},{"$f":"Picture!AT171","v":0},{"$f":"Picture!AU171","v":0},{"$f":"Picture!AV171","v":0},{"$f":"Picture!AW171","v":0},{"$f":"Picture!AX171","v":0},{"$f":"Picture!AY171","v":0},{"$f":"Picture!AZ171","v":0}]
[{"$f":"Picture!A172","v":0},{"$f":"Picture!B172","v":0},{"$f":"Picture!C172","v":0},{"$f":"Picture!D172","v":0},{"$f":"Picture!E172","v":0},{"$f":"Picture!F172","v":0},{"$f":"Picture!G172","v":0},{"$f":"Picture!H172","v":0},{"$f":"Picture!I172","v":0},{"$f":"Picture!J172","v":0},{"$f":"Picture!K172","v":0},{"$f":"Picture!L172","v":0},{"$f":"Picture!M172","v":0},{"$f":"Picture!N172","v":0},{"$f":"Picture!O172","v":0},{"$f":"Picture!P172","v":0},{"$f":"Picture!Q172","v":0},{"$f":"Picture!R172","v":0},{"$f":"Picture!S172","v":0},{"$f":"Picture!T172","v":0},{"$f":"Picture!U172","v":0},{"$f":"Picture!V172","v":0},{"$f":"Picture!W172","v":0},{"$f":"Picture!X172","v":0},{"$f":"Picture!Y172","v":0},{"$f":"Picture!Z172","v":0},{"$f":"Picture!AA172","v":0},{"$f":"Picture!AB172","v":0},{"$f":"Picture!AC172","v":0},{"$f":"Picture!AD172","v":0},{"$f":"Picture!AE172","v":0},{"$f":"Picture!AF172","v":0},{"$f":"Picture!AG172","v":0},{"$f":"Picture!AH172","v":0},{"$f":"Picture!AI172","v":0},{"$f":"Picture!AJ172","v":0},{"$f":"Picture!AK172","v":0},{"$f":"Picture!AL172","v":0},{"$f":"Picture!AM172","v":0},{"$f":"Picture!AN172","v":0},{"$f":"Picture!AO172","v":0},{"$f":"Picture!AP172","v":0},{"$f":"Picture!AQ172","v":0},{"$f":"Picture!AR172","v":0},{"$f":"Picture!AS172","v":0},{"$f":"Picture!AT172","v":0},{"$f":"Picture!AU172","v":0},{"$f":"Picture!AV172","v":0},{"$f":"Picture!AW172","v":0},{"$f":"Picture!AX172","v":0},{"$f":"Picture!AY172","v":0},{"$f":"Picture!AZ172","v":0}]
[{"$f":"Picture!A173","v":0},{"$f":"Picture!B173","v":0},{"$f":"Picture!C173","v":0},{"$f":"Picture!D173","v":0},{"$f":"Picture!E173","v":0},{"$f":"Picture!F173","v":0},{"$f":"Picture!G173","v":0},{"$f":"Picture!H173","v":0},{"$f":"Picture!I173","v":0},{"$f":"Picture!J173","v":0},{"$f":"Picture!K173","v":0},{"$f":"Picture!L173","v":0},{"$f":"Picture!M173","v":0},{"$f":"Picture!N173","v":0},{"$f":"Picture!O173","v":0},{"$f":"Picture!P173","v":0},{"$f":"Picture!Q173","v":0},{"$f":"Picture!R173","v":0},{"$f":"Picture!S173","v":0},{"$f":"Picture!T173","v":0},{"$f":"Picture!U173","v":0},{"$f":"Picture!V173","v":0},{"$f":"Picture!W173","v":0},{"$f":"Picture!X173","v":0},{"$f":"Picture!Y173","v":0},{"$f":"Picture!Z173","v":0},{"$f":"Picture!AA173","v":0},{"$f":"Picture!AB173","v":0},{"$f":"Picture!AC173","v":0},{"$f":"Picture!AD173","v":0},{"$f":"Picture!AE173","v":0},{"$f":"Picture!AF173","v":0},{"$f":"Picture!AG173","v":0},{"$f":"Picture!AH173","v":0},{"$f":"Picture!AI173","v":0},{"$f":"Picture!AJ173","v":0},{"$f":"Picture!AK173","v":0},{"$f":"Picture!AL173","v":0},{"$f":"Picture!AM173","v":0},{"$f":"Picture!AN173","v":0},{"$f":"Picture!AO173","v":0},{"$f":"Picture!AP173","v":0},{"$f":"Picture!AQ173","v":0},{"$f":"Picture!AR173","v":0},{"$f":"Picture!AS173","v":0},{"$f":"Picture!AT173","v":0},{"$f":"Picture!AU173","v":0},{"$f":"Picture!AV173","v":0},{"$f":"Picture!AW173","v":0},{"$f":"Picture!AX173","v":0},{"$f":"Picture!AY173","v":0},{"$f":"Picture!AZ173","v":0}]
[{"$f":"Picture!A174","v":0},{"$f":"Picture!B174","v":0},{"$f":"Picture!C174","v":0},{"$f":"Picture!D174","v":0},{"$f":"Picture!E174","v":0},{"$f":"Picture!F174","v":0},{"$f":"Picture!G174","v":0},{"$f":"Picture!H174","v":0},{"$f":"Picture!I174","v":0},{"$f":"Picture!J174","v":0},{"$f":"Picture!K174","v":0},{"$f":"Picture!L174","v":0},{"$f":"Picture!M174","v":0},{"$f":"Picture!N174","v":0},{"$f":"Picture!O174","v":0},{"$f":"Picture!P174","v":0},{"$f":"Picture!Q174","v":0},{"$f":"Picture!R174","v":0},{"$f":"Picture!S174","v":0},{"$f":"Picture!T174","v":0},{"$f":"Picture!U174","v":0},{"$f":"Picture!V174","v":0},{"$f":"Picture!W174","v":0},{"$f":"Picture!X174","v":0},{"$f":"Picture!Y174","v":0},{"$f":"Picture!Z174","v":0},{"$f":"Picture!AA174","v":0},{"$f":"Picture!AB174","v":0},{"$f":"Picture!AC174","v":0},{"$f":"Picture!AD174","v":0},{"$f":"Picture!AE174","v":0},{"$f":"Picture!AF174","v":0},{"$f":"Picture!AG174","v":0},{"$f":"Picture!AH174","v":0},{"$f":"Picture!AI174","v":0},{"$f":"Picture!AJ174","v":0},{"$f":"Picture!AK174","v":0},{"$f":"Picture!AL174","v":0},{"$f":"Picture!AM174","v":0},{"$f":"Picture!AN174","v":0},{"$f":"Picture!AO174","v":0},{"$f":"Picture!AP174","v":0},{"$f":"Picture!AQ174","v":0},{"$f":"Picture!AR174","v":0},{"$f":"Picture!AS174","v":0},{"$f":"Picture!AT174","v":0},{"$f":"Picture!AU174","v":0},{"$f":"Picture!AV174","v":0},{"$f":"Picture!AW174","v":0},{"$f":"Picture!AX174","v":0},{"$f":"Picture!AY174","v":0},{"$f":"Picture!AZ174","v":0}]
[{"$f":"Picture!A175","v":0},{"$f":"Picture!B175","v":0},{"$f":"Picture!C175","v":0},{"$f":"Picture!D175","v":0},{"$f":"Picture!E175","v":0},{"$f":"Picture!F175","v":0},{"$f":"Picture!G175","v":0},{"$f":"Picture!H175","v":0},{"$f":"Picture!I175","v":0},{"$f":"Picture!J175","v":0},{"$f":"Picture!K175","v":0},{"$f":"Picture!L175","v":0},{"$f":"Picture!M175","v":0},{"$f":"Picture!N175","v":0},{"$f":"Picture!O175","v":0},{"$f":"Picture!P175","v":0},{"$f":"Picture!Q175","v":0},{"$f":"Picture!R175","v":0},{"$f":"Picture!S175","v":0},{"$f":"Picture!T175","v":0},{"$f":"Picture!U175","v":0},{"$f":"Picture!V175","v":0},{"$f":"Picture!W175","v":0},{"$f":"Picture!X175","v":0},{"$f":"Picture!Y175","v":0},{"$f":"Picture!Z175","v":0},{"$f":"Picture!AA175","v":0},{"$f":"Picture!AB175","v":0},{"$f":"Picture!AC175","v":0},{"$f":"Picture!AD175","v":0},{"$f":"Picture!AE175","v":0},{"$f":"Picture!AF175","v":0},{"$f":"Picture!AG175","v":0},{"$f":"Picture!AH175","v":0},{"$f":"Picture!AI175","v":0},{"$f":"Picture!AJ175","v":0},{"$f":"Picture!AK175","v":0},{"$f":"Picture!AL175","v":0},{"$f":"Picture!AM175","v":0},{"$f":"Picture!AN175","v":0},{"$f":"Picture!AO175","v":0},{"$f":"Picture!AP175","v":0},{"$f":"Picture!AQ175","v":0},{"$f":"Picture!AR175","v":0},{"$f":"Picture!AS175","v":0},{"$f":"Picture!AT175","v":0},{"$f":"Picture!AU175","v":0},{"$f":"Picture!AV175","v":0},{"$f":"Picture!AW175","v":0},{"$f":"Picture!AX175","v":0},{"$f":"Picture!AY175","v":0},{"$f":"Picture!AZ175","v":0}]
[{"$f":"Picture!A176","v":0},{"$f":"Picture!B176","v":0},{"$f":"Picture!C176","v":0},{"$f":"Picture!D176","v":0},{"$f":"Picture!E176","v":0},{"$f":"Picture!F176","v":0},{"$f":"Picture!G176","v":0},{"$f":"Picture!H176","v":0},{"$f":"Picture!I176","v":0},{"$f":"Picture!J176","v":0},{"$f":"Picture!K176","v":0},{"$f":"Picture!L176","v":0},{"$f":"Picture!M176","v":0},{"$f":"Picture!N176","v":0},{"$f":"Picture!O176","v":0},{"$f":"Picture!P176","v":0},{"$f":"Picture!Q176","v":0},{"$f":"Picture!R176","v":0},{"$f":"Picture!S176","v":0},{"$f":"Picture!T176","v":0},{"$f":"Picture!U176","v":0},{"$f":"Picture!V176","v":0},{"$f":"Picture!W176","v":0},{"$f":"Picture!X176","v":0},{"$f":"Picture!Y176","v":0},{"$f":"Picture!Z176","v":0},{"$f":"Picture!AA176","v":0},{"$f":"Picture!AB176","v":0},{"$f":"Picture!AC176","v":0},{"$f":"Picture!AD176","v":0},{"$f":"Picture!AE176","v":0},{"$f":"Picture!AF176","v":0},{"$f":"Picture!AG176","v":0},{"$f":"Picture!AH176","v":0},{"$f":"Picture!AI176","v":0},{"$f":"Picture!AJ176","v":0},{"$f":"Picture!AK176","v":0},{"$f":"Picture!AL176","v":0},{"$f":"Picture!AM176","v":0},{"$f":"Picture!AN176","v":0},{"$f":"Picture!AO176","v":0},{"$f":"Picture!AP176","v":0},{"$f":"Picture!AQ176","v":0},{"$f":"Picture!AR176","v":0},{"$f":"Picture!AS176","v":0},{"$f":"Picture!AT176","v":0},{"$f":"Picture!AU176","v":0},{"$f":"Picture!AV176","v":0},{"$f":"Picture!AW176","v":0},{"$f":"Picture!AX176","v":0},{"$f":"Picture!AY176","v":0},{"$f":"Picture!AZ176","v":0}]
[{"$f":"Picture!A177","v":0},{"$f":"Picture!B177","v":0},{"$f":"Picture!C177","v":0},{"$f":"Picture!D177","v":0},{"$f":"Picture!E177","v":0},{"$f":"Picture!F177","v":0},{"$f":"Picture!G177","v":0},{"$f":"Picture!H177","v":0},{"$f":"Picture!I177","v":0},{"$f":"Picture!J177","v":0},{"$f":"Picture!K177","v":0},{"$f":"Picture!L177","v":0},{"$f":"Picture!M177","v":0},{"$f":"Picture!N177","v":0},{"$f":"Picture!O177","v":0},{"$f":"Picture!P177","v":0},{"$f":"Picture!Q177","v":0},{"$f":"Picture!R177","v":0},{"$f":"Picture!S177","v":0},{"$f":"Picture!T177","v":0},{"$f":"Picture!U177","v":0},{"$f":"Picture!V177","v":0},{"$f":"Picture!W177","v":0},{"$f":"Picture!X177","v":0},{"$f":"Picture!Y177","v":0},{"$f":"Picture!Z177","v":0},{"$f":"Picture!AA177","v":0},{"$f":"Picture!AB177","v":0},{"$f":"Picture!AC177","v":0},{"$f":"Picture!AD177","v":0},{"$f":"Picture!AE177","v":0},{"$f":"Picture!AF177","v":0},{"$f":"Picture!AG177","v":0},{"$f":"Picture!AH177","v":0},{"$f":"Picture!AI177","v":0},{"$f":"Picture!AJ177","v":0},{"$f":"Picture!AK177","v":0},{"$f":"Picture!AL177","v":0},{"$f":"Picture!AM177","v":0},{"$f":"Picture!AN177","v":0},{"$f":"Picture!AO177","v":0},{"$f":"Picture!AP177","v":0},{"$f":"Picture!AQ177","v":0},{"$f":"Picture!AR177","v":0},{"$f":"Picture!AS177","v":0},{"$f":"Picture!AT177","v":0},{"$f":"Picture!AU177","v":0},{"$f":"Picture!AV177","v":0},{"$f":"Picture!AW177","v":0},{"$f":"Picture!AX177","v":0},{"$f":"Picture!AY177","v":0},{"$f":"Picture!AZ177","v":0}]
[{"$f":"Picture!A178","v":0},{"$f":"Picture!B178","v":0},{"$f":"Picture!C178","v":0},{"$f":"Picture!D178","v":0},{"$f":"Picture!E178","v":0},{"$f":"Picture!F178","v":0},{"$f":"Picture!G178","v":0},{"$f":"Picture!H178","v":0},{"$f":"Picture!I178","v":0},{"$f":"Picture!J178","v":0},{"$f":"Picture!K178","v":0},{"$f":"Picture!L178","v":0},{"$f":"Picture!M178","v":0},{"$f":"Picture!N178","v":0},{"$f":"Picture!O178","v":0},{"$f":"Picture!P178","v":0},{"$f":"Picture!Q178","v":0},{"$f":"Picture!R178","v":0},{"$f":"Picture!S178","v":0},{"$f":"Picture!T178","v":0},{"$f":"Picture!U178","v":0},{"$f":"Picture!V178","v":0},{"$f":"Picture!W178","v":0},{"$f":"Picture!X178","v":0},{"$f":"Picture!Y178","v":0},{"$f":"Picture!Z178","v":0},{"$f":"Picture!AA178","v":0},{"$f":"Picture!AB178","v":0},{"$f":"Picture!AC178","v":0},{"$f":"Picture!AD178","v":0},{"$f":"Picture!AE178","v":0},{"$f":"Picture!AF178","v":0},{"$f":"Picture!AG178","v":0},{"$f":"Picture!AH178","v":0},{"$f":"Picture!AI178","v":0},{"$f":"Picture!AJ178","v":0},{"$f":"Picture!AK178","v":0},{"$f":"Picture!AL178","v":0},{"$f":"Picture!AM178","v":0},{"$f":"Picture!AN178","v":0},{"$f":"Picture!AO178","v":0},{"$f":"Picture!AP178","v":0},{"$f":"Picture!AQ178","v":0},{"$f":"Picture!AR178","v":0},{"$f":"Picture!AS178","v":0},{"$f":"Picture!AT178","v":0},{"$f":"Picture!AU178","v":0},{"$f":"Picture!AV178","v":0},{"$f":"Picture!AW178","v":0},{"$f":"Picture!AX178","v":0},{"$f":"Picture!AY178","v":0},{"$f":"Picture!AZ178","v":0}]
[{"$f":"Picture!A179","v":0},{"$f":"Picture!B179","v":0},{"$f":"Picture!C179","v":0},{"$f":"Picture!D179","v":0},{"$f":"Picture!E179","v":0},{"$f":"Picture!F179","v":0},{"$f":"Picture!G179","v":0},{"$f":"Picture!H179","v":0},{"$f":"Picture!I179","v":0},{"$f":"Picture!J179","v":0},{"$f":"Picture!K179","v":0},{"$f":"Picture!L179","v":0},{"$f":"Picture!M179","v":0},{"$f":"Picture!N179","v":0},{"$f":"Picture!O179","v":0},{"$f":"Picture!P179","v":0},{"$f":"Picture!Q179","v":0},{"$f":"Picture!R179","v":0},{"$f":"Picture!S179","v":0},{"$f":"Picture!T179","v":0},{"$f":"Picture!U179","v":0},{"$f":"Picture!V179","v":0},{"$f":"Picture!W179","v":0},{"$f":"Picture!X179","v":0},{"$f":"Picture!Y179","v":0},{"$f":"Picture!Z179","v":0},{"$f":"Picture!AA179","v":0},{"$f":"Picture!AB179","v":0},{"$f":"Picture!AC179","v":0},{"$f":"Picture!AD179","v":0},{"$f":"Picture!AE179","v":0},{"$f":"Picture!AF179","v":0},{"$f":"Picture!AG179","v":0},{"$f":"Picture!AH179","v":0},{"$f":"Picture!AI179","v":0},{"$f":"Picture!AJ179","v":0},{"$f":"Picture!AK179","v":0},{"$f":"Picture!AL179","v":0},{"$f":"Picture!AM179","v":0},{"$f":"Picture!AN179","v":0},{"$f":"Picture!AO179","v":0},{"$f":"Picture!AP179","v":0},{"$f":"Picture!AQ179","v":0},{"$f":"Picture!AR179","v":0},{"$f":"Picture!AS179","v":0},{"$f":"Picture!AT179","v":0},{"$f":"Picture!AU179","v":0},{"$f":"Picture!AV179","v":0},{"$f":"Picture!AW179","v":0},{"$f":"Picture!AX179","v":0},{"$f":"Picture!AY179","v":0},{"$f":"Picture!AZ179","v":0}]
[{"$f":"Picture!A180","v":0},{"$f":"Picture!B180","v":0},{"$f":"Picture!C180","v":0},{"$f":"Picture!D180","v":0},{"$f":"Picture!E180","v":0},{"$f":"Picture!F180","v":0},{"$f":"Picture!G180","v":0},{"$f":"Picture!H180","v":0},{"$f":"Picture!I180","v":0},{"$f":"Picture!J180","v":0},{"$f":"Picture!K180","v":0},{"$f":"Picture!L180","v":0},{"$f":"Picture!M180","v":0},{"$f":"Picture!N180","v":0},{"$f":"Picture!O180","v":0},{"$f":"Picture!P180","v":0},{"$f":"Picture!Q180","v":0},{"$f":"Picture!R180","v":0},{"$f":"Picture!S180","v":0},{"$f":"Picture!T180","v":0},{"$f":"Picture!U180","v":0},{"$f":"Picture!V180","v":0},{"$f":"Picture!W180","v":0},{"$f":"Picture!X180","v":0},{"$f":"Picture!Y180","v":0},{"$f":"Picture!Z180","v":0},{"$f":"Picture!AA180","v":0},{"$f":"Picture!AB180","v":0},{"$f":"Picture!AC180","v":0},{"$f":"Picture!AD180","v":0},{"$f":"Picture!AE180","v":0},{"$f":"Picture!AF180","v":0},{"$f":"Picture!AG180","v":0},{"$f":"Picture!AH180","v":0},{"$f":"Picture!AI180","v":0},{"$f":"Picture!AJ180","v":0},{"$f":"Picture!AK180","v":0},{"$f":"Picture!AL180","v":0},{"$f":"Picture!AM180","v":0},{"$f":"Picture!AN180","v":0},{"$f":"Picture!AO180","v":0},{"$f":"Picture!AP180","v":0},{"$f":"Picture!AQ180","v":0},{"$f":"Picture!AR180","v":0},{"$f":"Picture!AS180","v":0},{"$f":"Picture!AT180","v":0},{"$f":"Picture!AU180","v":0},{"$f":"Picture!AV180","v":0},{"$f":"Picture!AW180","v":0},{"$f":"Picture!AX180","v":0},{"$f":"Picture!AY180","v":0},{"$f":"Picture!AZ180","v":0}]
[{"$f":"Picture!A181","v":0},{"$f":"Picture!B181","v":0},{"$f":"Picture!C181","v":0},{"$f":"Picture!D181","v":0},{"$f":"Picture!E181","v":0},{"$f":"Picture!F181","v":0},{"$f":"Picture!G181","v":0},{"$f":"Picture!H181","v":0},{"$f":"Picture!I181","v":0},{"$f":"Picture!J181","v":0},{"$f":"Picture!K181","v":0},{"$f":"Picture!L181","v":0},{"$f":"Picture!M181","v":0},{"$f":"Picture!N181","v":0},{"$f":"Picture!O181","v":0},{"$f":"Picture!P181","v":0},{"$f":"Picture!Q181","v":0},{"$f":"Picture!R181","v":0},{"$f":"Picture!S181","v":0},{"$f":"Picture!T181","v":0},{"$f":"Picture!U181","v":0},{"$f":"Picture!V181","v":0},{"$f":"Picture!W181","v":0},{"$f":"Picture!X181","v":0},{"$f":"Picture!Y181","v":0},{"$f":"Picture!Z181","v":0},{"$f":"Picture!AA181","v":0},{"$f":"Picture!AB181","v":0},{"$f":"Picture!AC181","v":0},{"$f":"Picture!AD181","v":0},{"$f":"Picture!AE181","v":0},{"$f":"Picture!AF181","v":0},{"$f":"Picture!AG181","v":0},{"$f":"Picture!AH181","v":0},{"$f":"Picture!AI181","v":0},{"$f":"Picture!AJ181","v":0},{"$f":"Picture!AK181","v":0},{"$f":"Picture!AL181","v":0},{"$f":"Picture!AM181","v":0},{"$f":"Picture!AN181","v":0},{"$f":"Picture!AO181","v":0},{"$f":"Picture!AP181","v":0},{"$f":"Picture!AQ181","v":0},{"$f":"Picture!AR181","v":0},{"$f":"Picture!AS181","v":0},{"$f":"Picture!AT181","v":0},{"$f":"Picture!AU181","v":0},{"$f":"Picture!AV181","v":0},{"$f":"Picture!AW181","v":0},{"$f":"Picture!AX181","v":0},{"$f":"Picture!AY181","v":0},{"$f":"Picture!AZ181","v":0}]
[{"$f":"Picture!A182","v":0},{"$f":"Picture!B182","v":0},{"$f":"Picture!C182","v":0},{"$f":"Picture!D182","v":0},{"$f":"Picture!E182","v":0},{"$f":"Picture!F182","v":0},{"$f":"Picture!G182","v":0},{"$f":"Picture!H182","v":0},{"$f":"Picture!I182","v":0},{"$f":"Picture!J182","v":0},{"$f":"Picture!K182","v":0},{"$f":"Picture!L182","v":0},{"$f":"Picture!M182","v":0},{"$f":"Picture!N182","v":0},{"$f":"Picture!O182","v":0},{"$f":"Picture!P182","v":0},{"$f":"Picture!Q182","v":0},{"$f":"Picture!R182","v":0},{"$f":"Picture!S182","v":0},{"$f":"Picture!T182","v":0},{"$f":"Picture!U182","v":0},{"$f":"Picture!V182","v":0},{"$f":"Picture!W182","v":0},{"$f":"Picture!X182","v":0},{"$f":"Picture!Y182","v":0},{"$f":"Picture!Z182","v":0},{"$f":"Picture!AA182","v":0},{"$f":"Picture!AB182","v":0},{"$f":"Picture!AC182","v":0},{"$f":"Picture!AD182","v":0},{"$f":"Picture!AE182","v":0},{"$f":"Picture!AF182","v":0},{"$f":"Picture!AG182","v":0},{"$f":"Picture!AH182","v":0},{"$f":"Picture!AI182","v":0},{"$f":"Picture!AJ182","v":0},{"$f":"Picture!AK182","v":0},{"$f":"Picture!AL182","v":0},{"$f":"Picture!AM182","v":0},{"$f":"Picture!AN182","v":0},{"$f":"Picture!AO182","v":0},{"$f":"Picture!AP182","v":0},{"$f":"Picture!AQ182","v":0},{"$f":"Picture!AR182","v":0},{"$f":"Picture!AS182","v":0},{"$f":"Picture!AT182","v":0},{"$f":"Picture!AU182","v":0},{"$f":"Picture!AV182","v":0},{"$f":"Picture!AW182","v":0},{"$f":"Picture!AX182","v":0},{"$f":"Picture!AY182","v":0},{"$f":"Picture!AZ182","v":0}]
[{"$f":"Picture!A183","v":0},{"$f":"Picture!B183","v":0},{"$f":"Picture!C183","v":0},{"$f":"Picture!D183","v":0},{"$f":"Picture!E183","v":0},{"$f":"Picture!F183","v":0},{"$f":"Picture!G183","v":0},{"$f":"Picture!H183","v":0},{"$f":"Picture!I183","v":0},{"$f":"Picture!J183","v":0},{"$f":"Picture!K183","v":0},{"$f":"Picture!L183","v":0},{"$f":"Picture!M183","v":0},{"$f":"Picture!N183","v":0},{"$f":"Picture!O183","v":0},{"$f":"Picture!P183","v":0},{"$f":"Picture!Q183","v":0},{"$f":"Picture!R183","v":0},{"$f":"Picture!S183","v":0},{"$f":"Picture!T183","v":0},{"$f":"Picture!U183","v":0},{"$f":"Picture!V183","v":0},{"$f":"Picture!W183","v":0},{"$f":"Picture!X183","v":0},{"$f":"Picture!Y183","v":0},{"$f":"Picture!Z183","v":0},{"$f":"Picture!AA183","v":0},{"$f":"Picture!AB183","v":0},{"$f":"Picture!AC183","v":0},{"$f":"Picture!AD183","v":0},{"$f":"Picture!AE183","v":0},{"$f":"Picture!AF183","v":0},{"$f":"Picture!AG183","v":0},{"$f":"Picture!AH183","v":0},{"$f":"Picture!AI183","v":0},{"$f":"Picture!AJ183","v":0},{"$f":"Picture!AK183","v":0},{"$f":"Picture!AL183","v":0},{"$f":"Picture!AM183","v":0},{"$f":"Picture!AN183","v":0},{"$f":"Picture!AO183","v":0},{"$f":"Picture!AP183","v":0},{"$f":"Picture!AQ183","v":0},{"$f":"Picture!AR183","v":0},{"$f":"Picture!AS183","v":0},{"$f":"Picture!AT183","v":0},{"$f":"Picture!AU183","v":0},{"$f":"Picture!AV183","v":0},{"$f":"Picture!AW183","v":0},{"$f":"Picture!AX183","v":0},{"$f":"Picture!AY183","v":0},{"$f":"Picture!AZ183","v":0}]
[{"$f":"Picture!A184","v":0},{"$f":"Picture!B184","v":0},{"$f":"Picture!C184","v":0},{"$f":"Picture!D184","v":0},{"$f":"Picture!E184","v":0},{"$f":"Picture!F184","v":0},{"$f":"Picture!G184","v":0},{"$f":"Picture!H184","v":0},{"$f":"Picture!I184","v":0},{"$f":"Picture!J184","v":0},{"$f":"Picture!K184","v":0},{"$f":"Picture!L184","v":0},{"$f":"Picture!M184","v":0},{"$f":"Picture!N184","v":0},{"$f":"Picture!O184","v":0},{"$f":"Picture!P184","v":0},{"$f":"Picture!Q184","v":0},{"$f":"Picture!R184","v":0},{"$f":"Picture!S184","v":0},{"$f":"Picture!T184","v":0},{"$f":"Picture!U184","v":0},{"$f":"Picture!V184","v":0},{"$f":"Picture!W184","v":0},{"$f":"Picture!X184","v":0},{"$f":"Picture!Y184","v":0},{"$f":"Picture!Z184","v":0},{"$f":"Picture!AA184","v":0},{"$f":"Picture!AB184","v":0},{"$f":"Picture!AC184","v":0},{"$f":"Picture!AD184","v":0},{"$f":"Picture!AE184","v":0},{"$f":"Picture!AF184","v":0},{"$f":"Picture!AG184","v":0},{"$f":"Picture!AH184","v":0},{"$f":"Picture!AI184","v":0},{"$f":"Picture!AJ184","v":0},{"$f":"Picture!AK184","v":0},{"$f":"Picture!AL184","v":0},{"$f":"Picture!AM184","v":0},{"$f":"Picture!AN184","v":0},{"$f":"Picture!AO184","v":0},{"$f":"Picture!AP184","v":0},{"$f":"Picture!AQ184","v":0},{"$f":"Picture!AR184","v":0},{"$f":"Picture!AS184","v":0},{"$f":"Picture!AT184","v":0},{"$f":"Picture!AU184","v":0},{"$f":"Picture!AV184","v":0},{"$f":"Picture!AW184","v":0},{"$f":"Picture!AX184","v":0},{"$f":"Picture!AY184","v":0},{"$f":"Picture!AZ184","v":0}]
[{"$f":"Picture!A185","v":0},{"$f":"Picture!B185","v":0},{"$f":"Picture!C185","v":0},{"$f":"Picture!D185","v":0},{"$f":"Picture!E185","v":0},{"$f":"Picture!F185","v":0},{"$f":"Picture!G185","v":0},{"$f":"Picture!H185","v":0},{"$f":"Picture!I185","v":0},{"$f":"Picture!J185","v":0},{"$f":"Picture!K185","v":0},{"$f":"Picture!L185","v":0},{"$f":"Picture!M185","v":0},{"$f":"Picture!N185","v":0},{"$f":"Picture!O185","v":0},{"$f":"Picture!P185","v":0},{"$f":"Picture!Q185","v":0},{"$f":"Picture!R185","v":0},{"$f":"Picture!S185","v":0},{"$f":"Picture!T185","v":0},{"$f":"Picture!U185","v":0},{"$f":"Picture!V185","v":0},{"$f":"Picture!W185","v":0},{"$f":"Picture!X185","v":0},{"$f":"Picture!Y185","v":0},{"$f":"Picture!Z185","v":0},{"$f":"Picture!AA185","v":0},{"$f":"Picture!AB185","v":0},{"$f":"Picture!AC185","v":0},{"$f":"Picture!AD185","v":0},{"$f":"Picture!AE185","v":0},{"$f":"Picture!AF185","v":0},{"$f":"Picture!AG185","v":0},{"$f":"Picture!AH185","v":0},{"$f":"Picture!AI185","v":0},{"$f":"Picture!AJ185","v":0},{"$f":"Picture!AK185","v":0},{"$f":"Picture!AL185","v":0},{"$f":"Picture!AM185","v":0},{"$f":"Picture!AN185","v":0},{"$f":"Picture!AO185","v":0},{"$f":"Picture!AP185","v":0},{"$f":"Picture!AQ185","v":0},{"$f":"Picture!AR185","v":0},{"$f":"Picture!AS185","v":0},{"$f":"Picture!AT185","v":0},{"$f":"Picture!AU185","v":0},{"$f":"Picture!AV185","v":0},{"$f":"Picture!AW185","v":0},{"$f":"Picture!AX185","v":0},{"$f":"Picture!AY185","v":0},{"$f":"Picture!AZ185","v":0}]
[{"$f":"Picture!A186","v":0},{"$f":"Picture!B186","v":0},{"$f":"Picture!C186","v":0},{"$f":"Picture!D186","v":0},{"$f":"Picture!E186","v":0},{"$f":"Picture!F186","v":0},{"$f":"Picture!G186","v":0},{"$f":"Picture!H186","v":0},{"$f":"Picture!I186","v":0},{"$f":"Picture!J186","v":0},{"$f":"Picture!K186","v":0},{"$f":"Picture!L186","v":0},{"$f":"Picture!M186","v":0},{"$f":"Picture!N186","v":0},{"$f":"Picture!O186","v":0},{"$f":"Picture!P186","v":0},{"$f":"Picture!Q186","v":0},{"$f":"Picture!R186","v":0},{"$f":"Picture!S186","v":0},{"$f":"Picture!T186","v":0},{"$f":"Picture!U186","v":0},{"$f":"Picture!V186","v":0},{"$f":"Picture!W186","v":0},{"$f":"Picture!X186","v":0},{"$f":"Picture!Y186","v":0},{"$f":"Picture!Z186","v":0},{"$f":"Picture!AA186","v":0},{"$f":"Picture!AB186","v":0},{"$f":"Picture!AC186","v":0},{"$f":"Picture!AD186","v":0},{"$f":"Picture!AE186","v":0},{"$f":"Picture!AF186","v":0},{"$f":"Picture!AG186","v":0},{"$f":"Picture!AH186","v":0},{"$f":"Picture!AI186","v":0},{"$f":"Picture!AJ186","v":0},{"$f":"Picture!AK186","v":0},{"$f":"Picture!AL186","v":0},{"$f":"Picture!AM186","v":0},{"$f":"Picture!AN186","v":0},{"$f":"Picture!AO186","v":0},{"$f":"Picture!AP186","v":0},{"$f":"Picture!AQ186","v":0},{"$f":"Picture!AR186","v":0},{"$f":"Picture!AS186","v":0},{"$f":"Picture!AT186","v":0},{"$f":"Picture!AU186","v":0},{"$f":"Picture!AV186","v":0},{"$f":"Picture!AW186","v":0},{"$f":"Picture!AX186","v":0},{"$f":"Picture!AY186","v":0},{"$f":"Picture!AZ186","v":0}]
[{"$f":"Picture!A187","v":0},{"$f":"Picture!B187","v":0},{"$f":"Picture!C187","v":0},{"$f":"Picture!D187","v":0},{"$f":"Picture!E187","v":0},{"$f":"Picture!F187","v":0},{"$f":"Picture!G187","v":0},{"$f":"Picture!H187","v":0},{"$f":"Picture!I187","v":0},{"$f":"Picture!J187","v":0},{"$f":"Picture!K187","v":0},{"$f":"Picture!L187","v":0},{"$f":"Picture!M187","v":0},{"$f":"Picture!N187","v":0},{"$f":"Picture!O187","v":0},{"$f":"Picture!P187","v":0},{"$f":"Picture!Q187","v":0},{"$f":"Picture!R187","v":0},{"$f":"Picture!S187","v":0},{"$f":"Picture!T187","v":0},{"$f":"Picture!U187","v":0},{"$f":"Picture!V187","v":0},{"$f":"Picture!W187","v":0},{"$f":"Picture!X187","v":0},{"$f":"Picture!Y187","v":0},{"$f":"Picture!Z187","v":0},{"$f":"Picture!AA187","v":0},{"$f":"Picture!AB187","v":0},{"$f":"Picture!AC187","v":0},{"$f":"Picture!AD187","v":0},{"$f":"Picture!AE187","v":0},{"$f":"Picture!AF187","v":0},{"$f":"Picture!AG187","v":0},{"$f":"Picture!AH187","v":0},{"$f":"Picture!AI187","v":0},{"$f":"Picture!AJ187","v":0},{"$f":"Picture!AK187","v":0},{"$f":"Picture!AL187","v":0},{"$f":"Picture!AM187","v":0},{"$f":"Picture!AN187","v":0},{"$f":"Picture!AO187","v":0},{"$f":"Picture!AP187","v":0},{"$f":"Picture!AQ187","v":0},{"$f":"Picture!AR187","v":0},{"$f":"Picture!AS187","v":0},{"$f":"Picture!AT187","v":0},{"$f":"Picture!AU187","v":0},{"$f":"Picture!AV187","v":0},{"$f":"Picture!AW187","v":0},{"$f":"Picture!AX187","v":0},{"$f":"Picture!AY187","v":0},{"$f":"Picture!AZ187","v":0}]
[{"$f":"Picture!A188","v":0},{"$f":"Picture!B188","v":0},{"$f":"Picture!C188","v":0},{"$f":"Picture!D188","v":0},{"$f":"Picture!E188","v":0},{"$f":"Picture!F188","v":0},{"$f":"Picture!G188","v":0},{"$f":"Picture!H188","v":0},{"$f":"Picture!I188","v":0},{"$f":"Picture!J188","v":0},{"$f":"Picture!K188","v":0},{"$f":"Picture!L188","v":0},{"$f":"Picture!M188","v":0},{"$f":"Picture!N188","v":0},{"$f":"Picture!O188","v":0},{"$f":"Picture!P188","v":0},{"$f":"Picture!Q188","v":0},{"$f":"Picture!R188","v":0},{"$f":"Picture!S188","v":0},{"$f":"Picture!T188","v":0},{"$f":"Picture!U188","v":0},{"$f":"Picture!V188","v":0},{"$f":"Picture!W188","v":0},{"$f":"Picture!X188","v":0},{"$f":"Picture!Y188","v":0},{"$f":"Picture!Z188","v":0},{"$f":"Picture!AA188","v":0},{"$f":"Picture!AB188","v":0},{"$f":"Picture!AC188","v":0},{"$f":"Picture!AD188","v":0},{"$f":"Picture!AE188","v":0},{"$f":"Picture!AF188","v":0},{"$f":"Picture!AG188","v":0},{"$f":"Picture!AH188","v":0},{"$f":"Picture!AI188","v":0},{"$f":"Picture!AJ188","v":0},{"$f":"Picture!AK188","v":0},{"$f":"Picture!AL188","v":0},{"$f":"Picture!AM188","v":0},{"$f":"Picture!AN188","v":0},{"$f":"Picture!AO188","v":0},{"$f":"Picture!AP188","v":0},{"$f":"Picture!AQ188","v":0},{"$f":"Picture!AR188","v":0},{"$f":"Picture!AS188","v":0},{"$f":"Picture!AT188","v":0},{"$f":"Picture!AU188","v":0},{"$f":"Picture!AV188","v":0},{"$f":"Picture!AW188","v":0},{"$f":"Picture!AX188","v":0},{"$f":"Picture!AY188","v":0},{"$f":"Picture!AZ188","v":0}]
[{"$f":"Picture!A189","v":0},{"$f":"Picture!B189","v":0},{"$f":"Picture!C189","v":0},{"$f":"Picture!D189","v":0},{"$f":"Picture!E189","v":0},{"$f":"Picture!F189","v":0},{"$f":"Picture!G189","v":0},{"$f":"Picture!H189","v":0},{"$f":"Picture!I189","v":0},{"$f":"Picture!J189","v":0},{"$f":"Picture!K189","v":0},{"$f":"Picture!L189","v":0},{"$f":"Picture!M189","v":0},{"$f":"Picture!N189","v":0},{"$f":"Picture!O189","v":0},{"$f":"Picture!P189","v":0},{"$f":"Picture!Q189","v":0},{"$f":"Picture!R189","v":0},{"$f":"Picture!S189","v":0},{"$f":"Picture!T189","v":0},{"$f":"Picture!U189","v":0},{"$f":"Picture!V189","v":0},{"$f":"Picture!W189","v":0},{"$f":"Picture!X189","v":0},{"$f":"Picture!Y189","v":0},{"$f":"Picture!Z189","v":0},{"$f":"Picture!AA189","v":0},{"$f":"Picture!AB189","v":0},{"$f":"Picture!AC189","v":0},{"$f":"Picture!AD189","v":0},{"$f":"Picture!AE189","v":0},{"$f":"Picture!AF189","v":0},{"$f":"Picture!AG189","v":0},{"$f":"Picture!AH189","v":0},{"$f":"Picture!AI189","v":0},{"$f":"Picture!AJ189","v":0},{"$f":"Picture!AK189","v":0},{"$f":"Picture!AL189","v":0},{"$f":"Picture!AM189","v":0},{"$f":"Picture!AN189","v":0},{"$f":"Picture!AO189","v":0},{"$f":"Picture!AP189","v":0},{"$f":"Picture!AQ189","v":0},{"$f":"Picture!AR189","v":0},{"$f":"Picture!AS189","v":0},{"$f":"Picture!AT189","v":0},{"$f":"Picture!AU189","v":0},{"$f":"Picture!AV189","v":0},{"$f":"Picture!AW189","v":0},{"$f":"Picture!AX189","v":0},{"$f":"Picture!AY189","v":0},{"$f":"Picture!AZ189","v":0}]
[{"$f":"Picture!A190","v":0},{"$f":"Picture!B190","v":0},{"$f":"Picture!C190","v":0},{"$f":"Picture!D190","v":0},{"$f":"Picture!E190","v":0},{"$f":"Picture!F190","v":0},{"$f":"Picture!G190","v":0},{"$f":"Picture!H190","v":0},{"$f":"Picture!I190","v":0},{"$f":"Picture!J190","v":0},{"$f":"Picture!K190","v":0},{"$f":"Picture!L190","v":0},{"$f":"Picture!M190","v":0},{"$f":"Picture!N190","v":0},{"$f":"Picture!O190","v":0},{"$f":"Picture!P190","v":0},{"$f":"Picture!Q190","v":0},{"$f":"Picture!R190","v":0},{"$f":"Picture!S190","v":0},{"$f":"Picture!T190","v":0},{"$f":"Picture!U190","v":0},{"$f":"Picture!V190","v":0},{"$f":"Picture!W190","v":0},{"$f":"Picture!X190","v":0},{"$f":"Picture!Y190","v":0},{"$f":"Picture!Z190","v":0},{"$f":"Picture!AA190","v":0},{"$f":"Picture!AB190","v":0},{"$f":"Picture!AC190","v":0},{"$f":"Picture!AD190","v":0},{"$f":"Picture!AE190","v":0},{"$f":"Picture!AF190","v":0},{"$f":"Picture!AG190","v":0},{"$f":"Picture!AH190","v":0},{"$f":"Picture!AI190","v":0},{"$f":"Picture!AJ190","v":0},{"$f":"Picture!AK190","v":0},{"$f":"Picture!AL190","v":0},{"$f":"Picture!AM190","v":0},{"$f":"Picture!AN190","v":0},{"$f":"Picture!AO190","v":0},{"$f":"Picture!AP190","v":0},{"$f":"Picture!AQ190","v":0},{"$f":"Picture!AR190","v":0},{"$f":"Picture!AS190","v":0},{"$f":"Picture!AT190","v":0},{"$f":"Picture!AU190","v":0},{"$f":"Picture!AV190","v":0},{"$f":"Picture!AW190","v":0},{"$f":"Picture!AX190","v":0},{"$f":"Picture!AY190","v":0},{"$f":"Picture!AZ190","v":0}]
[{"$f":"Picture!A191","v":0},{"$f":"Picture!B191","v":0},{"$f":"Picture!C191","v":0},{"$f":"Picture!D191","v":0},{"$f":"Picture!E191","v":0},{"$f":"Picture!F191","v":0},{"$f":"Picture!G191","v":0},{"$f":"Picture!H191","v":0},{"$f":"Picture!I191","v":0},{"$f":"Picture!J191","v":0},{"$f":"Picture!K191","v":0},{"$f":"Picture!L191","v":0},{"$f":"Picture!M191","v":0},{"$f":"Picture!N191","v":0},{"$f":"Picture!O191","v":0},{"$f":"Picture!P191","v":0},{"$f":"Picture!Q191","v":0},{"$f":"Picture!R191","v":0},{"$f":"Picture!S191","v":0},{"$f":"Picture!T191","v":0},{"$f":"Picture!U191","v":0},{"$f":"Picture!V191","v":0},{"$f":"Picture!W191","v":0},{"$f":"Picture!X191","v":0},{"$f":"Picture!Y191","v":0},{"$f":"Picture!Z191","v":0},{"$f":"Picture!AA191","v":0},{"$f":"Picture!AB191","v":0},{"$f":"Picture!AC191","v":0},{"$f":"Picture!AD191","v":0},{"$f":"Picture!AE191","v":0},{"$f":"Picture!AF191","v":0},{"$f":"Picture!AG191","v":0},{"$f":"Picture!AH191","v":0},{"$f":"Picture!AI191","v":0},{"$f":"Picture!AJ191","v":0},{"$f":"Picture!AK191","v":0},{"$f":"Picture!AL191","v":0},{"$f":"Picture!AM191","v":0},{"$f":"Picture!AN191","v":0},{"$f":"Picture!AO191","v":0},{"$f":"Picture!AP191","v":0},{"$f":"Picture!AQ191","v":0},{"$f":"Picture!AR191","v":0},{"$f":"Picture!AS191","v":0},{"$f":"Picture!AT191","v":0},{"$f":"Picture!AU191","v":0},{"$f":"Picture!AV191","v":0},{"$f":"Picture!AW191","v":0},{"$f":"Picture!AX191","v":0},{"$f":"Picture!AY191","v":0},{"$f":"Picture!AZ191","v":0}]
[{"$f":"Picture!A192","v":0},{"$f":"Picture!B192","v":0},{"$f":"Picture!C192","v":0},{"$f":"Picture!D192","v":0},{"$f":"Picture!E192","v":0},{"$f":"Picture!F192","v":0},{"$f":"Picture!G192","v":0},{"$f":"Picture!H192","v":0},{"$f":"Picture!I192","v":0},{"$f":"Picture!J192","v":0},{"$f":"Picture!K192","v":0},{"$f":"Picture!L192","v":0},{"$f":"Picture!M192","v":0},{"$f":"Picture!N192","v":0},{"$f":"Picture!O192","v":0},{"$f":"Picture!P192","v":0},{"$f":"Picture!Q192","v":0},{"$f":"Picture!R192","v":0},{"$f":"Picture!S192","v":0},{"$f":"Picture!T192","v":0},{"$f":"Picture!U192","v":0},{"$f":"Picture!V192","v":0},{"$f":"Picture!W192","v":0},{"$f":"Picture!X192","v":0},{"$f":"Picture!Y192","v":0},{"$f":"Picture!Z192","v":0},{"$f":"Picture!AA192","v":0},{"$f":"Picture!AB192","v":0},{"$f":"Picture!AC192","v":0},{"$f":"Picture!AD192","v":0},{"$f":"Picture!AE192","v":0},{"$f":"Picture!AF192","v":0},{"$f":"Picture!AG192","v":0},{"$f":"Picture!AH192","v":0},{"$f":"Picture!AI192","v":0},{"$f":"Picture!AJ192","v":0},{"$f":"Picture!AK192","v":0},{"$f":"Picture!AL192","v":0},{"$f":"Picture!AM192","v":0},{"$f":"Picture!AN192","v":0},{"$f":"Picture!AO192","v":0},{"$f":"Picture!AP192","v":0},{"$f":"Picture!AQ192","v":0},{"$f":"Picture!AR192","v":0},{"$f":"Picture!AS192","v":0},{"$f":"Picture!AT192","v":0},{"$f":"Picture!AU192","v":0},{"$f":"Picture!AV192","v":0},{"$f":"Picture!AW192","v":0},{"$f":"Picture!AX192","v":0},{"$f":"Picture!AY192","v":0},{"$f":"Picture!AZ192","v":0}]
[{"$f":"Picture!A193","v":0},{"$f":"Picture!B193","v":0},{"$f":"Picture!C193","v":0},{"$f":"Picture!D193","v":0},{"$f":"Picture!E193","v":0},{"$f":"Picture!F193","v":0},{"$f":"Picture!G193","v":0},{"$f":"Picture!H193","v":0},{"$f":"Picture!I193","v":0},{"$f":"Picture!J193","v":0},{"$f":"Picture!K193","v":0},{"$f":"Picture!L193","v":0},{"$f":"Picture!M193","v":0},{"$f":"Picture!N193","v":0},{"$f":"Picture!O193","v":0},{"$f":"Picture!P193","v":0},{"$f":"Picture!Q193","v":0},{"$f":"Picture!R193","v":0},{"$f":"Picture!S193","v":0},{"$f":"Picture!T193","v":0},{"$f":"Picture!U193","v":0},{"$f":"Picture!V193","v":0},{"$f":"Picture!W193","v":0},{"$f":"Picture!X193","v":0},{"$f":"Picture!Y193","v":0},{"$f":"Picture!Z193","v":0},{"$f":"Picture!AA193","v":0},{"$f":"Picture!AB193","v":0},{"$f":"Picture!AC193","v":0},{"$f":"Picture!AD193","v":0},{"$f":"Picture!AE193","v":0},{"$f":"Picture!AF193","v":0},{"$f":"Picture!AG193","v":0},{"$f":"Picture!AH193","v":0},{"$f":"Picture!AI193","v":0},{"$f":"Picture!AJ193","v":0},{"$f":"Picture!AK193","v":0},{"$f":"Picture!AL193","v":0},{"$f":"Picture!AM193","v":0},{"$f":"Picture!AN193","v":0},{"$f":"Picture!AO193","v":0},{"$f":"Picture!AP193","v":0},{"$f":"Picture!AQ193","v":0},{"$f":"Picture!AR193","v":0},{"$f":"Picture!AS193","v":0},{"$f":"Picture!AT193","v":0},{"$f":"Picture!AU193","v":0},{"$f":"Picture!AV193","v":0},{"$f":"Picture!AW193","v":0},{"$f":"Picture!AX193","v":0},{"$f":"Picture!AY193","v":0},{"$f":"Picture!AZ193","v":0}]
[{"$f":"Picture!A194","v":0},{"$f":"Picture!B194","v":0},{"$f":"Picture!C194","v":0},{"$f":"Picture!D194","v":0},{"$f":"Picture!E194","v":0},{"$f":"Picture!F194","v":0},{"$f":"Picture!G194","v":0},{"$f":"Picture!H194","v":0},{"$f":"Picture!I194","v":0},{"$f":"Picture!J194","v":0},{"$f":"Picture!K194","v":0},{"$f":"Picture!L194","v":0},{"$f":"Picture!M194","v":0},{"$f":"Picture!N194","v":0},{"$f":"Picture!O194","v":0},{"$f":"Picture!P194","v":0},{"$f":"Picture!Q194","v":0},{"$f":"Picture!R194","v":0},{"$f":"Picture!S194","v":0},{"$f":"Picture!T194","v":0},{"$f":"Picture!U194","v":0},{"$f":"Picture!V194","v":0},{"$f":"Picture!W194","v":0},{"$f":"Picture!X194","v":0},{"$f":"Picture!Y194","v":0},{"$f":"Picture!Z194","v":0},{"$f":"Picture!AA194","v":0},{"$f":"Picture!AB194","v":0},{"$f":"Picture!AC194","v":0},{"$f":"Picture!AD194","v":0},{"$f":"Picture!AE194","v":0},{"$f":"Picture!AF194","v":0},{"$f":"Picture!AG194","v":0},{"$f":"Picture!AH194","v":0},{"$f":"Picture!AI194","v":0},{"$f":"Picture!AJ194","v":0},{"$f":"Picture!AK194","v":0},{"$f":"Picture!AL194","v":0},{"$f":"Picture!AM194","v":0},{"$f":"Picture!AN194","v":0},{"$f":"Picture!AO194","v":0},{"$f":"Picture!AP194","v":0},{"$f":"Picture!AQ194","v":0},{"$f":"Picture!AR194","v":0},{"$f":"Picture!AS194","v":0},{"$f":"Picture!AT194","v":0},{"$f":"Picture!AU194","v":0},{"$f":"Picture!AV194","v":0},{"$f":"Picture!AW194","v":0},{"$f":"Picture!AX194","v":0},{"$f":"Picture!AY194","v":0},{"$f":"Picture!AZ194","v":0}]
[{"$f":"Picture!A195","v":0},{"$f":"Picture!B195","v":0},{"$f":"Picture!C195","v":0},{"$f":"Picture!D195","v":0},{"$f":"Picture!E195","v":0},{"$f":"Picture!F195","v":0},{"$f":"Picture!G195","v":0},{"$f":"Picture!H195","v":0},{"$f":"Picture!I195","v":0},{"$f":"Picture!J195","v":0},{"$f":"Picture!K195","v":0},{"$f":"Picture!L195","v":0},{"$f":"Picture!M195","v":0},{"$f":"Picture!N195","v":0},{"$f":"Picture!O195","v":0},{"$f":"Picture!P195","v":0},{"$f":"Picture!Q195","v":0},{"$f":"Picture!R195","v":0},{"$f":"Picture!S195","v":0},{"$f":"Picture!T195","v":0},{"$f":"Picture!U195","v":0},{"$f":"Picture!V195","v":0},{"$f":"Picture!W195","v":0},{"$f":"Picture!X195","v":0},{"$f":"Picture!Y195","v":0},{"$f":"Picture!Z195","v":0},{"$f":"Picture!AA195","v":0},{"$f":"Picture!AB195","v":0},{"$f":"Picture!AC195","v":0},{"$f":"Picture!AD195","v":0},{"$f":"Picture!AE195","v":0},{"$f":"Picture!AF195","v":0},{"$f":"Picture!AG195","v":0},{"$f":"Picture!AH195","v":0},{"$f":"Picture!AI195","v":0},{"$f":"Picture!AJ195","v":0},{"$f":"Picture!AK195","v":0},{"$f":"Picture!AL195","v":0},{"$f":"Picture!AM195","v":0},{"$f":"Picture!AN195","v":0},{"$f":"Picture!AO195","v":0},{"$f":"Picture!AP195","v":0},{"$f":"Picture!AQ195","v":0},{"$f":"Picture!AR195","v":0},{"$f":"Picture!AS195","v":0},{"$f":"Picture!AT195","v":0},{"$f":"Picture!AU195","v":0},{"$f":"Picture!AV195","v":0},{"$f":"Picture!AW195","v":0},{"$f":"Picture!AX195","v":0},{"$f":"Picture!AY195","v":0},{"$f":"Picture!AZ195","v":0}]
[{"$f":"Picture!A196","v":0},{"$f":"Picture!B196","v":0},{"$f":"Picture!C196","v":0},{"$f":"Picture!D196","v":0},{"$f":"Picture!E196","v":0},{"$f":"Picture!F196","v":0},{"$f":"Picture!G196","v":0},{"$f":"Picture!H196","v":0},{"$f":"Picture!I196","v":0},{"$f":"Picture!J196","v":0},{"$f":"Picture!K196","v":0},{"$f":"Picture!L196","v":0},{"$f":"Picture!M196","v":0},{"$f":"Picture!N196","v":0},{"$f":"Picture!O196","v":0},{"$f":"Picture!P196","v":0},{"$f":"Picture!Q196","v":0},{"$f":"Picture!R196","v":0},{"$f":"Picture!S196","v":0},{"$f":"Picture!T196","v":0},{"$f":"Picture!U196","v":0},{"$f":"Picture!V196","v":0},{"$f":"Picture!W196","v":0},{"$f":"Picture!X196","v":0},{"$f":"Picture!Y196","v":0},{"$f":"Picture!Z196","v":0},{"$f":"Picture!AA196","v":0},{"$f":"Picture!AB196","v":0},{"$f":"Picture!AC196","v":0},{"$f":"Picture!AD196","v":0},{"$f":"Picture!AE196","v":0},{"$f":"Picture!AF196","v":0},{"$f":"Picture!AG196","v":0},{"$f":"Picture!AH196","v":0},{"$f":"Picture!AI196","v":0},{"$f":"Picture!AJ196","v":0},{"$f":"Picture!AK196","v":0},{"$f":"Picture!AL196","v":0},{"$f":"Picture!AM196","v":0},{"$f":"Picture!AN196","v":0},{"$f":"Picture!AO196","v":0},{"$f":"Picture!AP196","v":0},{"$f":"Picture!AQ196","v":0},{"$f":"Picture!AR196","v":0},{"$f":"Picture!AS196","v":0},{"$f":"Picture!AT196","v":0},{"$f":"Picture!AU196","v":0},{"$f":"Picture!AV196","v":0},{"$f":"Picture!AW196","v":0},{"$f":"Picture!AX196","v":0},{"$f":"Picture!AY196","v":0},{"$f":"Picture!AZ196","v":0}]
[{"$f":"Picture!A197","v":0},{"$f":"Picture!B197","v":0},{"$f":"Picture!C197","v":0},{"$f":"Picture!D197","v":0},{"$f":"Picture!E197","v":0},{"$f":"Picture!F197","v":0},{"$f":"Picture!G197","v":0},{"$f":"Picture!H197","v":0},{"$f":"Picture!I197","v":0},{"$f":"Picture!J197","v":0},{"$f":"Picture!K197","v":0},{"$f":"Picture!L197","v":0},{"$f":"Picture!M197","v":0},{"$f":"Picture!N197","v":0},{"$f":"Picture!O197","v":0},{"$f":"Picture!P197","v":0},{"$f":"Picture!Q197","v":0},{"$f":"Picture!R197","v":0},{"$f":"Picture!S197","v":0},{"$f":"Picture!T197","v":0},{"$f":"Picture!U197","v":0},{"$f":"Picture!V197","v":0},{"$f":"Picture!W197","v":0},{"$f":"Picture!X197","v":0},{"$f":"Picture!Y197","v":0},{"$f":"Picture!Z197","v":0},{"$f":"Picture!AA197","v":0},{"$f":"Picture!AB197","v":0},{"$f":"Picture!AC197","v":0},{"$f":"Picture!AD197","v":0},{"$f":"Picture!AE197","v":0},{"$f":"Picture!AF197","v":0},{"$f":"Picture!AG197","v":0},{"$f":"Picture!AH197","v":0},{"$f":"Picture!AI197","v":0},{"$f":"Picture!AJ197","v":0},{"$f":"Picture!AK197","v":0},{"$f":"Picture!AL197","v":0},{"$f":"Picture!AM197","v":0},{"$f":"Picture!AN197","v":0},{"$f":"Picture!AO197","v":0},{"$f":"Picture!AP197","v":0},{"$f":"Picture!AQ197","v":0},{"$f":"Picture!AR197","v":0},{"$f":"Picture!AS197","v":0},{"$f":"Picture!AT197","v":0},{"$f":"Picture!AU197","v":0},{"$f":"Picture!AV197","v":0},{"$f":"Picture!AW197","v":0},{"$f":"Picture!AX197","v":0},{"$f":"Picture!AY197","v":0},{"$f":"Picture!AZ197","v":0}]
[{"$f":"Picture!A198","v":0},{"$f":"Picture!B198","v":0},{"$f":"Picture!C198","v":0},{"$f":"Picture!D198","v":0},{"$f":"Picture!E198","v":0},{"$f":"Picture!F198","v":0},{"$f":"Picture!G198","v":0},{"$f":"Picture!H198","v":0},{"$f":"Picture!I198","v":0},{"$f":"Picture!J198","v":0},{"$f":"Picture!K198","v":0},{"$f":"Picture!L198","v":0},{"$f":"Picture!M198","v":0},{"$f":"Picture!N198","v":0},{"$f":"Picture!O198","v":0},{"$f":"Picture!P198","v":0},{"$f":"Picture!Q198","v":0},{"$f":"Picture!R198","v":0},{"$f":"Picture!S198","v":0},{"$f":"Picture!T198","v":0},{"$f":"Picture!U198","v":0},{"$f":"Picture!V198","v":0},{"$f":"Picture!W198","v":0},{"$f":"Picture!X198","v":0},{"$f":"Picture!Y198","v":0},{"$f":"Picture!Z198","v":0},{"$f":"Picture!AA198","v":0},{"$f":"Picture!AB198","v":0},{"$f":"Picture!AC198","v":0},{"$f":"Picture!AD198","v":0},{"$f":"Picture!AE198","v":0},{"$f":"Picture!AF198","v":0},{"$f":"Picture!AG198","v":0},{"$f":"Picture!AH198","v":0},{"$f":"Picture!AI198","v":0},{"$f":"Picture!AJ198","v":0},{"$f":"Picture!AK198","v":0},{"$f":"Picture!AL198","v":0},{"$f":"Picture!AM198","v":0},{"$f":"Picture!AN198","v":0},{"$f":"Picture!AO198","v":0},{"$f":"Picture!AP198","v":0},{"$f":"Picture!AQ198","v":0},{"$f":"Picture!AR198","v":0},{"$f":"Picture!AS198","v":0},{"$f":"Picture!AT198","v":0},{"$f":"Picture!AU198","v":0},{"$f":"Picture!AV198","v":0},{"$f":"Picture!AW198","v":0},{"$f":"Picture!AX198","v":0},{"$f":"Picture!AY198","v":0},{"$f":"Picture!AZ198","v":0}]
[{"$f":"Picture!A199","v":0},{"$f":"Picture!B199","v":0},{"$f":"Picture!C199","v":0},{"$f":"Picture!D199","v":0},{"$f":"Picture!E199","v":0},{"$f":"Picture!F199","v":0},{"$f":"Picture!G199","v":0},{"$f":"Picture!H199","v":0},{"$f":"Picture!I199","v":0},{"$f":"Picture!J199","v":0},{"$f":"Picture!K199","v":0},{"$f":"Picture!L199","v":0},{"$f":"Picture!M199","v":0},{"$f":"Picture!N199","v":0},{"$f":"Picture!O199","v":0},{"$f":"Picture!P199","v":0},{"$f":"Picture!Q199","v":0},{"$f":"Picture!R199","v":0},{"$f":"Picture!S199","v":0},{"$f":"Picture!T199","v":0},{"$f":"Picture!U199","v":0},{"$f":"Picture!V199","v":0},{"$f":"Picture!W199","v":0},{"$f":"Picture!X199","v":0},{"$f":"Picture!Y199","v":0},{"$f":"Picture!Z199","v":0},{"$f":"Picture!AA199","v":0},{"$f":"Picture!AB199","v":0},{"$f":"Picture!AC199","v":0},{"$f":"Picture!AD199","v":0},{"$f":"Picture!AE199","v":0},{"$f":"Picture!AF199","v":0},{"$f":"Picture!AG199","v":0},{"$f":"Picture!AH199","v":0},{"$f":"Picture!AI199","v":0},{"$f":"Picture!AJ199","v":0},{"$f":"Picture!AK199","v":0},{"$f":"Picture!AL199","v":0},{"$f":"Picture!AM199","v":0},{"$f":"Picture!AN199","v":0},{"$f":"Picture!AO199","v":0},{"$f":"Picture!AP199","v":0},{"$f":"Picture!AQ199","v":0},{"$f":"Picture!AR199","v":0},{"$f":"Picture!AS199","v":0},{"$f":"Picture!AT199","v":0},{"$f":"Picture!AU199","v":0},{"$f":"Picture!AV199","v":0},{"$f":"Picture!AW199","v":0},{"$f":"Picture!AX199","v":0},{"$f":"Picture!AY199","v":0},{"$f":"Picture!AZ199","v":0}]
[{"$f":"Picture!A200","v":0},{"$f":"Picture!B200","v":0},{"$f":"Picture!C200","v":0},{"$f":"Picture!D200","v":0},{"$f":"Picture!E200","v":0},{"$f":"Picture!F200","v":0},{"$f":"Picture!G200","v":0},{"$f":"Picture!H200","v":0},{"$f":"Picture!I200","v":0},{"$f":"Picture!J200","v":0},{"$f":"Picture!K200","v":0},{"$f":"Picture!L200","v":0},{"$f":"Picture!M200","v":0},{"$f":"Picture!N200","v":0},{"$f":"Picture!O200","v":0},{"$f":"Picture!P200","v":0},{"$f":"Picture!Q200","v":0},{"$f":"Picture!R200","v":0},{"$f":"Picture!S200","v":0},{"$f":"Picture!T200","v":0},{"$f":"Picture!U200","v":0},{"$f":"Picture!V200","v":0},{"$f":"Picture!W200","v":0},{"$f":"Picture!X200","v":0},{"$f":"Picture!Y200","v":0},{"$f":"Picture!Z200","v":0},{"$f":"Picture!AA200","v":0},{"$f":"Picture!AB200","v":0},{"$f":"Picture!AC200","v":0},{"$f":"Picture!AD200","v":0},{"$f":"Picture!AE200","v":0},{"$f":"Picture!AF200","v":0},{"$f":"Picture!AG200","v":0},{"$f":"Picture!AH200","v":0},{"$f":"Picture!AI200","v":0},{"$f":"Picture!AJ200","v":0},{"$f":"Picture!AK200","v":0},{"$f":"Picture!AL200","v":0},{"$f":"Picture!AM200","v":0},{"$f":"Picture!AN200","v":0},{"$f":"Picture!AO200","v":0},{"$f":"Picture!AP200","v":0},{"$f":"Picture!AQ200","v":0},{"$f":"Picture!AR200","v":0},{"$f":"Picture!AS200","v":0},{"$f":"Picture!AT200","v":0},{"$f":"Picture!AU200","v":0},{"$f":"Picture!AV200","v":0},{"$f":"Picture!AW200","v":0},{"$f":"Picture!AX200","v":0},{"$f":"Picture!AY200","v":0},{"$f":"Picture!AZ200","v":0}]
[{"$f":"Picture!A201","v":0},{"$f":"Picture!B201","v":0},{"$f":"Picture!C201","v":0},{"$f":"Picture!D201","v":0},{"$f":"Picture!E201","v":0},{"$f":"Picture!F201","v":0},{"$f":"Picture!G201","v":0},{"$f":"Picture!H201","v":0},{"$f":"Picture!I201","v":0},{"$f":"Picture!J201","v":0},{"$f":"Picture!K201","v":0},{"$f":"Picture!L201","v":0},{"$f":"Picture!M201","v":0},{"$f":"Picture!N201","v":0},{"$f":"Picture!O201","v":0},{"$f":"Picture!P201","v":0},{"$f":"Picture!Q201","v":0},{"$f":"Picture!R201","v":0},{"$f":"Picture!S201","v":0},{"$f":"Picture!T201","v":0},{"$f":"Picture!U201","v":0},{"$f":"Picture!V201","v":0},{"$f":"Picture!W201","v":0},{"$f":"Picture!X201","v":0},{"$f":"Picture!Y201","v":0},{"$f":"Picture!Z201","v":0},{"$f":"Picture!AA201","v":0},{"$f":"Picture!AB201","v":0},{"$f":"Picture!AC201","v":0},{"$f":"Picture!AD201","v":0},{"$f":"Picture!AE201","v":0},{"$f":"Picture!AF201","v":0},{"$f":"Picture!AG201","v":0},{"$f":"Picture!AH201","v":0},{"$f":"Picture!AI201","v":0},{"$f":"Picture!AJ201","v":0},{"$f":"Picture!AK201","v":0},{"$f":"Picture!AL201","v":0},{"$f":"Picture!AM201","v":0},{"$f":"Picture!AN201","v":0},{"$f":"Picture!AO201","v":0},{"$f":"Picture!AP201","v":0},{"$f":"Picture!AQ201","v":0},{"$f":"Picture!AR201","v":0},{"$f":"Picture!AS201","v":0},{"$f":"Picture!AT201","v":0},{"$f":"Picture!AU201","v":0},{"$f":"Picture!AV201","v":0},{"$f":"Picture!AW201","v":0},{"$f":"Picture!AX201","v":0},{"$f":"Picture!AY201","v":0},{"$f":"Picture!AZ201","v":0}]
[{"$f":"Picture!A202","v":0},{"$f":"Picture!B202","v":0},{"$f":"Picture!C202","v":0},{"$f":"Picture!D202","v":0},{"$f":"Picture!E202","v":0},{"$f":"Picture!F202","v":0},{"$f":"Picture!G202","v":0},{"$f":"Picture!H202","v":0},{"$f":"Picture!I202","v":0},{"$f":"Picture!J202","v":0},{"$f":"Picture!K202","v":0},{"$f":"Picture!L202","v":0},{"$f":"Picture!M202","v":0},{"$f":"Picture!N202","v":0},{"$f":"Picture!O202","v":0},{"$f":"Picture!P202","v":0},{"$f":"Picture!Q202","v":0},{"$f":"Picture!R202","v":0},{"$f":"Picture!S202","v":0},{"$f":"Picture!T202","v":0},{"$f":"Picture!U202","v":0},{"$f":"Picture!V202","v":0},{"$f":"Picture!W202","v":0},{"$f":"Picture!X202","v":0},{"$f":"Picture!Y202","v":0},{"$f":"Picture!Z202","v":0},{"$f":"Picture!AA202","v":0},{"$f":"Picture!AB202","v":0},{"$f":"Picture!AC202","v":0},{"$f":"Picture!AD202","v":0},{"$f":"Picture!AE202","v":0},{"$f":"Picture!AF202","v":0},{"$f":"Picture!AG202","v":0},{"$f":"Picture!AH202","v":0},{"$f":"Picture!AI202","v":0},{"$f":"Picture!AJ202","v":0},{"$f":"Picture!AK202","v":0},{"$f":"Picture!AL202","v":0},{"$f":"Picture!AM202","v":0},{"$f":"Picture!AN202","v":0},{"$f":"Picture!AO202","v":0},{"$f":"Picture!AP202","v":0},{"$f":"Picture!AQ202","v":0},{"$f":"Picture!AR202","v":0},{"$f":"Picture!AS202","v":0},{"$f":"Picture!AT202","v":0},{"$f":"Picture!AU202","v":0},{"$f":"Picture!AV202","v":0},{"$f":"Picture!AW202","v":0},{"$f":"Picture!AX202","v":0},{"$f":"Picture!AY202","v":0},{"$f":"Picture!AZ202","v":0}]
[{"$f":"Picture!A203","v":0},{"$f":"Picture!B203","v":0},{"$f":"Picture!C203","v":0},{"$f":"Picture!D203","v":0},{"$f":"Picture!E203","v":0},{"$f":"Picture!F203","v":0},{"$f":"Picture!G203","v":0},{"$f":"Picture!H203","v":0},{"$f":"Picture!I203","v":0},{"$f":"Picture!J203","v":0},{"$f":"Picture!K203","v":0},{"$f":"Picture!L203","v":0},{"$f":"Picture!M203","v":0},{"$f":"Picture!N203","v":0},{"$f":"Picture!O203","v":0},{"$f":"Picture!P203","v":0},{"$f":"Picture!Q203","v":0},{"$f":"Picture!R203","v":0},{"$f":"Picture!S203","v":0},{"$f":"Picture!T203","v":0},{"$f":"Picture!U203","v":0},{"$f":"Picture!V203","v":0},{"$f":"Picture!W203","v":0},{"$f":"Picture!X203","v":0},{"$f":"Picture!Y203","v":0},{"$f":"Picture!Z203","v":0},{"$f":"Picture!AA203","v":0},{"$f":"Picture!AB203","v":0},{"$f":"Picture!AC203","v":0},{"$f":"Picture!AD203","v":0},{"$f":"Picture!AE203","v":0},{"$f":"Picture!AF203","v":0},{"$f":"Picture!AG203","v":0},{"$f":"Picture!AH203","v":0},{"$f":"Picture!AI203","v":0},{"$f":"Picture!AJ203","v":0},{"$f":"Picture!AK203","v":0},{"$f":"Picture!AL203","v":0},{"$f":"Picture!AM203","v":0},{"$f":"Picture!AN203","v":0},{"$f":"Picture!AO203","v":0},{"$f":"Picture!AP203","v":0},{"$f":"Picture!AQ203","v":0},{"$f":"Picture!AR203","v":0},{"$f":"Picture!AS203","v":0},{"$f":"Picture!AT203","v":0},{"$f":"Picture!AU203","v":0},{"$f":"Picture!AV203","v":0},{"$f":"Picture!AW203","v":0},{"$f":"Picture!AX203","v":0},{"$f":"Picture!AY203","v":0},{"$f":"Picture!AZ203","v":0}]
[{"$f":"Picture!A204","v":0},{"$f":"Picture!B204","v":0},{"$f":"Picture!C204","v":0},{"$f":"Picture!D204","v":0},{"$f":"Picture!E204","v":0},{"$f":"Picture!F204","v":0},{"$f":"Picture!G204","v":0},{"$f":"Picture!H204","v":0},{"$f":"Picture!I204","v":0},{"$f":"Picture!J204","v":0},{"$f":"Picture!K204","v":0},{"$f":"Picture!L204","v":0},{"$f":"Picture!M204","v":0},{"$f":"Picture!N204","v":0},{"$f":"Picture!O204","v":0},{"$f":"Picture!P204","v":0},{"$f":"Picture!Q204","v":0},{"$f":"Picture!R204","v":0},{"$f":"Picture!S204","v":0},{"$f":"Picture!T204","v":0},{"$f":"Picture!U204","v":0},{"$f":"Picture!V204","v":0},{"$f":"Picture!W204","v":0},{"$f":"Picture!X204","v":0},{"$f":"Picture!Y204","v":0},{"$f":"Picture!Z204","v":0},{"$f":"Picture!AA204","v":0},{"$f":"Picture!AB204","v":0},{"$f":"Picture!AC204","v":0},{"$f":"Picture!AD204","v":0},{"$f":"Picture!AE204","v":0},{"$f":"Picture!AF204","v":0},{"$f":"Picture!AG204","v":0},{"$f":"Picture!AH204","v":0},{"$f":"Picture!AI204","v":0},{"$f":"Picture!AJ204","v":0},{"$f":"Picture!AK204","v":0},{"$f":"Picture!AL204","v":0},{"$f":"Picture!AM204","v":0},{"$f":"Picture!AN204","v":0},{"$f":"Picture!AO204","v":0},{"$f":"Picture!AP204","v":0},{"$f":"Picture!AQ204","v":0},{"$f":"Picture!AR204","v":0},{"$f":"Picture!AS204","v":0},{"$f":"Picture!AT204","v":0},{"$f":"Picture!AU204","v":0},{"$f":"Picture!AV204","v":0},{"$f":"Picture!AW204","v":0},{"$f":"Picture!AX204","v":0},{"$f":"Picture!AY204","v":0},{"$f":"Picture!AZ204","v":0}]
[{"$f":"Picture!A205","v":0},{"$f":"Picture!B205","v":0},{"$f":"Picture!C205","v":0},{"$f":"Picture!D205","v":0},{"$f":"Picture!E205","v":0},{"$f":"Picture!F205","v":0},{"$f":"Picture!G205","v":0},{"$f":"Picture!H205","v":0},{"$f":"Picture!I205","v":0},{"$f":"Picture!J205","v":0},{"$f":"Picture!K205","v":0},{"$f":"Picture!L205","v":0},{"$f":"Picture!M205","v":0},{"$f":"Picture!N205","v":0},{"$f":"Picture!O205","v":0},{"$f":"Picture!P205","v":0},{"$f":"Picture!Q205","v":0},{"$f":"Picture!R205","v":0},{"$f":"Picture!S205","v":0},{"$f":"Picture!T205","v":0},{"$f":"Picture!U205","v":0},{"$f":"Picture!V205","v":0},{"$f":"Picture!W205","v":0},{"$f":"Picture!X205","v":0},{"$f":"Picture!Y205","v":0},{"$f":"Picture!Z205","v":0},{"$f":"Picture!AA205","v":0},{"$f":"Picture!AB205","v":0},{"$f":"Picture!AC205","v":0},{"$f":"Picture!AD205","v":0},{"$f":"Picture!AE205","v":0},{"$f":"Picture!AF205","v":0},{"$f":"Picture!AG205","v":0},{"$f":"Picture!AH205","v":0},{"$f":"Picture!AI205","v":0},{"$f":"Picture!AJ205","v":0},{"$f":"Picture!AK205","v":0},{"$f":"Picture!AL205","v":0},{"$f":"Picture!AM205","v":0},{"$f":"Picture!AN205","v":0},{"$f":"Picture!AO205","v":0},{"$f":"Picture!AP205","v":0},{"$f":"Picture!AQ205","v":0},{"$f":"Picture!AR205","v":0},{"$f":"Picture!AS205","v":0},{"$f":"Picture!AT205","v":0},{"$f":"Picture!AU205","v":0},{"$f":"Picture!AV205","v":0},{"$f":"Picture!AW205","v":0},{"$f":"Picture!AX205","v":0},{"$f":"Picture!AY205","v":0},{"$f":"Picture!AZ205","v":0}]
[{"$f":"Picture!A206","v":0},{"$f":"Picture!B206","v":0},{"$f":"Picture!C206","v":0},{"$f":"Picture!D206","v":0},{"$f":"Picture!E206","v":0},{"$f":"Picture!F206","v":0},{"$f":"Picture!G206","v":0},{"$f":"Picture!H206","v":0},{"$f":"Picture!I206","v":0},{"$f":"Picture!J206","v":0},{"$f":"Picture!K206","v":0},{"$f":"Picture!L206","v":0},{"$f":"Picture!M206","v":0},{"$f":"Picture!N206","v":0},{"$f":"Picture!O206","v":0},{"$f":"Picture!P206","v":0},{"$f":"Picture!Q206","v":0},{"$f":"Picture!R206","v":0},{"$f":"Picture!S206","v":0},{"$f":"Picture!T206","v":0},{"$f":"Picture!U206","v":0},{"$f":"Picture!V206","v":0},{"$f":"Picture!W206","v":0},{"$f":"Picture!X206","v":0},{"$f":"Picture!Y206","v":0},{"$f":"Picture!Z206","v":0},{"$f":"Picture!AA206","v":0},{"$f":"Picture!AB206","v":0},{"$f":"Picture!AC206","v":0},{"$f":"Picture!AD206","v":0},{"$f":"Picture!AE206","v":0},{"$f":"Picture!AF206","v":0},{"$f":"Picture!AG206","v":0},{"$f":"Picture!AH206","v":0},{"$f":"Picture!AI206","v":0},{"$f":"Picture!AJ206","v":0},{"$f":"Picture!AK206","v":0},{"$f":"Picture!AL206","v":0},{"$f":"Picture!AM206","v":0},{"$f":"Picture!AN206","v":0},{"$f":"Picture!AO206","v":0},{"$f":"Picture!AP206","v":0},{"$f":"Picture!AQ206","v":0},{"$f":"Picture!AR206","v":0},{"$f":"Picture!AS206","v":0},{"$f":"Picture!AT206","v":0},{"$f":"Picture!AU206","v":0},{"$f":"Picture!AV206","v":0},{"$f":"Picture!AW206","v":0},{"$f":"Picture!AX206","v":0},{"$f":"Picture!AY206","v":0},{"$f":"Picture!AZ206","v":0}]
[{"$f":"Picture!A207","v":0},{"$f":"Picture!B207","v":0},{"$f":"Picture!C207","v":0},{"$f":"Picture!D207","v":0},{"$f":"Picture!E207","v":0},{"$f":"Picture!F207","v":0},{"$f":"Picture!G207","v":0},{"$f":"Picture!H207","v":0},{"$f":"Picture!I207","v":0},{"$f":"Picture!J207","v":0},{"$f":"Picture!K207","v":0},{"$f":"Picture!L207","v":0},{"$f":"Picture!M207","v":0},{"$f":"Picture!N207","v":0},{"$f":"Picture!O207","v":0},{"$f":"Picture!P207","v":0},{"$f":"Picture!Q207","v":0},{"$f":"Picture!R207","v":0},{"$f":"Picture!S207","v":0},{"$f":"Picture!T207","v":0},{"$f":"Picture!U207","v":0},{"$f":"Picture!V207","v":0},{"$f":"Picture!W207","v":0},{"$f":"Picture!X207","v":0},{"$f":"Picture!Y207","v":0},{"$f":"Picture!Z207","v":0},{"$f":"Picture!AA207","v":0},{"$f":"Picture!AB207","v":0},{"$f":"Picture!AC207","v":0},{"$f":"Picture!AD207","v":0},{"$f":"Picture!AE207","v":0},{"$f":"Picture!AF207","v":0},{"$f":"Picture!AG207","v":0},{"$f":"Picture!AH207","v":0},{"$f":"Picture!AI207","v":0},{"$f":"Picture!AJ207","v":0},{"$f":"Picture!AK207","v":0},{"$f":"Picture!AL207","v":0},{"$f":"Picture!AM207","v":0},{"$f":"Picture!AN207","v":0},{"$f":"Picture!AO207","v":0},{"$f":"Picture!AP207","v":0},{"$f":"Picture!AQ207","v":0},{"$f":"Picture!AR207","v":0},{"$f":"Picture!AS207","v":0},{"$f":"Picture!AT207","v":0},{"$f":"Picture!AU207","v":0},{"$f":"Picture!AV207","v":0},{"$f":"Picture!AW207","v":0},{"$f":"Picture!AX207","v":0},{"$f":"Picture!AY207","v":0},{"$f":"Picture!AZ207","v":0}]
[{"$f":"Picture!A208","v":0},{"$f":"Picture!B208","v":0},{"$f":"Picture!C208","v":0},{"$f":"Picture!D208","v":0},{"$f":"Picture!E208","v":0},{"$f":"Picture!F208","v":0},{"$f":"Picture!G208","v":0},{"$f":"Picture!H208","v":0},{"$f":"Picture!I208","v":0},{"$f":"Picture!J208","v":0},{"$f":"Picture!K208","v":0},{"$f":"Picture!L208","v":0},{"$f":"Picture!M208","v":0},{"$f":"Picture!N208","v":0},{"$f":"Picture!O208","v":0},{"$f":"Picture!P208","v":0},{"$f":"Picture!Q208","v":0},{"$f":"Picture!R208","v":0},{"$f":"Picture!S208","v":0},{"$f":"Picture!T208","v":0},{"$f":"Picture!U208","v":0},{"$f":"Picture!V208","v":0},{"$f":"Picture!W208","v":0},{"$f":"Picture!X208","v":0},{"$f":"Picture!Y208","v":0},{"$f":"Picture!Z208","v":0},{"$f":"Picture!AA208","v":0},{"$f":"Picture!AB208","v":0},{"$f":"Picture!AC208","v":0},{"$f":"Picture!AD208","v":0},{"$f":"Picture!AE208","v":0},{"$f":"Picture!AF208","v":0},{"$f":"Picture!AG208","v":0},{"$f":"Picture!AH208","v":0},{"$f":"Picture!AI208","v":0},{"$f":"Picture!AJ208","v":0},{"$f":"Picture!AK208","v":0},{"$f":"Picture!AL208","v":0},{"$f":"Picture!AM208","v":0},{"$f":"Picture!AN208","v":0},{"$f":"Picture!AO208","v":0},{"$f":"Picture!AP208","v":0},{"$f":"Picture!AQ208","v":0},{"$f":"Picture!AR208","v":0},{"$f":"Picture!AS208","v":0},{"$f":"Picture!AT208","v":0},{"$f":"Picture!AU208","v":0},{"$f":"Picture!AV208","v":0},{"$f":"Picture!AW208","v":0},{"$f":"Picture!AX208","v":0},{"$f":"Picture!AY208","v":0},{"$f":"Picture!AZ208","v":0}]
[{"$f":"Picture!A209","v":0},{"$f":"Picture!B209","v":0},{"$f":"Picture!C209","v":0},{"$f":"Picture!D209","v":0},{"$f":"Picture!E209","v":0},{"$f":"Picture!F209","v":0},{"$f":"Picture!G209","v":0},{"$f":"Picture!H209","v":0},{"$f":"Picture!I209","v":0},{"$f":"Picture!J209","v":0},{"$f":"Picture!K209","v":0},{"$f":"Picture!L209","v":0},{"$f":"Picture!M209","v":0},{"$f":"Picture!N209","v":0},{"$f":"Picture!O209","v":0},{"$f":"Picture!P209","v":0},{"$f":"Picture!Q209","v":0},{"$f":"Picture!R209","v":0},{"$f":"Picture!S209","v":0},{"$f":"Picture!T209","v":0},{"$f":"Picture!U209","v":0},{"$f":"Picture!V209","v":0},{"$f":"Picture!W209","v":0},{"$f":"Picture!X209","v":0},{"$f":"Picture!Y209","v":0},{"$f":"Picture!Z209","v":0},{"$f":"Picture!AA209","v":0},{"$f":"Picture!AB209","v":0},{"$f":"Picture!AC209","v":0},{"$f":"Picture!AD209","v":0},{"$f":"Picture!AE209","v":0},{"$f":"Picture!AF209","v":0},{"$f":"Picture!AG209","v":0},{"$f":"Picture!AH209","v":0},{"$f":"Picture!AI209","v":0},{"$f":"Picture!AJ209","v":0},{"$f":"Picture!AK209","v":0},{"$f":"Picture!AL209","v":0},{"$f":"Picture!AM209","v":0},{"$f":"Picture!AN209","v":0},{"$f":"Picture!AO209","v":0},{"$f":"Picture!AP209","v":0},{"$f":"Picture!AQ209","v":0},{"$f":"Picture!AR209","v":0},{"$f":"Picture!AS209","v":0},{"$f":"Picture!AT209","v":0},{"$f":"Picture!AU209","v":0},{"$f":"Picture!AV209","v":0},{"$f":"Picture!AW209","v":0},{"$f":"Picture!AX209","v":0},{"$f":"Picture!AY209","v":0},{"$f":"Picture!AZ209","v":0}]
[{"$f":"Picture!A210","v":0},{"$f":"Picture!B210","v":0},{"$f":"Picture!C210","v":0},{"$f":"Picture!D210","v":0},{"$f":"Picture!E210","v":0},{"$f":"Picture!F210","v":0},{"$f":"Picture!G210","v":0},{"$f":"Picture!H210","v":0},{"$f":"Picture!I210","v":0},{"$f":"Picture!J210","v":0},{"$f":"Picture!K210","v":0},{"$f":"Picture!L210","v":0},{"$f":"Picture!M210","v":0},{"$f":"Picture!N210","v":0},{"$f":"Picture!O210","v":0},{"$f":"Picture!P210","v":0},{"$f":"Picture!Q210","v":0},{"$f":"Picture!R210","v":0},{"$f":"Picture!S210","v":0},{"$f":"Picture!T210","v":0},{"$f":"Picture!U210","v":0},{"$f":"Picture!V210","v":0},{"$f":"Picture!W210","v":0},{"$f":"Picture!X210","v":0},{"$f":"Picture!Y210","v":0},{"$f":"Picture!Z210","v":0},{"$f":"Picture!AA210","v":0},{"$f":"Picture!AB210","v":0},{"$f":"Picture!AC210","v":0},{"$f":"Picture!AD210","v":0},{"$f":"Picture!AE210","v":0},{"$f":"Picture!AF210","v":0},{"$f":"Picture!AG210","v":0},{"$f":"Picture!AH210","v":0},{"$f":"Picture!AI210","v":0},{"$f":"Picture!AJ210","v":0},{"$f":"Picture!AK210","v":0},{"$f":"Picture!AL210","v":0},{"$f":"Picture!AM210","v":0},{"$f":"Picture!AN210","v":0},{"$f":"Picture!AO210","v":0},{"$f":"Picture!AP210","v":0},{"$f":"Picture!AQ210","v":0},{"$f":"Picture!AR210","v":0},{"$f":"Picture!AS210","v":0},{"$f":"Picture!AT210","v":0},{"$f":"Picture!AU210","v":0},{"$f":"Picture!AV210","v":0},{"$f":"Picture!AW210","v":0},{"$f":"Picture!AX210","v":0},{"$f":"Picture!AY210","v":0},{"$f":"Picture!AZ210","v":0}]
[{"$f":"Picture!A211","v":0},{"$f":"Picture!B211","v":0},{"$f":"Picture!C211","v":0},{"$f":"Picture!D211","v":0},{"$f":"Picture!E211","v":0},{"$f":"Picture!F211","v":0},{"$f":"Picture!G211","v":0},{"$f":"Picture!H211","v":0},{"$f":"Picture!I211","v":0},{"$f":"Picture!J211","v":0},{"$f":"Picture!K211","v":0},{"$f":"Picture!L211","v":0},{"$f":"Picture!M211","v":0},{"$f":"Picture!N211","v":0},{"$f":"Picture!O211","v":0},{"$f":"Picture!P211","v":0},{"$f":"Picture!Q211","v":0},{"$f":"Picture!R211","v":0},{"$f":"Picture!S211","v":0},{"$f":"Picture!T211","v":0},{"$f":"Picture!U211","v":0},{"$f":"Picture!V211","v":0},{"$f":"Picture!W211","v":0},{"$f":"Picture!X211","v":0},{"$f":"Picture!Y211","v":0},{"$f":"Picture!Z211","v":0},{"$f":"Picture!AA211","v":0},{"$f":"Picture!AB211","v":0},{"$f":"Picture!AC211","v":0},{"$f":"Picture!AD211","v":0},{"$f":"Picture!AE211","v":0},{"$f":"Picture!AF211","v":0},{"$f":"Picture!AG211","v":0},{"$f":"Picture!AH211","v":0},{"$f":"Picture!AI211","v":0},{"$f":"Picture!AJ211","v":0},{"$f":"Picture!AK211","v":0},{"$f":"Picture!AL211","v":0},{"$f":"Picture!AM211","v":0},{"$f":"Picture!AN211","v":0},{"$f":"Picture!AO211","v":0},{"$f":"Picture!AP211","v":0},{"$f":"Picture!AQ211","v":0},{"$f":"Picture!AR211","v":0},{"$f":"Picture!AS211","v":0},{"$f":"Picture!AT211","v":0},{"$f":"Picture!AU211","v":0},{"$f":"Picture!AV211","v":0},{"$f":"Picture!AW211","v":0},{"$f":"Picture!AX211","v":0},{"$f":"Picture!AY211","v":0},{"$f":"Picture!AZ211","v":0}]
[{"$f":"Picture!A212","v":0},{"$f":"Picture!B212","v":0},{"$f":"Picture!C212","v":0},{"$f":"Picture!D212","v":0},{"$f":"Picture!E212","v":0},{"$f":"Picture!F212","v":0},{"$f":"Picture!G212","v":0},{"$f":"Picture!H212","v":0},{"$f":"Picture!I212","v":0},{"$f":"Picture!J212","v":0},{"$f":"Picture!K212","v":0},{"$f":"Picture!L212","v":0},{"$f":"Picture!M212","v":0},{"$f":"Picture!N212","v":0},{"$f":"Picture!O212","v":0},{"$f":"Picture!P212","v":0},{"$f":"Picture!Q212","v":0},{"$f":"Picture!R212","v":0},{"$f":"Picture!S212","v":0},{"$f":"Picture!T212","v":0},{"$f":"Picture!U212","v":0},{"$f":"Picture!V212","v":0},{"$f":"Picture!W212","v":0},{"$f":"Picture!X212","v":0},{"$f":"Picture!Y212","v":0},{"$f":"Picture!Z212","v":0},{"$f":"Picture!AA212","v":0},{"$f":"Picture!AB212","v":0},{"$f":"Picture!AC212","v":0},{"$f":"Picture!AD212","v":0},{"$f":"Picture!AE212","v":0},{"$f":"Picture!AF212","v":0},{"$f":"Picture!AG212","v":0},{"$f":"Picture!AH212","v":0},{"$f":"Picture!AI212","v":0},{"$f":"Picture!AJ212","v":0},{"$f":"Picture!AK212","v":0},{"$f":"Picture!AL212","v":0},{"$f":"Picture!AM212","v":0},{"$f":"Picture!AN212","v":0},{"$f":"Picture!AO212","v":0},{"$f":"Picture!AP212","v":0},{"$f":"Picture!AQ212","v":0},{"$f":"Picture!AR212","v":0},{"$f":"Picture!AS212","v":0},{"$f":"Picture!AT212","v":0},{"$f":"Picture!AU212","v":0},{"$f":"Picture!AV212","v":0},{"$f":"Picture!AW212","v":0},{"$f":"Picture!AX212","v":0},{"$f":"Picture!AY212","v":0},{"$f":"Picture!AZ212","v":0}]
[{"$f":"Picture!A213","v":0},{"$f":"Picture!B213","v":0},{"$f":"Picture!C213","v":0},{"$f":"Picture!D213","v":0},{"$f":"Picture!E213","v":0},{"$f":"Picture!F213","v":0},{"$f":"Picture!G213","v":0},{"$f":"Picture!H213","v":0},{"$f":"Picture!I213","v":0},{"$f":"Picture!J213","v":0},{"$f":"Picture!K213","v":0},{"$f":"Picture!L213","v":0},{"$f":"Picture!M213","v":0},{"$f":"Picture!N213","v":0},{"$f":"Picture!O213","v":0},{"$f":"Picture!P213","v":0},{"$f":"Picture!Q213","v":0},{"$f":"Picture!R213","v":0},{"$f":"Picture!S213","v":0},{"$f":"Picture!T213","v":0},{"$f":"Picture!U213","v":0},{"$f":"Picture!V213","v":0},{"$f":"Picture!W213","v":0},{"$f":"Picture!X213","v":0},{"$f":"Picture!Y213","v":0},{"$f":"Picture!Z213","v":0},{"$f":"Picture!AA213","v":0},{"$f":"Picture!AB213","v":0},{"$f":"Picture!AC213","v":0},{"$f":"Picture!AD213","v":0},{"$f":"Picture!AE213","v":0},{"$f":"Picture!AF213","v":0},{"$f":"Picture!AG213","v":0},{"$f":"Picture!AH213","v":0},{"$f":"Picture!AI213","v":0},{"$f":"Picture!AJ213","v":0},{"$f":"Picture!AK213","v":0},{"$f":"Picture!AL213","v":0},{"$f":"Picture!AM213","v":0},{"$f":"Picture!AN213","v":0},{"$f":"Picture!AO213","v":0},{"$f":"Picture!AP213","v":0},{"$f":"Picture!AQ213","v":0},{"$f":"Picture!AR213","v":0},{"$f":"Picture!AS213","v":0},{"$f":"Picture!AT213","v":0},{"$f":"Picture!AU213","v":0},{"$f":"Picture!AV213","v":0},{"$f":"Picture!AW213","v":0},{"$f":"Picture!AX213","v":0},{"$f":"Picture!AY213","v":0},{"$f":"Picture!AZ213","v":0}]
[{"$f":"Picture!A214","v":0},{"$f":"Picture!B214","v":0},{"$f":"Picture!C214","v":0},{"$f":"Picture!D214","v":0},{"$f":"Picture!E214","v":0},{"$f":"Picture!F214","v":0},{"$f":"Picture!G214","v":0},{"$f":"Picture!H214","v":0},{"$f":"Picture!I214","v":0},{"$f":"Picture!J214","v":0},{"$f":"Picture!K214","v":0},{"$f":"Picture!L214","v":0},{"$f":"Picture!M214","v":0},{"$f":"Picture!N214","v":0},{"$f":"Picture!O214","v":0},{"$f":"Picture!P214","v":0},{"$f":"Picture!Q214","v":0},{"$f":"Picture!R214","v":0},{"$f":"Picture!S214","v":0},{"$f":"Picture!T214","v":0},{"$f":"Picture!U214","v":0},{"$f":"Picture!V214","v":0},{"$f":"Picture!W214","v":0},{"$f":"Picture!X214","v":0},{"$f":"Picture!Y214","v":0},{"$f":"Picture!Z214","v":0},{"$f":"Picture!AA214","v":0},{"$f":"Picture!AB214","v":0},{"$f":"Picture!AC214","v":0},{"$f":"Picture!AD214","v":0},{"$f":"Picture!AE214","v":0},{"$f":"Picture!AF214","v":0},{"$f":"Picture!AG214","v":0},{"$f":"Picture!AH214","v":0},{"$f":"Picture!AI214","v":0},{"$f":"Picture!AJ214","v":0},{"$f":"Picture!AK214","v":0},{"$f":"Picture!AL214","v":0},{"$f":"Picture!AM214","v":0},{"$f":"Picture!AN214","v":0},{"$f":"Picture!AO214","v":0},{"$f":"Picture!AP214","v":0},{"$f":"Picture!AQ214","v":0},{"$f":"Picture!AR214","v":0},{"$f":"Picture!AS214","v":0},{"$f":"Picture!AT214","v":0},{"$f":"Picture!AU214","v":0},{"$f":"Picture!AV214","v":0},{"$f":"Picture!AW214","v":0},{"$f":"Picture!AX214","v":0},{"$f":"Picture!AY214","v":0},{"$f":"Picture!AZ214","v":0}]
[{"$f":"Picture!A215","v":0},{"$f":"Picture!B215","v":0},{"$f":"Picture!C215","v":0},{"$f":"Picture!D215","v":0},{"$f":"Picture!E215","v":0},{"$f":"Picture!F215","v":0},{"$f":"Picture!G215","v":0},{"$f":"Picture!H215","v":0},{"$f":"Picture!I215","v":0},{"$f":"Picture!J215","v":0},{"$f":"Picture!K215","v":0},{"$f":"Picture!L215","v":0},{"$f":"Picture!M215","v":0},{"$f":"Picture!N215","v":0},{"$f":"Picture!O215","v":0},{"$f":"Picture!P215","v":0},{"$f":"Picture!Q215","v":0},{"$f":"Picture!R215","v":0},{"$f":"Picture!S215","v":0},{"$f":"Picture!T215","v":0},{"$f":"Picture!U215","v":0},{"$f":"Picture!V215","v":0},{"$f":"Picture!W215","v":0},{"$f":"Picture!X215","v":0},{"$f":"Picture!Y215","v":0},{"$f":"Picture!Z215","v":0},{"$f":"Picture!AA215","v":0},{"$f":"Picture!AB215","v":0},{"$f":"Picture!AC215","v":0},{"$f":"Picture!AD215","v":0},{"$f":"Picture!AE215","v":0},{"$f":"Picture!AF215","v":0},{"$f":"Picture!AG215","v":0},{"$f":"Picture!AH215","v":0},{"$f":"Picture!AI215","v":0},{"$f":"Picture!AJ215","v":0},{"$f":"Picture!AK215","v":0},{"$f":"Picture!AL215","v":0},{"$f":"Picture!AM215","v":0},{"$f":"Picture!AN215","v":0},{"$f":"Picture!AO215","v":0},{"$f":"Picture!AP215","v":0},{"$f":"Picture!AQ215","v":0},{"$f":"Picture!AR215","v":0},{"$f":"Picture!AS215","v":0},{"$f":"Picture!AT215","v":0},{"$f":"Picture!AU215","v":0},{"$f":"Picture!AV215","v":0},{"$f":"Picture!AW215","v":0},{"$f":"Picture!AX215","v":0},{"$f":"Picture!AY215","v":0},{"$f":"Picture!AZ215","v":0}]
[{"$f":"Picture!A216","v":0},{"$f":"Picture!B216","v":0},{"$f":"Picture!C216","v":0},{"$f":"Picture!D216","v":0},{"$f":"Picture!E216","v":0},{"$f":"Picture!F216","v":0},{"$f":"Picture!G216","v":0},{"$f":"Picture!H216","v":0},{"$f":"Picture!I216","v":0},{"$f":"Picture!J216","v":0},{"$f":"Picture!K216","v":0},{"$f":"Picture!L216","v":0},{"$f":"Picture!M216","v":0},{"$f":"Picture!N216","v":0},{"$f":"Picture!O216","v":0},{"$f":"Picture!P216","v":0},{"$f":"Picture!Q216","v":0},{"$f":"Picture!R216","v":0},{"$f":"Picture!S216","v":0},{"$f":"Picture!T216","v":0},{"$f":"Picture!U216","v":0},{"$f":"Picture!V216","v":0},{"$f":"Picture!W216","v":0},{"$f":"Picture!X216","v":0},{"$f":"Picture!Y216","v":0},{"$f":"Picture!Z216","v":0},{"$f":"Picture!AA216","v":0},{"$f":"Picture!AB216","v":0},{"$f":"Picture!AC216","v":0},{"$f":"Picture!AD216","v":0},{"$f":"Picture!AE216","v":0},{"$f":"Picture!AF216","v":0},{"$f":"Picture!AG216","v":0},{"$f":"Picture!AH216","v":0},{"$f":"Picture!AI216","v":0},{"$f":"Picture!AJ216","v":0},{"$f":"Picture!AK216","v":0},{"$f":"Picture!AL216","v":0},{"$f":"Picture!AM216","v":0},{"$f":"Picture!AN216","v":0},{"$f":"Picture!AO216","v":0},{"$f":"Picture!AP216","v":0},{"$f":"Picture!AQ216","v":0},{"$f":"Picture!AR216","v":0},{"$f":"Picture!AS216","v":0},{"$f":"Picture!AT216","v":0},{"$f":"Picture!AU216","v":0},{"$f":"Picture!AV216","v":0},{"$f":"Picture!AW216","v":0},{"$f":"Picture!AX216","v":0},{"$f":"Picture!AY216","v":0},{"$f":"Picture!AZ216","v":0}]
[{"$f":"Picture!A217","v":0},{"$f":"Picture!B217","v":0},{"$f":"Picture!C217","v":0},{"$f":"Picture!D217","v":0},{"$f":"Picture!E217","v":0},{"$f":"Picture!F217","v":0},{"$f":"Picture!G217","v":0},{"$f":"Picture!H217","v":0},{"$f":"Picture!I217","v":0},{"$f":"Picture!J217","v":0},{"$f":"Picture!K217","v":0},{"$f":"Picture!L217","v":0},{"$f":"Picture!M217","v":0},{"$f":"Picture!N217","v":0},{"$f":"Picture!O217","v":0},{"$f":"Picture!P217","v":0},{"$f":"Picture!Q217","v":0},{"$f":"Picture!R217","v":0},{"$f":"Picture!S217","v":0},{"$f":"Picture!T217","v":0},{"$f":"Picture!U217","v":0},{"$f":"Picture!V217","v":0},{"$f":"Picture!W217","v":0},{"$f":"Picture!X217","v":0},{"$f":"Picture!Y217","v":0},{"$f":"Picture!Z217","v":0},{"$f":"Picture!AA217","v":0},{"$f":"Picture!AB217","v":0},{"$f":"Picture!AC217","v":0},{"$f":"Picture!AD217","v":0},{"$f":"Picture!AE217","v":0},{"$f":"Picture!AF217","v":0},{"$f":"Picture!AG217","v":0},{"$f":"Picture!AH217","v":0},{"$f":"Picture!AI217","v":0},{"$f":"Picture!AJ217","v":0},{"$f":"Picture!AK217","v":0},{"$f":"Picture!AL217","v":0},{"$f":"Picture!AM217","v":0},{"$f":"Picture!AN217","v":0},{"$f":"Picture!AO217","v":0},{"$f":"Picture!AP217","v":0},{"$f":"Picture!AQ217","v":0},{"$f":"Picture!AR217","v":0},{"$f":"Picture!AS217","v":0},{"$f":"Picture!AT217","v":0},{"$f":"Picture!AU217","v":0},{"$f":"Picture!AV217","v":0},{"$f":"Picture!AW217","v":0},{"$f":"Picture!AX217","v":0},{"$f":"Picture!AY217","v":0},{"$f":"Picture!AZ217","v":0}]
[{"$f":"Picture!A218","v":0},{"$f":"Picture!B218","v":0},{"$f":"Picture!C218","v":0},{"$f":"Picture!D218","v":0},{"$f":"Picture!E218","v":0},{"$f":"Picture!F218","v":0},{"$f":"Picture!G218","v":0},{"$f":"Picture!H218","v":0},{"$f":"Picture!I218","v":0},{"$f":"Picture!J218","v":0},{"$f":"Picture!K218","v":0},{"$f":"Picture!L218","v":0},{"$f":"Picture!M218","v":0},{"$f":"Picture!N218","v":0},{"$f":"Picture!O218","v":0},{"$f":"Picture!P218","v":0},{"$f":"Picture!Q218","v":0},{"$f":"Picture!R218","v":0},{"$f":"Picture!S218","v":0},{"$f":"Picture!T218","v":0},{"$f":"Picture!U218","v":0},{"$f":"Picture!V218","v":0},{"$f":"Picture!W218","v":0},{"$f":"Picture!X218","v":0},{"$f":"Picture!Y218","v":0},{"$f":"Picture!Z218","v":0},{"$f":"Picture!AA218","v":0},{"$f":"Picture!AB218","v":0},{"$f":"Picture!AC218","v":0},{"$f":"Picture!AD218","v":0},{"$f":"Picture!AE218","v":0},{"$f":"Picture!AF218","v":0},{"$f":"Picture!AG218","v":0},{"$f":"Picture!AH218","v":0},{"$f":"Picture!AI218","v":0},{"$f":"Picture!AJ218","v":0},{"$f":"Picture!AK218","v":0},{"$f":"Picture!AL218","v":0},{"$f":"Picture!AM218","v":0},{"$f":"Picture!AN218","v":0},{"$f":"Picture!AO218","v":0},{"$f":"Picture!AP218","v":0},{"$f":"Picture!AQ218","v":0},{"$f":"Picture!AR218","v":0},{"$f":"Picture!AS218","v":0},{"$f":"Picture!AT218","v":0},{"$f":"Picture!AU218","v":0},{"$f":"Picture!AV218","v":0},{"$f":"Picture!AW218","v":0},{"$f":"Picture!AX218","v":0},{"$f":"Picture!AY218","v":0},{"$f":"Picture!AZ218","v":0}]
[{"$f":"Picture!A219","v":0},{"$f":"Picture!B219","v":0},{"$f":"Picture!C219","v":0},{"$f":"Picture!D219","v":0},{"$f":"Picture!E219","v":0},{"$f":"Picture!F219","v":0},{"$f":"Picture!G219","v":0},{"$f":"Picture!H219","v":0},{"$f":"Picture!I219","v":0},{"$f":"Picture!J219","v":0},{"$f":"Picture!K219","v":0},{"$f":"Picture!L219","v":0},{"$f":"Picture!M219","v":0},{"$f":"Picture!N219","v":0},{"$f":"Picture!O219","v":0},{"$f":"Picture!P219","v":0},{"$f":"Picture!Q219","v":0},{"$f":"Picture!R219","v":0},{"$f":"Picture!S219","v":0},{"$f":"Picture!T219","v":0},{"$f":"Picture!U219","v":0},{"$f":"Picture!V219","v":0},{"$f":"Picture!W219","v":0},{"$f":"Picture!X219","v":0},{"$f":"Picture!Y219","v":0},{"$f":"Picture!Z219","v":0},{"$f":"Picture!AA219","v":0},{"$f":"Picture!AB219","v":0},{"$f":"Picture!AC219","v":0},{"$f":"Picture!AD219","v":0},{"$f":"Picture!AE219","v":0},{"$f":"Picture!AF219","v":0},{"$f":"Picture!AG219","v":0},{"$f":"Picture!AH219","v":0},{"$f":"Picture!AI219","v":0},{"$f":"Picture!AJ219","v":0},{"$f":"Picture!AK219","v":0},{"$f":"Picture!AL219","v":0},{"$f":"Picture!AM219","v":0},{"$f":"Picture!AN219","v":0},{"$f":"Picture!AO219","v":0},{"$f":"Picture!AP219","v":0},{"$f":"Picture!AQ219","v":0},{"$f":"Picture!AR219","v":0},{"$f":"Picture!AS219","v":0},{"$f":"Picture!AT219","v":0},{"$f":"Picture!AU219","v":0},{"$f":"Picture!AV219","v":0},{"$f":"Picture!AW219","v":0},{"$f":"Picture!AX219","v":0},{"$f":"Picture!AY219","v":0},{"$f":"Picture!AZ219","v":0}]
[{"$f":"Picture!A220","v":0},{"$f":"Picture!B220","v":0},{"$f":"Picture!C220","v":0},{"$f":"Picture!D220","v":0},{"$f":"Picture!E220","v":0},{"$f":"Picture!F220","v":0},{"$f":"Picture!G220","v":0},{"$f":"Picture!H220","v":0},{"$f":"Picture!I220","v":0},{"$f":"Picture!J220","v":0},{"$f":"Picture!K220","v":0},{"$f":"Picture!L220","v":0},{"$f":"Picture!M220","v":0},{"$f":"Picture!N220","v":0},{"$f":"Picture!O220","v":0},{"$f":"Picture!P220","v":0},{"$f":"Picture!Q220","v":0},{"$f":"Picture!R220","v":0},{"$f":"Picture!S220","v":0},{"$f":"Picture!T220","v":0},{"$f":"Picture!U220","v":0},{"$f":"Picture!V220","v":0},{"$f":"Picture!W220","v":0},{"$f":"Picture!X220","v":0},{"$f":"Picture!Y220","v":0},{"$f":"Picture!Z220","v":0},{"$f":"Picture!AA220","v":0},{"$f":"Picture!AB220","v":0},{"$f":"Picture!AC220","v":0},{"$f":"Picture!AD220","v":0},{"$f":"Picture!AE220","v":0},{"$f":"Picture!AF220","v":0},{"$f":"Picture!AG220","v":0},{"$f":"Picture!AH220","v":0},{"$f":"Picture!AI220","v":0},{"$f":"Picture!AJ220","v":0},{"$f":"Picture!AK220","v":0},{"$f":"Picture!AL220","v":0},{"$f":"Picture!AM220","v":0},{"$f":"Picture!AN220","v":0},{"$f":"Picture!AO220","v":0},{"$f":"Picture!AP220","v":0},{"$f":"Picture!AQ220","v":0},{"$f":"Picture!AR220","v":0},{"$f":"Picture!AS220","v":0},{"$f":"Picture!AT220","v":0},{"$f":"Picture!AU220","v":0},{"$f":"Picture!AV220","v":0},{"$f":"Picture!AW220","v":0},{"$f":"Picture!AX220","v":0},{"$f":"Picture!AY220","v":0},{"$f":"Picture!AZ220","v":0}]
[{"$f":"Picture!A221","v":0},{"$f":"Picture!B221","v":0},{"$f":"Picture!C221","v":0},{"$f":"Picture!D221","v":0},{"$f":"Picture!E221","v":0},{"$f":"Picture!F221","v":0},{"$f":"Picture!G221","v":0},{"$f":"Picture!H221","v":0},{"$f":"Picture!I221","v":0},{"$f":"Picture!J221","v":0},{"$f":"Picture!K221","v":0},{"$f":"Picture!L221","v":0},{"$f":"Picture!M221","v":0},{"$f":"Picture!N221","v":0},{"$f":"Picture!O221","v":0},{"$f":"Picture!P221","v":0},{"$f":"Picture!Q221","v":0},{"$f":"Picture!R221","v":0},{"$f":"Picture!S221","v":0},{"$f":"Picture!T221","v":0},{"$f":"Picture!U221","v":0},{"$f":"Picture!V221","v":0},{"$f":"Picture!W221","v":0},{"$f":"Picture!X221","v":0},{"$f":"Picture!Y221","v":0},{"$f":"Picture!Z221","v":0},{"$f":"Picture!AA221","v":0},{"$f":"Picture!AB221","v":0},{"$f":"Picture!AC221","v":0},{"$f":"Picture!AD221","v":0},{"$f":"Picture!AE221","v":0},{"$f":"Picture!AF221","v":0},{"$f":"Picture!AG221","v":0},{"$f":"Picture!AH221","v":0},{"$f":"Picture!AI221","v":0},{"$f":"Picture!AJ221","v":0},{"$f":"Picture!AK221","v":0},{"$f":"Picture!AL221","v":0},{"$f":"Picture!AM221","v":0},{"$f":"Picture!AN221","v":0},{"$f":"Picture!AO221","v":0},{"$f":"Picture!AP221","v":0},{"$f":"Picture!AQ221","v":0},{"$f":"Picture!AR221","v":0},{"$f":"Picture!AS221","v":0},{"$f":"Picture!AT221","v":0},{"$f":"Picture!AU221","v":0},{"$f":"Picture!AV221","v":0},{"$f":"Picture!AW221","v":0},{"$f":"Picture!AX221","v":0},{"$f":"Picture!AY221","v":0},{"$f":"Picture!AZ221","v":0}]
[{"$f":"Picture!A222","v":0},{"$f":"Picture!B222","v":0},{"$f":"Picture!C222","v":0},{"$f":"Picture!D222","v":0},{"$f":"Picture!E222","v":0},{"$f":"Picture!F222","v":0},{"$f":"Picture!G222","v":0},{"$f":"Picture!H222","v":0},{"$f":"Picture!I222","v":0},{"$f":"Picture!J222","v":0},{"$f":"Picture!K222","v":0},{"$f":"Picture!L222","v":0},{"$f":"Picture!M222","v":0},{"$f":"Picture!N222","v":0},{"$f":"Picture!O222","v":0},{"$f":"Picture!P222","v":0},{"$f":"Picture!Q222","v":0},{"$f":"Picture!R222","v":0},{"$f":"Picture!S222","v":0},{"$f":"Picture!T222","v":0},{"$f":"Picture!U222","v":0},{"$f":"Picture!V222","v":0},{"$f":"Picture!W222","v":0},{"$f":"Picture!X222","v":0},{"$f":"Picture!Y222","v":0},{"$f":"Picture!Z222","v":0},{"$f":"Picture!AA222","v":0},{"$f":"Picture!AB222","v":0},{"$f":"Picture!AC222","v":0},{"$f":"Picture!AD222","v":0},{"$f":"Picture!AE222","v":0},{"$f":"Picture!AF222","v":0},{"$f":"Picture!AG222","v":0},{"$f":"Picture!AH222","v":0},{"$f":"Picture!AI222","v":0},{"$f":"Picture!AJ222","v":0},{"$f":"Picture!AK222","v":0},{"$f":"Picture!AL222","v":0},{"$f":"Picture!AM222","v":0},{"$f":"Picture!AN222","v":0},{"$f":"Picture!AO222","v":0},{"$f":"Picture!AP222","v":0},{"$f":"Picture!AQ222","v":0},{"$f":"Picture!AR222","v":0},{"$f":"Picture!AS222","v":0},{"$f":"Picture!AT222","v":0},{"$f":"Picture!AU222","v":0},{"$f":"Picture!AV222","v":0},{"$f":"Picture!AW222","v":0},{"$f":"Picture!AX222","v":0},{"$f":"Picture!AY222","v":0},{"$f":"Picture!AZ222","v":0}]
[{"$f":"Picture!A223","v":0},{"$f":"Picture!B223","v":0},{"$f":"Picture!C223","v":0},{"$f":"Picture!D223","v":0},{"$f":"Picture!E223","v":0},{"$f":"Picture!F223","v":0},{"$f":"Picture!G223","v":0},{"$f":"Picture!H223","v":0},{"$f":"Picture!I223","v":0},{"$f":"Picture!J223","v":0},{"$f":"Picture!K223","v":0},{"$f":"Picture!L223","v":0},{"$f":"Picture!M223","v":0},{"$f":"Picture!N223","v":0},{"$f":"Picture!O223","v":0},{"$f":"Picture!P223","v":0},{"$f":"Picture!Q223","v":0},{"$f":"Picture!R223","v":0},{"$f":"Picture!S223","v":0},{"$f":"Picture!T223","v":0},{"$f":"Picture!U223","v":0},{"$f":"Picture!V223","v":0},{"$f":"Picture!W223","v":0},{"$f":"Picture!X223","v":0},{"$f":"Picture!Y223","v":0},{"$f":"Picture!Z223","v":0},{"$f":"Picture!AA223","v":0},{"$f":"Picture!AB223","v":0},{"$f":"Picture!AC223","v":0},{"$f":"Picture!AD223","v":0},{"$f":"Picture!AE223","v":0},{"$f":"Picture!AF223","v":0},{"$f":"Picture!AG223","v":0},{"$f":"Picture!AH223","v":0},{"$f":"Picture!AI223","v":0},{"$f":"Picture!AJ223","v":0},{"$f":"Picture!AK223","v":0},{"$f":"Picture!AL223","v":0},{"$f":"Picture!AM223","v":0},{"$f":"Picture!AN223","v":0},{"$f":"Picture!AO223","v":0},{"$f":"Picture!AP223","v":0},{"$f":"Picture!AQ223","v":0},{"$f":"Picture!AR223","v":0},{"$f":"Picture!AS223","v":0},{"$f":"Picture!AT223","v":0},{"$f":"Picture!AU223","v":0},{"$f":"Picture!AV223","v":0},{"$f":"Picture!AW223","v":0},{"$f":"Picture!AX223","v":0},{"$f":"Picture!AY223","v":0},{"$f":"Picture!AZ223","v":0}]
[{"$f":"Picture!A224","v":0},{"$f":"Picture!B224","v":0},{"$f":"Picture!C224","v":0},{"$f":"Picture!D224","v":0},{"$f":"Picture!E224","v":0},{"$f":"Picture!F224","v":0},{"$f":"Picture!G224","v":0},{"$f":"Picture!H224","v":0},{"$f":"Picture!I224","v":0},{"$f":"Picture!J224","v":0},{"$f":"Picture!K224","v":0},{"$f":"Picture!L224","v":0},{"$f":"Picture!M224","v":0},{"$f":"Picture!N224","v":0},{"$f":"Picture!O224","v":0},{"$f":"Picture!P224","v":0},{"$f":"Picture!Q224","v":0},{"$f":"Picture!R224","v":0},{"$f":"Picture!S224","v":0},{"$f":"Picture!T224","v":0},{"$f":"Picture!U224","v":0},{"$f":"Picture!V224","v":0},{"$f":"Picture!W224","v":0},{"$f":"Picture!X224","v":0},{"$f":"Picture!Y224","v":0},{"$f":"Picture!Z224","v":0},{"$f":"Picture!AA224","v":0},{"$f":"Picture!AB224","v":0},{"$f":"Picture!AC224","v":0},{"$f":"Picture!AD224","v":0},{"$f":"Picture!AE224","v":0},{"$f":"Picture!AF224","v":0},{"$f":"Picture!AG224","v":0},{"$f":"Picture!AH224","v":0},{"$f":"Picture!AI224","v":0},{"$f":"Picture!AJ224","v":0},{"$f":"Picture!AK224","v":0},{"$f":"Picture!AL224","v":0},{"$f":"Picture!AM224","v":0},{"$f":"Picture!AN224","v":0},{"$f":"Picture!AO224","v":0},{"$f":"Picture!AP224","v":0},{"$f":"Picture!AQ224","v":0},{"$f":"Picture!AR224","v":0},{"$f":"Picture!AS224","v":0},{"$f":"Picture!AT224","v":0},{"$f":"Picture!AU224","v":0},{"$f":"Picture!AV224","v":0},{"$f":"Picture!AW224","v":0},{"$f":"Picture!AX224","v":0},{"$f":"Picture!AY224","v":0},{"$f":"Picture!AZ224","v":0}]
[{"$f":"Picture!A225","v":0},{"$f":"Picture!B225","v":0},{"$f":"Picture!C225","v":0},{"$f":"Picture!D225","v":0},{"$f":"Picture!E225","v":0},{"$f":"Picture!F225","v":0},{"$f":"Picture!G225","v":0},{"$f":"Picture!H225","v":0},{"$f":"Picture!I225","v":0},{"$f":"Picture!J225","v":0},{"$f":"Picture!K225","v":0},{"$f":"Picture!L225","v":0},{"$f":"Picture!M225","v":0},{"$f":"Picture!N225","v":0},{"$f":"Picture!O225","v":0},{"$f":"Picture!P225","v":0},{"$f":"Picture!Q225","v":0},{"$f":"Picture!R225","v":0},{"$f":"Picture!S225","v":0},{"$f":"Picture!T225","v":0},{"$f":"Picture!U225","v":0},{"$f":"Picture!V225","v":0},{"$f":"Picture!W225","v":0},{"$f":"Picture!X225","v":0},{"$f":"Picture!Y225","v":0},{"$f":"Picture!Z225","v":0},{"$f":"Picture!AA225","v":0},{"$f":"Picture!AB225","v":0},{"$f":"Picture!AC225","v":0},{"$f":"Picture!AD225","v":0},{"$f":"Picture!AE225","v":0},{"$f":"Picture!AF225","v":0},{"$f":"Picture!AG225","v":0},{"$f":"Picture!AH225","v":0},{"$f":"Picture!AI225","v":0},{"$f":"Picture!AJ225","v":0},{"$f":"Picture!AK225","v":0},{"$f":"Picture!AL225","v":0},{"$f":"Picture!AM225","v":0},{"$f":"Picture!AN225","v":0},{"$f":"Picture!AO225","v":0},{"$f":"Picture!AP225","v":0},{"$f":"Picture!AQ225","v":0},{"$f":"Picture!AR225","v":0},{"$f":"Picture!AS225","v":0},{"$f":"Picture!AT225","v":0},{"$f":"Picture!AU225","v":0},{"$f":"Picture!AV225","v":0},{"$f":"Picture!AW225","v":0},{"$f":"Picture!AX225","v":0},{"$f":"Picture!AY225","v":0},{"$f":"Picture!AZ225","v":0}]
[{"$f":"Picture!A226","v":0},{"$f":"Picture!B226","v":0},{"$f":"Picture!C226","v":0},{"$f":"Picture!D226","v":0},{"$f":"Picture!E226","v":0},{"$f":"Picture!F226","v":0},{"$f":"Picture!G226","v":0},{"$f":"Picture!H226","v":0},{"$f":"Picture!I226","v":0},{"$f":"Picture!J226","v":0},{"$f":"Picture!K226","v":0},{"$f":"Picture!L226","v":0},{"$f":"Picture!M226","v":0},{"$f":"Picture!N226","v":0},{"$f":"Picture!O226","v":0},{"$f":"Picture!P226","v":0},{"$f":"Picture!Q226","v":0},{"$f":"Picture!R226","v":0},{"$f":"Picture!S226","v":0},{"$f":"Picture!T226","v":0},{"$f":"Picture!U226","v":0},{"$f":"Picture!V226","v":0},{"$f":"Picture!W226","v":0},{"$f":"Picture!X226","v":0},{"$f":"Picture!Y226","v":0},{"$f":"Picture!Z226","v":0},{"$f":"Picture!AA226","v":0},{"$f":"Picture!AB226","v":0},{"$f":"Picture!AC226","v":0},{"$f":"Picture!AD226","v":0},{"$f":"Picture!AE226","v":0},{"$f":"Picture!AF226","v":0},{"$f":"Picture!AG226","v":0},{"$f":"Picture!AH226","v":0},{"$f":"Picture!AI226","v":0},{"$f":"Picture!AJ226","v":0},{"$f":"Picture!AK226","v":0},{"$f":"Picture!AL226","v":0},{"$f":"Picture!AM226","v":0},{"$f":"Picture!AN226","v":0},{"$f":"Picture!AO226","v":0},{"$f":"Picture!AP226","v":0},{"$f":"Picture!AQ226","v":0},{"$f":"Picture!AR226","v":0},{"$f":"Picture!AS226","v":0},{"$f":"Picture!AT226","v":0},{"$f":"Picture!AU226","v":0},{"$f":"Picture!AV226","v":0},{"$f":"Picture!AW226","v":0},{"$f":"Picture!AX226","v":0},{"$f":"Picture!AY226","v":0},{"$f":"Picture!AZ226","v":0}]
[{"$f":"Picture!A227","v":0},{"$f":"Picture!B227","v":0},{"$f":"Picture!C227","v":0},{"$f":"Picture!D227","v":0},{"$f":"Picture!E227","v":0},{"$f":"Picture!F227","v":0},{"$f":"Picture!G227","v":0},{"$f":"Picture!H227","v":0},{"$f":"Picture!I227","v":0},{"$f":"Picture!J227","v":0},{"$f":"Picture!K227","v":0},{"$f":"Picture!L227","v":0},{"$f":"Picture!M227","v":0},{"$f":"Picture!N227","v":0},{"$f":"Picture!O227","v":0},{"$f":"Picture!P227","v":0},{"$f":"Picture!Q227","v":0},{"$f":"Picture!R227","v":0},{"$f":"Picture!S227","v":0},{"$f":"Picture!T227","v":0},{"$f":"Picture!U227","v":0},{"$f":"Picture!V227","v":0},{"$f":"Picture!W227","v":0},{"$f":"Picture!X227","v":0},{"$f":"Picture!Y227","v":0},{"$f":"Picture!Z227","v":0},{"$f":"Picture!AA227","v":0},{"$f":"Picture!AB227","v":0},{"$f":"Picture!AC227","v":0},{"$f":"Picture!AD227","v":0},{"$f":"Picture!AE227","v":0},{"$f":"Picture!AF227","v":0},{"$f":"Picture!AG227","v":0},{"$f":"Picture!AH227","v":0},{"$f":"Picture!AI227","v":0},{"$f":"Picture!AJ227","v":0},{"$f":"Picture!AK227","v":0},{"$f":"Picture!AL227","v":0},{"$f":"Picture!AM227","v":0},{"$f":"Picture!AN227","v":0},{"$f":"Picture!AO227","v":0},{"$f":"Picture!AP227","v":0},{"$f":"Picture!AQ227","v":0},{"$f":"Picture!AR227","v":0},{"$f":"Picture!AS227","v":0},{"$f":"Picture!AT227","v":0},{"$f":"Picture!AU227","v":0},{"$f":"Picture!AV227","v":0},{"$f":"Picture!AW227","v":0},{"$f":"Picture!AX227","v":0},{"$f":"Picture!AY227","v":0},{"$f":"Picture!AZ227","v":0}]
[{"$f":"Picture!A228","v":0},{"$f":"Picture!B228","v":0},{"$f":"Picture!C228","v":0},{"$f":"Picture!D228","v":0},{"$f":"Picture!E228","v":0},{"$f":"Picture!F228","v":0},{"$f":"Picture!G228","v":0},{"$f":"Picture!H228","v":0},{"$f":"Picture!I228","v":0},{"$f":"Picture!J228","v":0},{"$f":"Picture!K228","v":0},{"$f":"Picture!L228","v":0},{"$f":"Picture!M228","v":0},{"$f":"Picture!N228","v":0},{"$f":"Picture!O228","v":0},{"$f":"Picture!P228","v":0},{"$f":"Picture!Q228","v":0},{"$f":"Picture!R228","v":0},{"$f":"Picture!S228","v":0},{"$f":"Picture!T228","v":0},{"$f":"Picture!U228","v":0},{"$f":"Picture!V228","v":0},{"$f":"Picture!W228","v":0},{"$f":"Picture!X228","v":0},{"$f":"Picture!Y228","v":0},{"$f":"Picture!Z228","v":0},{"$f":"Picture!AA228","v":0},{"$f":"Picture!AB228","v":0},{"$f":"Picture!AC228","v":0},{"$f":"Picture!AD228","v":0},{"$f":"Picture!AE228","v":0},{"$f":"Picture!AF228","v":0},{"$f":"Picture!AG228","v":0},{"$f":"Picture!AH228","v":0},{"$f":"Picture!AI228","v":0},{"$f":"Picture!AJ228","v":0},{"$f":"Picture!AK228","v":0},{"$f":"Picture!AL228","v":0},{"$f":"Picture!AM228","v":0},{"$f":"Picture!AN228","v":0},{"$f":"Picture!AO228","v":0},{"$f":"Picture!AP228","v":0},{"$f":"Picture!AQ228","v":0},{"$f":"Picture!AR228","v":0},{"$f":"Picture!AS228","v":0},{"$f":"Picture!AT228","v":0},{"$f":"Picture!AU228","v":0},{"$f":"Picture!AV228","v":0},{"$f":"Picture!AW228","v":0},{"$f":"Picture!AX228","v":0},{"$f":"Picture!AY228","v":0},{"$f":"Picture!AZ228","v":0}]
[{"$f":"Picture!A229","v":0},{"$f":"Picture!B229","v":0},{"$f":"Picture!C229","v":0},{"$f":"Picture!D229","v":0},{"$f":"Picture!E229","v":0},{"$f":"Picture!F229","v":0},{"$f":"Picture!G229","v":0},{"$f":"Picture!H229","v":0},{"$f":"Picture!I229","v":0},{"$f":"Picture!J229","v":0},{"$f":"Picture!K229","v":0},{"$f":"Picture!L229","v":0},{"$f":"Picture!M229","v":0},{"$f":"Picture!N229","v":0},{"$f":"Picture!O229","v":0},{"$f":"Picture!P229","v":0},{"$f":"Picture!Q229","v":0},{"$f":"Picture!R229","v":0},{"$f":"Picture!S229","v":0},{"$f":"Picture!T229","v":0},{"$f":"Picture!U229","v":0},{"$f":"Picture!V229","v":0},{"$f":"Picture!W229","v":0},{"$f":"Picture!X229","v":0},{"$f":"Picture!Y229","v":0},{"$f":"Picture!Z229","v":0},{"$f":"Picture!AA229","v":0},{"$f":"Picture!AB229","v":0},{"$f":"Picture!AC229","v":0},{"$f":"Picture!AD229","v":0},{"$f":"Picture!AE229","v":0},{"$f":"Picture!AF229","v":0},{"$f":"Picture!AG229","v":0},{"$f":"Picture!AH229","v":0},{"$f":"Picture!AI229","v":0},{"$f":"Picture!AJ229","v":0},{"$f":"Picture!AK229","v":0},{"$f":"Picture!AL229","v":0},{"$f":"Picture!AM229","v":0},{"$f":"Picture!AN229","v":0},{"$f":"Picture!AO229","v":0},{"$f":"Picture!AP229","v":0},{"$f":"Picture!AQ229","v":0},{"$f":"Picture!AR229","v":0},{"$f":"Picture!AS229","v":0},{"$f":"Picture!AT229","v":0},{"$f":"Picture!AU229","v":0},{"$f":"Picture!AV229","v":0},{"$f":"Picture!AW229","v":0},{"$f":"Picture!AX229","v":0},{"$f":"Picture!AY229","v":0},{"$f":"Picture!AZ229","v":0}]
[{"$f":"Picture!A230","v":0},{"$f":"Picture!B230","v":0},{"$f":"Picture!C230","v":0},{"$f":"Picture!D230","v":0},{"$f":"Picture!E230","v":0},{"$f":"Picture!F230","v":0},{"$f":"Picture!G230","v":0},{"$f":"Picture!H230","v":0},{"$f":"Picture!I230","v":0},{"$f":"Picture!J230","v":0},{"$f":"Picture!K230","v":0},{"$f":"Picture!L230","v":0},{"$f":"Picture!M230","v":0},{"$f":"Picture!N230","v":0},{"$f":"Picture!O230","v":0},{"$f":"Picture!P230","v":0},{"$f":"Picture!Q230","v":0},{"$f":"Picture!R230","v":0},{"$f":"Picture!S230","v":0},{"$f":"Picture!T230","v":0},{"$f":"Picture!U230","v":0},{"$f":"Picture!V230","v":0},{"$f":"Picture!W230","v":0},{"$f":"Picture!X230","v":0},{"$f":"Picture!Y230","v":0},{"$f":"Picture!Z230","v":0},{"$f":"Picture!AA230","v":0},{"$f":"Picture!AB230","v":0},{"$f":"Picture!AC230","v":0},{"$f":"Picture!AD230","v":0},{"$f":"Picture!AE230","v":0},{"$f":"Picture!AF230","v":0},{"$f":"Picture!AG230","v":0},{"$f":"Picture!AH230","v":0},{"$f":"Picture!AI230","v":0},{"$f":"Picture!AJ230","v":0},{"$f":"Picture!AK230","v":0},{"$f":"Picture!AL230","v":0},{"$f":"Picture!AM230","v":0},{"$f":"Picture!AN230","v":0},{"$f":"Picture!AO230","v":0},{"$f":"Picture!AP230","v":0},{"$f":"Picture!AQ230","v":0},{"$f":"Picture!AR230","v":0},{"$f":"Picture!AS230","v":0},{"$f":"Picture!AT230","v":0},{"$f":"Picture!AU230","v":0},{"$f":"Picture!AV230","v":0},{"$f":"Picture!AW230","v":0},{"$f":"Picture!AX230","v":0},{"$f":"Picture!AY230","v":0},{"$f":"Picture!AZ230","v":0}]
[{"$f":"Picture!A231","v":0},{"$f":"Picture!B231","v":0},{"$f":"Picture!C231","v":0},{"$f":"Picture!D231","v":0},{"$f":"Picture!E231","v":0},{"$f":"Picture!F231","v":0},{"$f":"Picture!G231","v":0},{"$f":"Picture!H231","v":0},{"$f":"Picture!I231","v":0},{"$f":"Picture!J231","v":0},{"$f":"Picture!K231","v":0},{"$f":"Picture!L231","v":0},{"$f":"Picture!M231","v":0},{"$f":"Picture!N231","v":0},{"$f":"Picture!O231","v":0},{"$f":"Picture!P231","v":0},{"$f":"Picture!Q231","v":0},{"$f":"Picture!R231","v":0},{"$f":"Picture!S231","v":0},{"$f":"Picture!T231","v":0},{"$f":"Picture!U231","v":0},{"$f":"Picture!V231","v":0},{"$f":"Picture!W231","v":0},{"$f":"Picture!X231","v":0},{"$f":"Picture!Y231","v":0},{"$f":"Picture!Z231","v":0},{"$f":"Picture!AA231","v":0},{"$f":"Picture!AB231","v":0},{"$f":"Picture!AC231","v":0},{"$f":"Picture!AD231","v":0},{"$f":"Picture!AE231","v":0},{"$f":"Picture!AF231","v":0},{"$f":"Picture!AG231","v":0},{"$f":"Picture!AH231","v":0},{"$f":"Picture!AI231","v":0},{"$f":"Picture!AJ231","v":0},{"$f":"Picture!AK231","v":0},{"$f":"Picture!AL231","v":0},{"$f":"Picture!AM231","v":0},{"$f":"Picture!AN231","v":0},{"$f":"Picture!AO231","v":0},{"$f":"Picture!AP231","v":0},{"$f":"Picture!AQ231","v":0},{"$f":"Picture!AR231","v":0},{"$f":"Picture!AS231","v":0},{"$f":"Picture!AT231","v":0},{"$f":"Picture!AU231","v":0},{"$f":"Picture!AV231","v":0},{"$f":"Picture!AW231","v":0},{"$f":"Picture!AX231","v":0},{"$f":"Picture!AY231","v":0},{"$f":"Picture!AZ231","v":0}]
[{"$f":"Picture!A232","v":0},{"$f":"Picture!B232","v":0},{"$f":"Picture!C232","v":0},{"$f":"Picture!D232","v":0},{"$f":"Picture!E232","v":0},{"$f":"Picture!F232","v":0},{"$f":"Picture!G232","v":0},{"$f":"Picture!H232","v":0},{"$f":"Picture!I232","v":0},{"$f":"Picture!J232","v":0},{"$f":"Picture!K232","v":0},{"$f":"Picture!L232","v":0},{"$f":"Picture!M232","v":0},{"$f":"Picture!N232","v":0},{"$f":"Picture!O232","v":0},{"$f":"Picture!P232","v":0},{"$f":"Picture!Q232","v":0},{"$f":"Picture!R232","v":0},{"$f":"Picture!S232","v":0},{"$f":"Picture!T232","v":0},{"$f":"Picture!U232","v":0},{"$f":"Picture!V232","v":0},{"$f":"Picture!W232","v":0},{"$f":"Picture!X232","v":0},{"$f":"Picture!Y232","v":0},{"$f":"Picture!Z232","v":0},{"$f":"Picture!AA232","v":0},{"$f":"Picture!AB232","v":0},{"$f":"Picture!AC232","v":0},{"$f":"Picture!AD232","v":0},{"$f":"Picture!AE232","v":0},{"$f":"Picture!AF232","v":0},{"$f":"Picture!AG232","v":0},{"$f":"Picture!AH232","v":0},{"$f":"Picture!AI232","v":0},{"$f":"Picture!AJ232","v":0},{"$f":"Picture!AK232","v":0},{"$f":"Picture!AL232","v":0},{"$f":"Picture!AM232","v":0},{"$f":"Picture!AN232","v":0},{"$f":"Picture!AO232","v":0},{"$f":"Picture!AP232","v":0},{"$f":"Picture!AQ232","v":0},{"$f":"Picture!AR232","v":0},{"$f":"Picture!AS232","v":0},{"$f":"Picture!AT232","v":0},{"$f":"Picture!AU232","v":0},{"$f":"Picture!AV232","v":0},{"$f":"Picture!AW232","v":0},{"$f":"Picture!AX232","v":0},{"$f":"Picture!AY232","v":0},{"$f":"Picture!AZ232","v":0}]
[{"$f":"Picture!A233","v":0},{"$f":"Picture!B233","v":0},{"$f":"Picture!C233","v":0},{"$f":"Picture!D233","v":0},{"$f":"Picture!E233","v":0},{"$f":"Picture!F233","v":0},{"$f":"Picture!G233","v":0},{"$f":"Picture!H233","v":0},{"$f":"Picture!I233","v":0},{"$f":"Picture!J233","v":0},{"$f":"Picture!K233","v":0},{"$f":"Picture!L233","v":0},{"$f":"Picture!M233","v":0},{"$f":"Picture!N233","v":0},{"$f":"Picture!O233","v":0},{"$f":"Picture!P233","v":0},{"$f":"Picture!Q233","v":0},{"$f":"Picture!R233","v":0},{"$f":"Picture!S233","v":0},{"$f":"Picture!T233","v":0},{"$f":"Picture!U233","v":0},{"$f":"Picture!V233","v":0},{"$f":"Picture!W233","v":0},{"$f":"Picture!X233","v":0},{"$f":"Picture!Y233","v":0},{"$f":"Picture!Z233","v":0},{"$f":"Picture!AA233","v":0},{"$f":"Picture!AB233","v":0},{"$f":"Picture!AC233","v":0},{"$f":"Picture!AD233","v":0},{"$f":"Picture!AE233","v":0},{"$f":"Picture!AF233","v":0},{"$f":"Picture!AG233","v":0},{"$f":"Picture!AH233","v":0},{"$f":"Picture!AI233","v":0},{"$f":"Picture!AJ233","v":0},{"$f":"Picture!AK233","v":0},{"$f":"Picture!AL233","v":0},{"$f":"Picture!AM233","v":0},{"$f":"Picture!AN233","v":0},{"$f":"Picture!AO233","v":0},{"$f":"Picture!AP233","v":0},{"$f":"Picture!AQ233","v":0},{"$f":"Picture!AR233","v":0},{"$f":"Picture!AS233","v":0},{"$f":"Picture!AT233","v":0},{"$f":"Picture!AU233","v":0},{"$f":"Picture!AV233","v":0},{"$f":"Picture!AW233","v":0},{"$f":"Picture!AX233","v":0},{"$f":"Picture!AY233","v":0},{"$f":"Picture!AZ233","v":0}]
[{"$f":"Picture!A234","v":0},{"$f":"Picture!B234","v":0},{"$f":"Picture!C234","v":0},{"$f":"Picture!D234","v":0},{"$f":"Picture!E234","v":0},{"$f":"Picture!F234","v":0},{"$f":"Picture!G234","v":0},{"$f":"Picture!H234","v":0},{"$f":"Picture!I234","v":0},{"$f":"Picture!J234","v":0},{"$f":"Picture!K234","v":0},{"$f":"Picture!L234","v":0},{"$f":"Picture!M234","v":0},{"$f":"Picture!N234","v":0},{"$f":"Picture!O234","v":0},{"$f":"Picture!P234","v":0},{"$f":"Picture!Q234","v":0},{"$f":"Picture!R234","v":0},{"$f":"Picture!S234","v":0},{"$f":"Picture!T234","v":0},{"$f":"Picture!U234","v":0},{"$f":"Picture!V234","v":0},{"$f":"Picture!W234","v":0},{"$f":"Picture!X234","v":0},{"$f":"Picture!Y234","v":0},{"$f":"Picture!Z234","v":0},{"$f":"Picture!AA234","v":0},{"$f":"Picture!AB234","v":0},{"$f":"Picture!AC234","v":0},{"$f":"Picture!AD234","v":0},{"$f":"Picture!AE234","v":0},{"$f":"Picture!AF234","v":0},{"$f":"Picture!AG234","v":0},{"$f":"Picture!AH234","v":0},{"$f":"Picture!AI234","v":0},{"$f":"Picture!AJ234","v":0},{"$f":"Picture!AK234","v":0},{"$f":"Picture!AL234","v":0},{"$f":"Picture!AM234","v":0},{"$f":"Picture!AN234","v":0},{"$f":"Picture!AO234","v":0},{"$f":"Picture!AP234","v":0},{"$f":"Picture!AQ234","v":0},{"$f":"Picture!AR234","v":0},{"$f":"Picture!AS234","v":0},{"$f":"Picture!AT234","v":0},{"$f":"Picture!AU234","v":0},{"$f":"Picture!AV234","v":0},{"$f":"Picture!AW234","v":0},{"$f":"Picture!AX234","v":0},{"$f":"Picture!AY234","v":0},{"$f":"Picture!AZ234","v":0}]
[{"$f":"Picture!A235","v":0},{"$f":"Picture!B235","v":0},{"$f":"Picture!C235","v":0},{"$f":"Picture!D235","v":0},{"$f":"Picture!E235","v":0},{"$f":"Picture!F235","v":0},{"$f":"Picture!G235","v":0},{"$f":"Picture!H235","v":0},{"$f":"Picture!I235","v":0},{"$f":"Picture!J235","v":0},{"$f":"Picture!K235","v":0},{"$f":"Picture!L235","v":0},{"$f":"Picture!M235","v":0},{"$f":"Picture!N235","v":0},{"$f":"Picture!O235","v":0},{"$f":"Picture!P235","v":0},{"$f":"Picture!Q235","v":0},{"$f":"Picture!R235","v":0},{"$f":"Picture!S235","v":0},{"$f":"Picture!T235","v":0},{"$f":"Picture!U235","v":0},{"$f":"Picture!V235","v":0},{"$f":"Picture!W235","v":0},{"$f":"Picture!X235","v":0},{"$f":"Picture!Y235","v":0},{"$f":"Picture!Z235","v":0},{"$f":"Picture!AA235","v":0},{"$f":"Picture!AB235","v":0},{"$f":"Picture!AC235","v":0},{"$f":"Picture!AD235","v":0},{"$f":"Picture!AE235","v":0},{"$f":"Picture!AF235","v":0},{"$f":"Picture!AG235","v":0},{"$f":"Picture!AH235","v":0},{"$f":"Picture!AI235","v":0},{"$f":"Picture!AJ235","v":0},{"$f":"Picture!AK235","v":0},{"$f":"Picture!AL235","v":0},{"$f":"Picture!AM235","v":0},{"$f":"Picture!AN235","v":0},{"$f":"Picture!AO235","v":0},{"$f":"Picture!AP235","v":0},{"$f":"Picture!AQ235","v":0},{"$f":"Picture!AR235","v":0},{"$f":"Picture!AS235","v":0},{"$f":"Picture!AT235","v":0},{"$f":"Picture!AU235","v":0},{"$f":"Picture!AV235","v":0},{"$f":"Picture!AW235","v":0},{"$f":"Picture!AX235","v":0},{"$f":"Picture!AY235","v":0},{"$f":"Picture!AZ235","v":0}]
[{"$f":"Picture!A236","v":0},{"$f":"Picture!B236","v":0},{"$f":"Picture!C236","v":0},{"$f":"Picture!D236","v":0},{"$f":"Picture!E236","v":0},{"$f":"Picture!F236","v":0},{"$f":"Picture!G236","v":0},{"$f":"Picture!H236","v":0},{"$f":"Picture!I236","v":0},{"$f":"Picture!J236","v":0},{"$f":"Picture!K236","v":0},{"$f":"Picture!L236","v":0},{"$f":"Picture!M236","v":0},{"$f":"Picture!N236","v":0},{"$f":"Picture!O236","v":0},{"$f":"Picture!P236","v":0},{"$f":"Picture!Q236","v":0},{"$f":"Picture!R236","v":0},{"$f":"Picture!S236","v":0},{"$f":"Picture!T236","v":0},{"$f":"Picture!U236","v":0},{"$f":"Picture!V236","v":0},{"$f":"Picture!W236","v":0},{"$f":"Picture!X236","v":0},{"$f":"Picture!Y236","v":0},{"$f":"Picture!Z236","v":0},{"$f":"Picture!AA236","v":0},{"$f":"Picture!AB236","v":0},{"$f":"Picture!AC236","v":0},{"$f":"Picture!AD236","v":0},{"$f":"Picture!AE236","v":0},{"$f":"Picture!AF236","v":0},{"$f":"Picture!AG236","v":0},{"$f":"Picture!AH236","v":0},{"$f":"Picture!AI236","v":0},{"$f":"Picture!AJ236","v":0},{"$f":"Picture!AK236","v":0},{"$f":"Picture!AL236","v":0},{"$f":"Picture!AM236","v":0},{"$f":"Picture!AN236","v":0},{"$f":"Picture!AO236","v":0},{"$f":"Picture!AP236","v":0},{"$f":"Picture!AQ236","v":0},{"$f":"Picture!AR236","v":0},{"$f":"Picture!AS236","v":0},{"$f":"Picture!AT236","v":0},{"$f":"Picture!AU236","v":0},{"$f":"Picture!AV236","v":0},{"$f":"Picture!AW236","v":0},{"$f":"Picture!AX236","v":0},{"$f":"Picture!AY236","v":0},{"$f":"Picture!AZ236","v":0}]
[{"$f":"Picture!A237","v":0},{"$f":"Picture!B237","v":0},{"$f":"Picture!C237","v":0},{"$f":"Picture!D237","v":0},{"$f":"Picture!E237","v":0},{"$f":"Picture!F237","v":0},{"$f":"Picture!G237","v":0},{"$f":"Picture!H237","v":0},{"$f":"Picture!I237","v":0},{"$f":"Picture!J237","v":0},{"$f":"Picture!K237","v":0},{"$f":"Picture!L237","v":0},{"$f":"Picture!M237","v":0},{"$f":"Picture!N237","v":0},{"$f":"Picture!O237","v":0},{"$f":"Picture!P237","v":0},{"$f":"Picture!Q237","v":0},{"$f":"Picture!R237","v":0},{"$f":"Picture!S237","v":0},{"$f":"Picture!T237","v":0},{"$f":"Picture!U237","v":0},{"$f":"Picture!V237","v":0},{"$f":"Picture!W237","v":0},{"$f":"Picture!X237","v":0},{"$f":"Picture!Y237","v":0},{"$f":"Picture!Z237","v":0},{"$f":"Picture!AA237","v":0},{"$f":"Picture!AB237","v":0},{"$f":"Picture!AC237","v":0},{"$f":"Picture!AD237","v":0},{"$f":"Picture!AE237","v":0},{"$f":"Picture!AF237","v":0},{"$f":"Picture!AG237","v":0},{"$f":"Picture!AH237","v":0},{"$f":"Picture!AI237","v":0},{"$f":"Picture!AJ237","v":0},{"$f":"Picture!AK237","v":0},{"$f":"Picture!AL237","v":0},{"$f":"Picture!AM237","v":0},{"$f":"Picture!AN237","v":0},{"$f":"Picture!AO237","v":0},{"$f":"Picture!AP237","v":0},{"$f":"Picture!AQ237","v":0},{"$f":"Picture!AR237","v":0},{"$f":"Picture!AS237","v":0},{"$f":"Picture!AT237","v":0},{"$f":"Picture!AU237","v":0},{"$f":"Picture!AV237","v":0},{"$f":"Picture!AW237","v":0},{"$f":"Picture!AX237","v":0},{"$f":"Picture!AY237","v":0},{"$f":"Picture!AZ237","v":0}]
[{"$f":"Picture!A238","v":0},{"$f":"Picture!B238","v":0},{"$f":"Picture!C238","v":0},{"$f":"Picture!D238","v":0},{"$f":"Picture!E238","v":0},{"$f":"Picture!F238","v":0},{"$f":"Picture!G238","v":0},{"$f":"Picture!H238","v":0},{"$f":"Picture!I238","v":0},{"$f":"Picture!J238","v":0},{"$f":"Picture!K238","v":0},{"$f":"Picture!L238","v":0},{"$f":"Picture!M238","v":0},{"$f":"Picture!N238","v":0},{"$f":"Picture!O238","v":0},{"$f":"Picture!P238","v":0},{"$f":"Picture!Q238","v":0},{"$f":"Picture!R238","v":0},{"$f":"Picture!S238","v":0},{"$f":"Picture!T238","v":0},{"$f":"Picture!U238","v":0},{"$f":"Picture!V238","v":0},{"$f":"Picture!W238","v":0},{"$f":"Picture!X238","v":0},{"$f":"Picture!Y238","v":0},{"$f":"Picture!Z238","v":0},{"$f":"Picture!AA238","v":0},{"$f":"Picture!AB238","v":0},{"$f":"Picture!AC238","v":0},{"$f":"Picture!AD238","v":0},{"$f":"Picture!AE238","v":0},{"$f":"Picture!AF238","v":0},{"$f":"Picture!AG238","v":0},{"$f":"Picture!AH238","v":0},{"$f":"Picture!AI238","v":0},{"$f":"Picture!AJ238","v":0},{"$f":"Picture!AK238","v":0},{"$f":"Picture!AL238","v":0},{"$f":"Picture!AM238","v":0},{"$f":"Picture!AN238","v":0},{"$f":"Picture!AO238","v":0},{"$f":"Picture!AP238","v":0},{"$f":"Picture!AQ238","v":0},{"$f":"Picture!AR238","v":0},{"$f":"Picture!AS238","v":0},{"$f":"Picture!AT238","v":0},{"$f":"Picture!AU238","v":0},{"$f":"Picture!AV238","v":0},{"$f":"Picture!AW238","v":0},{"$f":"Picture!AX238","v":0},{"$f":"Picture!AY238","v":0},{"$f":"Picture!AZ238","v":0}]
[{"$f":"Picture!A239","v":0},{"$f":"Picture!B239","v":0},{"$f":"Picture!C239","v":0},{"$f":"Picture!D239","v":0},{"$f":"Picture!E239","v":0},{"$f":"Picture!F239","v":0},{"$f":"Picture!G239","v":0},{"$f":"Picture!H239","v":0},{"$f":"Picture!I239","v":0},{"$f":"Picture!J239","v":0},{"$f":"Picture!K239","v":0},{"$f":"Picture!L239","v":0},{"$f":"Picture!M239","v":0},{"$f":"Picture!N239","v":0},{"$f":"Picture!O239","v":0},{"$f":"Picture!P239","v":0},{"$f":"Picture!Q239","v":0},{"$f":"Picture!R239","v":0},{"$f":"Picture!S239","v":0},{"$f":"Picture!T239","v":0},{"$f":"Picture!U239","v":0},{"$f":"Picture!V239","v":0},{"$f":"Picture!W239","v":0},{"$f":"Picture!X239","v":0},{"$f":"Picture!Y239","v":0},{"$f":"Picture!Z239","v":0},{"$f":"Picture!AA239","v":0},{"$f":"Picture!AB239","v":0},{"$f":"Picture!AC239","v":0},{"$f":"Picture!AD239","v":0},{"$f":"Picture!AE239","v":0},{"$f":"Picture!AF239","v":0},{"$f":"Picture!AG239","v":0},{"$f":"Picture!AH239","v":0},{"$f":"Picture!AI239","v":0},{"$f":"Picture!AJ239","v":0},{"$f":"Picture!AK239","v":0},{"$f":"Picture!AL239","v":0},{"$f":"Picture!AM239","v":0},{"$f":"Picture!AN239","v":0},{"$f":"Picture!AO239","v":0},{"$f":"Picture!AP239","v":0},{"$f":"Picture!AQ239","v":0},{"$f":"Picture!AR239","v":0},{"$f":"Picture!AS239","v":0},{"$f":"Picture!AT239","v":0},{"$f":"Picture!AU239","v":0},{"$f":"Picture!AV239","v":0},{"$f":"Picture!AW239","v":0},{"$f":"Picture!AX239","v":0},{"$f":"Picture!AY239","v":0},{"$f":"Picture!AZ239","v":0}]
[{"$f":"Picture!A240","v":0},{"$f":"Picture!B240","v":0},{"$f":"Picture!C240","v":0},{"$f":"Picture!D240","v":0},{"$f":"Picture!E240","v":0},{"$f":"Picture!F240","v":0},{"$f":"Picture!G240","v":0},{"$f":"Picture!H240","v":0},{"$f":"Picture!I240","v":0},{"$f":"Picture!J240","v":0},{"$f":"Picture!K240","v":0},{"$f":"Picture!L240","v":0},{"$f":"Picture!M240","v":0},{"$f":"Picture!N240","v":0},{"$f":"Picture!O240","v":0},{"$f":"Picture!P240","v":0},{"$f":"Picture!Q240","v":0},{"$f":"Picture!R240","v":0},{"$f":"Picture!S240","v":0},{"$f":"Picture!T240","v":0},{"$f":"Picture!U240","v":0},{"$f":"Picture!V240","v":0},{"$f":"Picture!W240","v":0},{"$f":"Picture!X240","v":0},{"$f":"Picture!Y240","v":0},{"$f":"Picture!Z240","v":0},{"$f":"Picture!AA240","v":0},{"$f":"Picture!AB240","v":0},{"$f":"Picture!AC240","v":0},{"$f":"Picture!AD240","v":0},{"$f":"Picture!AE240","v":0},{"$f":"Picture!AF240","v":0},{"$f":"Picture!AG240","v":0},{"$f":"Picture!AH240","v":0},{"$f":"Picture!AI240","v":0},{"$f":"Picture!AJ240","v":0},{"$f":"Picture!AK240","v":0},{"$f":"Picture!AL240","v":0},{"$f":"Picture!AM240","v":0},{"$f":"Picture!AN240","v":0},{"$f":"Picture!AO240","v":0},{"$f":"Picture!AP240","v":0},{"$f":"Picture!AQ240","v":0},{"$f":"Picture!AR240","v":0},{"$f":"Picture!AS240","v":0},{"$f":"Picture!AT240","v":0},{"$f":"Picture!AU240","v":0},{"$f":"Picture!AV240","v":0},{"$f":"Picture!AW240","v":0},{"$f":"Picture!AX240","v":0},{"$f":"Picture!AY240","v":0},{"$f":"Picture!AZ240","v":0}]
[{"$f":"Picture!A241","v":0},{"$f":"Picture!B241","v":0},{"$f":"Picture!C241","v":0},{"$f":"Picture!D241","v":0},{"$f":"Picture!E241","v":0},{"$f":"Picture!F241","v":0},{"$f":"Picture!G241","v":0},{"$f":"Picture!H241","v":0},{"$f":"Picture!I241","v":0},{"$f":"Picture!J241","v":0},{"$f":"Picture!K241","v":0},{"$f":"Picture!L241","v":0},{"$f":"Picture!M241","v":0},{"$f":"Picture!N241","v":0},{"$f":"Picture!O241","v":0},{"$f":"Picture!P241","v":0},{"$f":"Picture!Q241","v":0},{"$f":"Picture!R241","v":0},{"$f":"Picture!S241","v":0},{"$f":"Picture!T241","v":0},{"$f":"Picture!U241","v":0},{"$f":"Picture!V241","v":0},{"$f":"Picture!W241","v":0},{"$f":"Picture!X241","v":0},{"$f":"Picture!Y241","v":0},{"$f":"Picture!Z241","v":0},{"$f":"Picture!AA241","v":0},{"$f":"Picture!AB241","v":0},{"$f":"Picture!AC241","v":0},{"$f":"Picture!AD241","v":0},{"$f":"Picture!AE241","v":0},{"$f":"Picture!AF241","v":0},{"$f":"Picture!AG241","v":0},{"$f":"Picture!AH241","v":0},{"$f":"Picture!AI241","v":0},{"$f":"Picture!AJ241","v":0},{"$f":"Picture!AK241","v":0},{"$f":"Picture!AL241","v":0},{"$f":"Picture!AM241","v":0},{"$f":"Picture!AN241","v":0},{"$f":"Picture!AO241","v":0},{"$f":"Picture!AP241","v":0},{"$f":"Picture!AQ241","v":0},{"$f":"Picture!AR241","v":0},{"$f":"Picture!AS241","v":0},{"$f":"Picture!AT241","v":0},{"$f":"Picture!AU241","v":0},{"$f":"Picture!AV241","v":0},{"$f":"Picture!AW241","v":0},{"$f":"Picture!AX241","v":0},{"$f":"Picture!AY241","v":0},{"$f":"Picture!AZ241","v":0}]
[{"$f":"Picture!A242","v":0},{"$f":"Picture!B242","v":0},{"$f":"Picture!C242","v":0},{"$f":"Picture!D242","v":0},{"$f":"Picture!E242","v":0},{"$f":"Picture!F242","v":0},{"$f":"Picture!G242","v":0},{"$f":"Picture!H242","v":0},{"$f":"Picture!I242","v":0},{"$f":"Picture!J242","v":0},{"$f":"Picture!K242","v":0},{"$f":"Picture!L242","v":0},{"$f":"Picture!M242","v":0},{"$f":"Picture!N242","v":0},{"$f":"Picture!O242","v":0},{"$f":"Picture!P242","v":0},{"$f":"Picture!Q242","v":0},{"$f":"Picture!R242","v":0},{"$f":"Picture!S242","v":0},{"$f":"Picture!T242","v":0},{"$f":"Picture!U242","v":0},{"$f":"Picture!V242","v":0},{"$f":"Picture!W242","v":0},{"$f":"Picture!X242","v":0},{"$f":"Picture!Y242","v":0},{"$f":"Picture!Z242","v":0},{"$f":"Picture!AA242","v":0},{"$f":"Picture!AB242","v":0},{"$f":"Picture!AC242","v":0},{"$f":"Picture!AD242","v":0},{"$f":"Picture!AE242","v":0},{"$f":"Picture!AF242","v":0},{"$f":"Picture!AG242","v":0},{"$f":"Picture!AH242","v":0},{"$f":"Picture!AI242","v":0},{"$f":"Picture!AJ242","v":0},{"$f":"Picture!AK242","v":0},{"$f":"Picture!AL242","v":0},{"$f":"Picture!AM242","v":0},{"$f":"Picture!AN242","v":0},{"$f":"Picture!AO242","v":0},{"$f":"Picture!AP242","v":0},{"$f":"Picture!AQ242","v":0},{"$f":"Picture!AR242","v":0},{"$f":"Picture!AS242","v":0},{"$f":"Picture!AT242","v":0},{"$f":"Picture!AU242","v":0},{"$f":"Picture!AV242","v":0},{"$f":"Picture!AW242","v":0},{"$f":"Picture!AX242","v":0},{"$f":"Picture!AY242","v":0},{"$f":"Picture!AZ242","v":0}]
[{"$f":"Picture!A243","v":0},{"$f":"Picture!B243","v":0},{"$f":"Picture!C243","v":0},{"$f":"Picture!D243","v":0},{"$f":"Picture!E243","v":0},{"$f":"Picture!F243","v":0},{"$f":"Picture!G243","v":0},{"$f":"Picture!H243","v":0},{"$f":"Picture!I243","v":0},{"$f":"Picture!J243","v":0},{"$f":"Picture!K243","v":0},{"$f":"Picture!L243","v":0},{"$f":"Picture!M243","v":0},{"$f":"Picture!N243","v":0},{"$f":"Picture!O243","v":0},{"$f":"Picture!P243","v":0},{"$f":"Picture!Q243","v":0},{"$f":"Picture!R243","v":0},{"$f":"Picture!S243","v":0},{"$f":"Picture!T243","v":0},{"$f":"Picture!U243","v":0},{"$f":"Picture!V243","v":0},{"$f":"Picture!W243","v":0},{"$f":"Picture!X243","v":0},{"$f":"Picture!Y243","v":0},{"$f":"Picture!Z243","v":0},{"$f":"Picture!AA243","v":0},{"$f":"Picture!AB243","v":0},{"$f":"Picture!AC243","v":0},{"$f":"Picture!AD243","v":0},{"$f":"Picture!AE243","v":0},{"$f":"Picture!AF243","v":0},{"$f":"Picture!AG243","v":0},{"$f":"Picture!AH243","v":0},{"$f":"Picture!AI243","v":0},{"$f":"Picture!AJ243","v":0},{"$f":"Picture!AK243","v":0},{"$f":"Picture!AL243","v":0},{"$f":"Picture!AM243","v":0},{"$f":"Picture!AN243","v":0},{"$f":"Picture!AO243","v":0},{"$f":"Picture!AP243","v":0},{"$f":"Picture!AQ243","v":0},{"$f":"Picture!AR243","v":0},{"$f":"Picture!AS243","v":0},{"$f":"Picture!AT243","v":0},{"$f":"Picture!AU243","v":0},{"$f":"Picture!AV243","v":0},{"$f":"Picture!AW243","v":0},{"$f":"Picture!AX243","v":0},{"$f":"Picture!AY243","v":0},{"$f":"Picture!AZ243","v":0}]
[{"$f":"Picture!A244","v":0},{"$f":"Picture!B244","v":0},{"$f":"Picture!C244","v":0},{"$f":"Picture!D244","v":0},{"$f":"Picture!E244","v":0},{"$f":"Picture!F244","v":0},{"$f":"Picture!G244","v":0},{"$f":"Picture!H244","v":0},{"$f":"Picture!I244","v":0},{"$f":"Picture!J244","v":0},{"$f":"Picture!K244","v":0},{"$f":"Picture!L244","v":0},{"$f":"Picture!M244","v":0},{"$f":"Picture!N244","v":0},{"$f":"Picture!O244","v":0},{"$f":"Picture!P244","v":0},{"$f":"Picture!Q244","v":0},{"$f":"Picture!R244","v":0},{"$f":"Picture!S244","v":0},{"$f":"Picture!T244","v":0},{"$f":"Picture!U244","v":0},{"$f":"Picture!V244","v":0},{"$f":"Picture!W244","v":0},{"$f":"Picture!X244","v":0},{"$f":"Picture!Y244","v":0},{"$f":"Picture!Z244","v":0},{"$f":"Picture!AA244","v":0},{"$f":"Picture!AB244","v":0},{"$f":"Picture!AC244","v":0},{"$f":"Picture!AD244","v":0},{"$f":"Picture!AE244","v":0},{"$f":"Picture!AF244","v":0},{"$f":"Picture!AG244","v":0},{"$f":"Picture!AH244","v":0},{"$f":"Picture!AI244","v":0},{"$f":"Picture!AJ244","v":0},{"$f":"Picture!AK244","v":0},{"$f":"Picture!AL244","v":0},{"$f":"Picture!AM244","v":0},{"$f":"Picture!AN244","v":0},{"$f":"Picture!AO244","v":0},{"$f":"Picture!AP244","v":0},{"$f":"Picture!AQ244","v":0},{"$f":"Picture!AR244","v":0},{"$f":"Picture!AS244","v":0},{"$f":"Picture!AT244","v":0},{"$f":"Picture!AU244","v":0},{"$f":"Picture!AV244","v":0},{"$f":"Picture!AW244","v":0},{"$f":"Picture!AX244","v":0},{"$f":"Picture!AY244","v":0},{"$f":"Picture!AZ244","v":0}]
[{"$f":"Picture!A245","v":0},{"$f":"Picture!B245","v":0},{"$f":"Picture!C245","v":0},{"$f":"Picture!D245","v":0},{"$f":"Picture!E245","v":0},{"$f":"Picture!F245","v":0},{"$f":"Picture!G245","v":0},{"$f":"Picture!H245","v":0},{"$f":"Picture!I245","v":0},{"$f":"Picture!J245","v":0},{"$f":"Picture!K245","v":0},{"$f":"Picture!L245","v":0},{"$f":"Picture!M245","v":0},{"$f":"Picture!N245","v":0},{"$f":"Picture!O245","v":0},{"$f":"Picture!P245","v":0},{"$f":"Picture!Q245","v":0},{"$f":"Picture!R245","v":0},{"$f":"Picture!S245","v":0},{"$f":"Picture!T245","v":0},{"$f":"Picture!U245","v":0},{"$f":"Picture!V245","v":0},{"$f":"Picture!W245","v":0},{"$f":"Picture!X245","v":0},{"$f":"Picture!Y245","v":0},{"$f":"Picture!Z245","v":0},{"$f":"Picture!AA245","v":0},{"$f":"Picture!AB245","v":0},{"$f":"Picture!AC245","v":0},{"$f":"Picture!AD245","v":0},{"$f":"Picture!AE245","v":0},{"$f":"Picture!AF245","v":0},{"$f":"Picture!AG245","v":0},{"$f":"Picture!AH245","v":0},{"$f":"Picture!AI245","v":0},{"$f":"Picture!AJ245","v":0},{"$f":"Picture!AK245","v":0},{"$f":"Picture!AL245","v":0},{"$f":"Picture!AM245","v":0},{"$f":"Picture!AN245","v":0},{"$f":"Picture!AO245","v":0},{"$f":"Picture!AP245","v":0},{"$f":"Picture!AQ245","v":0},{"$f":"Picture!AR245","v":0},{"$f":"Picture!AS245","v":0},{"$f":"Picture!AT245","v":0},{"$f":"Picture!AU245","v":0},{"$f":"Picture!AV245","v":0},{"$f":"Picture!AW245","v":0},{"$f":"Picture!AX245","v":0},{"$f":"Picture!AY245","v":0},{"$f":"Picture!AZ245","v":0}]
[{"$f":"Picture!A246","v":0},{"$f":"Picture!B246","v":0},{"$f":"Picture!C246","v":0},{"$f":"Picture!D246","v":0},{"$f":"Picture!E246","v":0},{"$f":"Picture!F246","v":0},{"$f":"Picture!G246","v":0},{"$f":"Picture!H246","v":0},{"$f":"Picture!I246","v":0},{"$f":"Picture!J246","v":0},{"$f":"Picture!K246","v":0},{"$f":"Picture!L246","v":0},{"$f":"Picture!M246","v":0},{"$f":"Picture!N246","v":0},{"$f":"Picture!O246","v":0},{"$f":"Picture!P246","v":0},{"$f":"Picture!Q246","v":0},{"$f":"Picture!R246","v":0},{"$f":"Picture!S246","v":0},{"$f":"Picture!T246","v":0},{"$f":"Picture!U246","v":0},{"$f":"Picture!V246","v":0},{"$f":"Picture!W246","v":0},{"$f":"Picture!X246","v":0},{"$f":"Picture!Y246","v":0},{"$f":"Picture!Z246","v":0},{"$f":"Picture!AA246","v":0},{"$f":"Picture!AB246","v":0},{"$f":"Picture!AC246","v":0},{"$f":"Picture!AD246","v":0},{"$f":"Picture!AE246","v":0},{"$f":"Picture!AF246","v":0},{"$f":"Picture!AG246","v":0},{"$f":"Picture!AH246","v":0},{"$f":"Picture!AI246","v":0},{"$f":"Picture!AJ246","v":0},{"$f":"Picture!AK246","v":0},{"$f":"Picture!AL246","v":0},{"$f":"Picture!AM246","v":0},{"$f":"Picture!AN246","v":0},{"$f":"Picture!AO246","v":0},{"$f":"Picture!AP246","v":0},{"$f":"Picture!AQ246","v":0},{"$f":"Picture!AR246","v":0},{"$f":"Picture!AS246","v":0},{"$f":"Picture!AT246","v":0},{"$f":"Picture!AU246","v":0},{"$f":"Picture!AV246","v":0},{"$f":"Picture!AW246","v":0},{"$f":"Picture!AX246","v":0},{"$f":"Picture!AY246","v":0},{"$f":"Picture!AZ246","v":0}]
[{"$f":"Picture!A247","v":0},{"$f":"Picture!B247","v":0},{"$f":"Picture!C247","v":0},{"$f":"Picture!D247","v":0},{"$f":"Picture!E247","v":0},{"$f":"Picture!F247","v":0},{"$f":"Picture!G247","v":0},{"$f":"Picture!H247","v":0},{"$f":"Picture!I247","v":0},{"$f":"Picture!J247","v":0},{"$f":"Picture!K247","v":0},{"$f":"Picture!L247","v":0},{"$f":"Picture!M247","v":0},{"$f":"Picture!N247","v":0},{"$f":"Picture!O247","v":0},{"$f":"Picture!P247","v":0},{"$f":"Picture!Q247","v":0},{"$f":"Picture!R247","v":0},{"$f":"Picture!S247","v":0},{"$f":"Picture!T247","v":0},{"$f":"Picture!U247","v":0},{"$f":"Picture!V247","v":0},{"$f":"Picture!W247","v":0},{"$f":"Picture!X247","v":0},{"$f":"Picture!Y247","v":0},{"$f":"Picture!Z247","v":0},{"$f":"Picture!AA247","v":0},{"$f":"Picture!AB247","v":0},{"$f":"Picture!AC247","v":0},{"$f":"Picture!AD247","v":0},{"$f":"Picture!AE247","v":0},{"$f":"Picture!AF247","v":0},{"$f":"Picture!AG247","v":0},{"$f":"Picture!AH247","v":0},{"$f":"Picture!AI247","v":0},{"$f":"Picture!AJ247","v":0},{"$f":"Picture!AK247","v":0},{"$f":"Picture!AL247","v":0},{"$f":"Picture!AM247","v":0},{"$f":"Picture!AN247","v":0},{"$f":"Picture!AO247","v":0},{"$f":"Picture!AP247","v":0},{"$f":"Picture!AQ247","v":0},{"$f":"Picture!AR247","v":0},{"$f":"Picture!AS247","v":0},{"$f":"Picture!AT247","v":0},{"$f":"Picture!AU247","v":0},{"$f":"Picture!AV247","v":0},{"$f":"Picture!AW247","v":0},{"$f":"Picture!AX247","v":0},{"$f":"Picture!AY247","v":0},{"$f":"Picture!AZ247","v":0}]
[{"$f":"Picture!A248","v":0},{"$f":"Picture!B248","v":0},{"$f":"Picture!C248","v":0},{"$f":"Picture!D248","v":0},{"$f":"Picture!E248","v":0},{"$f":"Picture!F248","v":0},{"$f":"Picture!G248","v":0},{"$f":"Picture!H248","v":0},{"$f":"Picture!I248","v":0},{"$f":"Picture!J248","v":0},{"$f":"Picture!K248","v":0},{"$f":"Picture!L248","v":0},{"$f":"Picture!M248","v":0},{"$f":"Picture!N248","v":0},{"$f":"Picture!O248","v":0},{"$f":"Picture!P248","v":0},{"$f":"Picture!Q248","v":0},{"$f":"Picture!R248","v":0},{"$f":"Picture!S248","v":0},{"$f":"Picture!T248","v":0},{"$f":"Picture!U248","v":0},{"$f":"Picture!V248","v":0},{"$f":"Picture!W248","v":0},{"$f":"Picture!X248","v":0},{"$f":"Picture!Y248","v":0},{"$f":"Picture!Z248","v":0},{"$f":"Picture!AA248","v":0},{"$f":"Picture!AB248","v":0},{"$f":"Picture!AC248","v":0},{"$f":"Picture!AD248","v":0},{"$f":"Picture!AE248","v":0},{"$f":"Picture!AF248","v":0},{"$f":"Picture!AG248","v":0},{"$f":"Picture!AH248","v":0},{"$f":"Picture!AI248","v":0},{"$f":"Picture!AJ248","v":0},{"$f":"Picture!AK248","v":0},{"$f":"Picture!AL248","v":0},{"$f":"Picture!AM248","v":0},{"$f":"Picture!AN248","v":0},{"$f":"Picture!AO248","v":0},{"$f":"Picture!AP248","v":0},{"$f":"Picture!AQ248","v":0},{"$f":"Picture!AR248","v":0},{"$f":"Picture!AS248","v":0},{"$f":"Picture!AT248","v":0},{"$f":"Picture!AU248","v":0},{"$f":"Picture!AV248","v":0},{"$f":"Picture!AW248","v":0},{"$f":"Picture!AX248","v":0},{"$f":"Picture!AY248","v":0},{"$f":"Picture!AZ248","v":0}]
[{"$f":"Picture!A249","v":0},{"$f":"Picture!B249","v":0},{"$f":"Picture!C249","v":0},{"$f":"Picture!D249","v":0},{"$f":"Picture!E249","v":0},{"$f":"Picture!F249","v":0},{"$f":"Picture!G249","v":0},{"$f":"Picture!H249","v":0},{"$f":"Picture!I249","v":0},{"$f":"Picture!J249","v":0},{"$f":"Picture!K249","v":0},{"$f":"Picture!L249","v":0},{"$f":"Picture!M249","v":0},{"$f":"Picture!N249","v":0},{"$f":"Picture!O249","v":0},{"$f":"Picture!P249","v":0},{"$f":"Picture!Q249","v":0},{"$f":"Picture!R249","v":0},{"$f":"Picture!S249","v":0},{"$f":"Picture!T249","v":0},{"$f":"Picture!U249","v":0},{"$f":"Picture!V249","v":0},{"$f":"Picture!W249","v":0},{"$f":"Picture!X249","v":0},{"$f":"Picture!Y249","v":0},{"$f":"Picture!Z249","v":0},{"$f":"Picture!AA249","v":0},{"$f":"Picture!AB249","v":0},{"$f":"Picture!AC249","v":0},{"$f":"Picture!AD249","v":0},{"$f":"Picture!AE249","v":0},{"$f":"Picture!AF249","v":0},{"$f":"Picture!AG249","v":0},{"$f":"Picture!AH249","v":0},{"$f":"Picture!AI249","v":0},{"$f":"Picture!AJ249","v":0},{"$f":"Picture!AK249","v":0},{"$f":"Picture!AL249","v":0},{"$f":"Picture!AM249","v":0},{"$f":"Picture!AN249","v":0},{"$f":"Picture!AO249","v":0},{"$f":"Picture!AP249","v":0},{"$f":"Picture!AQ249","v":0},{"$f":"Picture!AR249","v":0},{"$f":"Picture!AS249","v":0},{"$f":"Picture!AT249","v":0},{"$f":"Picture!AU249","v":0},{"$f":"Picture!AV249","v":0},{"$f":"Picture!AW249","v":0},{"$f":"Picture!AX249","v":0},{"$f":"Picture!AY249","v":0},{"$f":"Picture!AZ249","v":0}]
[{"$f":"Picture!A250","v":0},{"$f":"Picture!B250","v":0},{"$f":"Picture!C250","v":0},{"$f":"Picture!D250","v":0},{"$f":"Picture!E250","v":0},{"$f":"Picture!F250","v":0},{"$f":"Picture!G250","v":0},{"$f":"Picture!H250","v":0},{"$f":"Picture!I250","v":0},{"$f":"Picture!J250","v":0},{"$f":"Picture!K250","v":0},{"$f":"Picture!L250","v":0},{"$f":"Picture!M250","v":0},{"$f":"Picture!N250","v":0},{"$f":"Picture!O250","v":0},{"$f":"Picture!P250","v":0},{"$f":"Picture!Q250","v":0},{"$f":"Picture!R250","v":0},{"$f":"Picture!S250","v":0},{"$f":"Picture!T250","v":0},{"$f":"Picture!U250","v":0},{"$f":"Picture!V250","v":0},{"$f":"Picture!W250","v":0},{"$f":"Picture!X250","v":0},{"$f":"Picture!Y250","v":0},{"$f":"Picture!Z250","v":0},{"$f":"Picture!AA250","v":0},{"$f":"Picture!AB250","v":0},{"$f":"Picture!AC250","v":0},{"$f":"Picture!AD250","v":0},{"$f":"Picture!AE250","v":0},{"$f":"Picture!AF250","v":0},{"$f":"Picture!AG250","v":0},{"$f":"Picture!AH250","v":0},{"$f":"Picture!AI250","v":0},{"$f":"Picture!AJ250","v":0},{"$f":"Picture!AK250","v":0},{"$f":"Picture!AL250","v":0},{"$f":"Picture!AM250","v":0},{"$f":"Picture!AN250","v":0},{"$f":"Picture!AO250","v":0},{"$f":"Picture!AP250","v":0},{"$f":"Picture!AQ250","v":0},{"$f":"Picture!AR250","v":0},{"$f":"Picture!AS250","v":0},{"$f":"Picture!AT250","v":0},{"$f":"Picture!AU250","v":0},{"$f":"Picture!AV250","v":0},{"$f":"Picture!AW250","v":0},{"$f":"Picture!AX250","v":0},{"$f":"Picture!AY250","v":0},{"$f":"Picture!AZ250","v":0}]
[{"$f":"Picture!A251","v":0},{"$f":"Picture!B251","v":0},{"$f":"Picture!C251","v":0},{"$f":"Picture!D251","v":0},{"$f":"Picture!E251","v":0},{"$f":"Picture!F251","v":0},{"$f":"Picture!G251","v":0},{"$f":"Picture!H251","v":0},{"$f":"Picture!I251","v":0},{"$f":"Picture!J251","v":0},{"$f":"Picture!K251","v":0},{"$f":"Picture!L251","v":0},{"$f":"Picture!M251","v":0},{"$f":"Picture!N251","v":0},{"$f":"Picture!O251","v":0},{"$f":"Picture!P251","v":0},{"$f":"Picture!Q251","v":0},{"$f":"Picture!R251","v":0},{"$f":"Picture!S251","v":0},{"$f":"Picture!T251","v":0},{"$f":"Picture!U251","v":0},{"$f":"Picture!V251","v":0},{"$f":"Picture!W251","v":0},{"$f":"Picture!X251","v":0},{"$f":"Picture!Y251","v":0},{"$f":"Picture!Z251","v":0},{"$f":"Picture!AA251","v":0},{"$f":"Picture!AB251","v":0},{"$f":"Picture!AC251","v":0},{"$f":"Picture!AD251","v":0},{"$f":"Picture!AE251","v":0},{"$f":"Picture!AF251","v":0},{"$f":"Picture!AG251","v":0},{"$f":"Picture!AH251","v":0},{"$f":"Picture!AI251","v":0},{"$f":"Picture!AJ251","v":0},{"$f":"Picture!AK251","v":0},{"$f":"Picture!AL251","v":0},{"$f":"Picture!AM251","v":0},{"$f":"Picture!AN251","v":0},{"$f":"Picture!AO251","v":0},{"$f":"Picture!AP251","v":0},{"$f":"Picture!AQ251","v":0},{"$f":"Picture!AR251","v":0},{"$f":"Picture!AS251","v":0},{"$f":"Picture!AT251","v":0},{"$f":"Picture!AU251","v":0},{"$f":"Picture!AV251","v":0},{"$f":"Picture!AW251","v":0},{"$f":"Picture!AX251","v":0},{"$f":"Picture!AY251","v":0},{"$f":"Picture!AZ251","v":0}]
[{"$f":"Picture!A252","v":0},{"$f":"Picture!B252","v":0},{"$f":"Picture!C252","v":0},{"$f":"Picture!D252","v":0},{"$f":"Picture!E252","v":0},{"$f":"Picture!F252","v":0},{"$f":"Picture!G252","v":0},{"$f":"Picture!H252","v":0},{"$f":"Picture!I252","v":0},{"$f":"Picture!J252","v":0},{"$f":"Picture!K252","v":0},{"$f":"Picture!L252","v":0},{"$f":"Picture!M252","v":0},{"$f":"Picture!N252","v":0},{"$f":"Picture!O252","v":0},{"$f":"Picture!P252","v":0},{"$f":"Picture!Q252","v":0},{"$f":"Picture!R252","v":0},{"$f":"Picture!S252","v":0},{"$f":"Picture!T252","v":0},{"$f":"Picture!U252","v":0},{"$f":"Picture!V252","v":0},{"$f":"Picture!W252","v":0},{"$f":"Picture!X252","v":0},{"$f":"Picture!Y252","v":0},{"$f":"Picture!Z252","v":0},{"$f":"Picture!AA252","v":0},{"$f":"Picture!AB252","v":0},{"$f":"Picture!AC252","v":0},{"$f":"Picture!AD252","v":0},{"$f":"Picture!AE252","v":0},{"$f":"Picture!AF252","v":0},{"$f":"Picture!AG252","v":0},{"$f":"Picture!AH252","v":0},{"$f":"Picture!AI252","v":0},{"$f":"Picture!AJ252","v":0},{"$f":"Picture!AK252","v":0},{"$f":"Picture!AL252","v":0},{"$f":"Picture!AM252","v":0},{"$f":"Picture!AN252","v":0},{"$f":"Picture!AO252","v":0},{"$f":"Picture!AP252","v":0},{"$f":"Picture!AQ252","v":0},{"$f":"Picture!AR252","v":0},{"$f":"Picture!AS252","v":0},{"$f":"Picture!AT252","v":0},{"$f":"Picture!AU252","v":0},{"$f":"Picture!AV252","v":0},{"$f":"Picture!AW252","v":0},{"$f":"Picture!AX252","v":0},{"$f":"Picture!AY252","v":0},{"$f":"Picture!AZ252","v":0}]
[{"$f":"Picture!A253","v":0},{"$f":"Picture!B253","v":0},{"$f":"Picture!C253","v":0},{"$f":"Picture!D253","v":0},{"$f":"Picture!E253","v":0},{"$f":"Picture!F253","v":0},{"$f":"Picture!G253","v":0},{"$f":"Picture!H253","v":0},{"$f":"Picture!I253","v":0},{"$f":"Picture!J253","v":0},{"$f":"Picture!K253","v":0},{"$f":"Picture!L253","v":0},{"$f":"Picture!M253","v":0},{"$f":"Picture!N253","v":0},{"$f":"Picture!O253","v":0},{"$f":"Picture!P253","v":0},{"$f":"Picture!Q253","v":0},{"$f":"Picture!R253","v":0},{"$f":"Picture!S253","v":0},{"$f":"Picture!T253","v":0},{"$f":"Picture!U253","v":0},{"$f":"Picture!V253","v":0},{"$f":"Picture!W253","v":0},{"$f":"Picture!X253","v":0},{"$f":"Picture!Y253","v":0},{"$f":"Picture!Z253","v":0},{"$f":"Picture!AA253","v":0},{"$f":"Picture!AB253","v":0},{"$f":"Picture!AC253","v":0},{"$f":"Picture!AD253","v":0},{"$f":"Picture!AE253","v":0},{"$f":"Picture!AF253","v":0},{"$f":"Picture!AG253","v":0},{"$f":"Picture!AH253","v":0},{"$f":"Picture!AI253","v":0},{"$f":"Picture!AJ253","v":0},{"$f":"Picture!AK253","v":0},{"$f":"Picture!AL253","v":0},{"$f":"Picture!AM253","v":0},{"$f":"Picture!AN253","v":0},{"$f":"Picture!AO253","v":0},{"$f":"Picture!AP253","v":0},{"$f":"Picture!AQ253","v":0},{"$f":"Picture!AR253","v":0},{"$f":"Picture!AS253","v":0},{"$f":"Picture!AT253","v":0},{"$f":"Picture!AU253","v":0},{"$f":"Picture!AV253","v":0},{"$f":"Picture!AW253","v":0},{"$f":"Picture!AX253","v":0},{"$f":"Picture!AY253","v":0},{"$f":"Picture!AZ253","v":0}]
[{"$f":"Picture!A254","v":0},{"$f":"Picture!B254","v":0},{"$f":"Picture!C254","v":0},{"$f":"Picture!D254","v":0},{"$f":"Picture!E254","v":0},{"$f":"Picture!F254","v":0},{"$f":"Picture!G254","v":0},{"$f":"Picture!H254","v":0},{"$f":"Picture!I254","v":0},{"$f":"Picture!J254","v":0},{"$f":"Picture!K254","v":0},{"$f":"Picture!L254","v":0},{"$f":"Picture!M254","v":0},{"$f":"Picture!N254","v":0},{"$f":"Picture!O254","v":0},{"$f":"Picture!P254","v":0},{"$f":"Picture!Q254","v":0},{"$f":"Picture!R254","v":0},{"$f":"Picture!S254","v":0},{"$f":"Picture!T254","v":0},{"$f":"Picture!U254","v":0},{"$f":"Picture!V254","v":0},{"$f":"Picture!W254","v":0},{"$f":"Picture!X254","v":0},{"$f":"Picture!Y254","v":0},{"$f":"Picture!Z254","v":0},{"$f":"Picture!AA254","v":0},{"$f":"Picture!AB254","v":0},{"$f":"Picture!AC254","v":0},{"$f":"Picture!AD254","v":0},{"$f":"Picture!AE254","v":0},{"$f":"Picture!AF254","v":0},{"$f":"Picture!AG254","v":0},{"$f":"Picture!AH254","v":0},{"$f":"Picture!AI254","v":0},{"$f":"Picture!AJ254","v":0},{"$f":"Picture!AK254","v":0},{"$f":"Picture!AL254","v":0},{"$f":"Picture!AM254","v":0},{"$f":"Picture!AN254","v":0},{"$f":"Picture!AO254","v":0},{"$f":"Picture!AP254","v":0},{"$f":"Picture!AQ254","v":0},{"$f":"Picture!AR254","v":0},{"$f":"Picture!AS254","v":0},{"$f":"Picture!AT254","v":0},{"$f":"Picture!AU254","v":0},{"$f":"Picture!AV254","v":0},{"$f":"Picture!AW254","v":0},{"$f":"Picture!AX254","v":0},{"$f":"Picture!AY254","v":0},{"$f":"Picture!AZ254","v":0}]
[{"$f":"Picture!A255","v":0},{"$f":"Picture!B255","v":0},{"$f":"Picture!C255","v":0},{"$f":"Picture!D255","v":0},{"$f":"Picture!E255","v":0},{"$f":"Picture!F255","v":0},{"$f":"Picture!G255","v":0},{"$f":"Picture!H255","v":0},{"$f":"Picture!I255","v":0},{"$f":"Picture!J255","v":0},{"$f":"Picture!K255","v":0},{"$f":"Picture!L255","v":0},{"$f":"Picture!M255","v":0},{"$f":"Picture!N255","v":0},{"$f":"Picture!O255","v":0},{"$f":"Picture!P255","v":0},{"$f":"Picture!Q255","v":0},{"$f":"Picture!R255","v":0},{"$f":"Picture!S255","v":0},{"$f":"Picture!T255","v":0},{"$f":"Picture!U255","v":0},{"$f":"Picture!V255","v":0},{"$f":"Picture!W255","v":0},{"$f":"Picture!X255","v":0},{"$f":"Picture!Y255","v":0},{"$f":"Picture!Z255","v":0},{"$f":"Picture!AA255","v":0},{"$f":"Picture!AB255","v":0},{"$f":"Picture!AC255","v":0},{"$f":"Picture!AD255","v":0},{"$f":"Picture!AE255","v":0},{"$f":"Picture!AF255","v":0},{"$f":"Picture!AG255","v":0},{"$f":"Picture!AH255","v":0},{"$f":"Picture!AI255","v":0},{"$f":"Picture!AJ255","v":0},{"$f":"Picture!AK255","v":0},{"$f":"Picture!AL255","v":0},{"$f":"Picture!AM255","v":0},{"$f":"Picture!AN255","v":0},{"$f":"Picture!AO255","v":0},{"$f":"Picture!AP255","v":0},{"$f":"Picture!AQ255","v":0},{"$f":"Picture!AR255","v":0},{"$f":"Picture!AS255","v":0},{"$f":"Picture!AT255","v":0},{"$f":"Picture!AU255","v":0},{"$f":"Picture!AV255","v":0},{"$f":"Picture!AW255","v":0},{"$f":"Picture!AX255","v":0},{"$f":"Picture!AY255","v":0},{"$f":"Picture!AZ255","v":0}]
[{"$f":"Picture!A256","v":0},{"$f":"Picture!B256","v":0},{"$f":"Picture!C256","v":0},{"$f":"Picture!D256","v":0},{"$f":"Picture!E256","v":0},{"$f":"Picture!F256","v":0},{"$f":"Picture!G256","v":0},{"$f":"Picture!H256","v":0},{"$f":"Picture!I256","v":0},{"$f":"Picture!J256","v":0},{"$f":"Picture!K256","v":0},{"$f":"Picture!L256","v":0},{"$f":"Picture!M256","v":0},{"$f":"Picture!N256","v":0},{"$f":"Picture!O256","v":0},{"$f":"Picture!P256","v":0},{"$f":"Picture!Q256","v":0},{"$f":"Picture!R256","v":0},{"$f":"Picture!S256","v":0},{"$f":"Picture!T256","v":0},{"$f":"Picture!U256","v":0},{"$f":"Picture!V256","v":0},{"$f":"Picture!W256","v":0},{"$f":"Picture!X256","v":0},{"$f":"Picture!Y256","v":0},{"$f":"Picture!Z256","v":0},{"$f":"Picture!AA256","v":0},{"$f":"Picture!AB256","v":0},{"$f":"Picture!AC256","v":0},{"$f":"Picture!AD256","v":0},{"$f":"Picture!AE256","v":0},{"$f":"Picture!AF256","v":0},{"$f":"Picture!AG256","v":0},{"$f":"Picture!AH256","v":0},{"$f":"Picture!AI256","v":0},{"$f":"Picture!AJ256","v":0},{"$f":"Picture!AK256","v":0},{"$f":"Picture!AL256","v":0},{"$f":"Picture!AM256","v":0},{"$f":"Picture!AN256","v":0},{"$f":"Picture!AO256","v":0},{"$f":"Picture!AP256","v":0},{"$f":"Picture!AQ256","v":0},{"$f":"Picture!AR256","v":0},{"$f":"Picture!AS256","v":0},{"$f":"Picture!AT256","v":0},{"$f":"Picture!AU256","v":0},{"$f":"Picture!AV256","v":0},{"$f":"Picture!AW256","v":0},{"$f":"Picture!AX256","v":0},{"$f":"Picture!AY256","v":0},{"$f":"Picture!AZ256","v":0}]
[{"$f":"Picture!A257","v":0},{"$f":"Picture!B257","v":0},{"$f":"Picture!C257","v":0},{"$f":"Picture!D257","v":0},{"$f":"Picture!E257","v":0},{"$f":"Picture!F257","v":0},{"$f":"Picture!G257","v":0},{"$f":"Picture!H257","v":0},{"$f":"Picture!I257","v":0},{"$f":"Picture!J257","v":0},{"$f":"Picture!K257","v":0},{"$f":"Picture!L257","v":0},{"$f":"Picture!M257","v":0},{"$f":"Picture!N257","v":0},{"$f":"Picture!O257","v":0},{"$f":"Picture!P257","v":0},{"$f":"Picture!Q257","v":0},{"$f":"Picture!R257","v":0},{"$f":"Picture!S257","v":0},{"$f":"Picture!T257","v":0},{"$f":"Picture!U257","v":0},{"$f":"Picture!V257","v":0},{"$f":"Picture!W257","v":0},{"$f":"Picture!X257","v":0},{"$f":"Picture!Y257","v":0},{"$f":"Picture!Z257","v":0},{"$f":"Picture!AA257","v":0},{"$f":"Picture!AB257","v":0},{"$f":"Picture!AC257","v":0},{"$f":"Picture!AD257","v":0},{"$f":"Picture!AE257","v":0},{"$f":"Picture!AF257","v":0},{"$f":"Picture!AG257","v":0},{"$f":"Picture!AH257","v":0},{"$f":"Picture!AI257","v":0},{"$f":"Picture!AJ257","v":0},{"$f":"Picture!AK257","v":0},{"$f":"Picture!AL257","v":0},{"$f":"Picture!AM257","v":0},{"$f":"Picture!AN257","v":0},{"$f":"Picture!AO257","v":0},{"$f":"Picture!AP257","v":0},{"$f":"Picture!AQ257","v":0},{"$f":"Picture!AR257","v":0},{"$f":"Picture!AS257","v":0},{"$f":"Picture!AT257","v":0},{"$f":"Picture!AU257","v":0},{"$f":"Picture!AV257","v":0},{"$f":"Picture!AW257","v":0},{"$f":"Picture!AX257","v":0},{"$f":"Picture!AY257","v":0},{"$f":"Picture!AZ257","v":0}]
[{"$f":"Picture!A258","v":0},{"$f":"Picture!B258","v":0},{"$f":"Picture!C258","v":0},{"$f":"Picture!D258","v":0},{"$f":"Picture!E258","v":0},{"$f":"Picture!F258","v":0},{"$f":"Picture!G258","v":0},{"$f":"Picture!H258","v":0},{"$f":"Picture!I258","v":0},{"$f":"Picture!J258","v":0},{"$f":"Picture!K258","v":0},{"$f":"Picture!L258","v":0},{"$f":"Picture!M258","v":0},{"$f":"Picture!N258","v":0},{"$f":"Picture!O258","v":0},{"$f":"Picture!P258","v":0},{"$f":"Picture!Q258","v":0},{"$f":"Picture!R258","v":0},{"$f":"Picture!S258","v":0},{"$f":"Picture!T258","v":0},{"$f":"Picture!U258","v":0},{"$f":"Picture!V258","v":0},{"$f":"Picture!W258","v":0},{"$f":"Picture!X258","v":0},{"$f":"Picture!Y258","v":0},{"$f":"Picture!Z258","v":0},{"$f":"Picture!AA258","v":0},{"$f":"Picture!AB258","v":0},{"$f":"Picture!AC258","v":0},{"$f":"Picture!AD258","v":0},{"$f":"Picture!AE258","v":0},{"$f":"Picture!AF258","v":0},{"$f":"Picture!AG258","v":0},{"$f":"Picture!AH258","v":0},{"$f":"Picture!AI258","v":0},{"$f":"Picture!AJ258","v":0},{"$f":"Picture!AK258","v":0},{"$f":"Picture!AL258","v":0},{"$f":"Picture!AM258","v":0},{"$f":"Picture!AN258","v":0},{"$f":"Picture!AO258","v":0},{"$f":"Picture!AP258","v":0},{"$f":"Picture!AQ258","v":0},{"$f":"Picture!AR258","v":0},{"$f":"Picture!AS258","v":0},{"$f":"Picture!AT258","v":0},{"$f":"Picture!AU258","v":0},{"$f":"Picture!AV258","v":0},{"$f":"Picture!AW258","v":0},{"$f":"Picture!AX258","v":0},{"$f":"Picture!AY258","v":0},{"$f":"Picture!AZ258","v":0}]
[{"$f":"Picture!A259","v":0},{"$f":"Picture!B259","v":0},{"$f":"Picture!C259","v":0},{"$f":"Picture!D259","v":0},{"$f":"Picture!E259","v":0},{"$f":"Picture!F259","v":0},{"$f":"Picture!G259","v":0},{"$f":"Picture!H259","v":0},{"$f":"Picture!I259","v":0},{"$f":"Picture!J259","v":0},{"$f":"Picture!K259","v":0},{"$f":"Picture!L259","v":0},{"$f":"Picture!M259","v":0},{"$f":"Picture!N259","v":0},{"$f":"Picture!O259","v":0},{"$f":"Picture!P259","v":0},{"$f":"Picture!Q259","v":0},{"$f":"Picture!R259","v":0},{"$f":"Picture!S259","v":0},{"$f":"Picture!T259","v":0},{"$f":"Picture!U259","v":0},{"$f":"Picture!V259","v":0},{"$f":"Picture!W259","v":0},{"$f":"Picture!X259","v":0},{"$f":"Picture!Y259","v":0},{"$f":"Picture!Z259","v":0},{"$f":"Picture!AA259","v":0},{"$f":"Picture!AB259","v":0},{"$f":"Picture!AC259","v":0},{"$f":"Picture!AD259","v":0},{"$f":"Picture!AE259","v":0},{"$f":"Picture!AF259","v":0},{"$f":"Picture!AG259","v":0},{"$f":"Picture!AH259","v":0},{"$f":"Picture!AI259","v":0},{"$f":"Picture!AJ259","v":0},{"$f":"Picture!AK259","v":0},{"$f":"Picture!AL259","v":0},{"$f":"Picture!AM259","v":0},{"$f":"Picture!AN259","v":0},{"$f":"Picture!AO259","v":0},{"$f":"Picture!AP259","v":0},{"$f":"Picture!AQ259","v":0},{"$f":"Picture!AR259","v":0},{"$f":"Picture!AS259","v":0},{"$f":"Picture!AT259","v":0},{"$f":"Picture!AU259","v":0},{"$f":"Picture!AV259","v":0},{"$f":"Picture!AW259","v":0},{"$f":"Picture!AX259","v":0},{"$f":"Picture!AY259","v":0},{"$f":"Picture!AZ259","v":0}]
[{"$f":"Picture!A260","v":0},{"$f":"Picture!B260","v":0},{"$f":"Picture!C260","v":0},{"$f":"Picture!D260","v":0},{"$f":"Picture!E260","v":0},{"$f":"Picture!F260","v":0},{"$f":"Picture!G260","v":0},{"$f":"Picture!H260","v":0},{"$f":"Picture!I260","v":0},{"$f":"Picture!J260","v":0},{"$f":"Picture!K260","v":0},{"$f":"Picture!L260","v":0},{"$f":"Picture!M260","v":0},{"$f":"Picture!N260","v":0},{"$f":"Picture!O260","v":0},{"$f":"Picture!P260","v":0},{"$f":"Picture!Q260","v":0},{"$f":"Picture!R260","v":0},{"$f":"Picture!S260","v":0},{"$f":"Picture!T260","v":0},{"$f":"Picture!U260","v":0},{"$f":"Picture!V260","v":0},{"$f":"Picture!W260","v":0},{"$f":"Picture!X260","v":0},{"$f":"Picture!Y260","v":0},{"$f":"Picture!Z260","v":0},{"$f":"Picture!AA260","v":0},{"$f":"Picture!AB260","v":0},{"$f":"Picture!AC260","v":0},{"$f":"Picture!AD260","v":0},{"$f":"Picture!AE260","v":0},{"$f":"Picture!AF260","v":0},{"$f":"Picture!AG260","v":0},{"$f":"Picture!AH260","v":0},{"$f":"Picture!AI260","v":0},{"$f":"Picture!AJ260","v":0},{"$f":"Picture!AK260","v":0},{"$f":"Picture!AL260","v":0},{"$f":"Picture!AM260","v":0},{"$f":"Picture!AN260","v":0},{"$f":"Picture!AO260","v":0},{"$f":"Picture!AP260","v":0},{"$f":"Picture!AQ260","v":0},{"$f":"Picture!AR260","v":0},{"$f":"Picture!AS260","v":0},{"$f":"Picture!AT260","v":0},{"$f":"Picture!AU260","v":0},{"$f":"Picture!AV260","v":0},{"$f":"Picture!AW260","v":0},{"$f":"Picture!AX260","v":0},{"$f":"Picture!AY260","v":0},{"$f":"Picture!AZ260","v":0}]
[{"$f":"Picture!A261","v":0},{"$f":"Picture!B261","v":0},{"$f":"Picture!C261","v":0},{"$f":"Picture!D261","v":0},{"$f":"Picture!E261","v":0},{"$f":"Picture!F261","v":0},{"$f":"Picture!G261","v":0},{"$f":"Picture!H261","v":0},{"$f":"Picture!I261","v":0},{"$f":"Picture!J261","v":0},{"$f":"Picture!K261","v":0},{"$f":"Picture!L261","v":0},{"$f":"Picture!M261","v":0},{"$f":"Picture!N261","v":0},{"$f":"Picture!O261","v":0},{"$f":"Picture!P261","v":0},{"$f":"Picture!Q261","v":0},{"$f":"Picture!R261","v":0},{"$f":"Picture!S261","v":0},{"$f":"Picture!T261","v":0},{"$f":"Picture!U261","v":0},{"$f":"Picture!V261","v":0},{"$f":"Picture!W261","v":0},{"$f":"Picture!X261","v":0},{"$f":"Picture!Y261","v":0},{"$f":"Picture!Z261","v":0},{"$f":"Picture!AA261","v":0},{"$f":"Picture!AB261","v":0},{"$f":"Picture!AC261","v":0},{"$f":"Picture!AD261","v":0},{"$f":"Picture!AE261","v":0},{"$f":"Picture!AF261","v":0},{"$f":"Picture!AG261","v":0},{"$f":"Picture!AH261","v":0},{"$f":"Picture!AI261","v":0},{"$f":"Picture!AJ261","v":0},{"$f":"Picture!AK261","v":0},{"$f":"Picture!AL261","v":0},{"$f":"Picture!AM261","v":0},{"$f":"Picture!AN261","v":0},{"$f":"Picture!AO261","v":0},{"$f":"Picture!AP261","v":0},{"$f":"Picture!AQ261","v":0},{"$f":"Picture!AR261","v":0},{"$f":"Picture!AS261","v":0},{"$f":"Picture!AT261","v":0},{"$f":"Picture!AU261","v":0},{"$f":"Picture!AV261","v":0},{"$f":"Picture!AW261","v":0},{"$f":"Picture!AX261","v":0},{"$f":"Picture!AY261","v":0},{"$f":"Picture!AZ261","v":0}]
[{"$f":"Picture!A262","v":0},{"$f":"Picture!B262","v":0},{"$f":"Picture!C262","v":0},{"$f":"Picture!D262","v":0},{"$f":"Picture!E262","v":0},{"$f":"Picture!F262","v":0},{"$f":"Picture!G262","v":0},{"$f":"Picture!H262","v":0},{"$f":"Picture!I262","v":0},{"$f":"Picture!J262","v":0},{"$f":"Picture!K262","v":0},{"$f":"Picture!L262","v":0},{"$f":"Picture!M262","v":0},{"$f":"Picture!N262","v":0},{"$f":"Picture!O262","v":0},{"$f":"Picture!P262","v":0},{"$f":"Picture!Q262","v":0},{"$f":"Picture!R262","v":0},{"$f":"Picture!S262","v":0},{"$f":"Picture!T262","v":0},{"$f":"Picture!U262","v":0},{"$f":"Picture!V262","v":0},{"$f":"Picture!W262","v":0},{"$f":"Picture!X262","v":0},{"$f":"Picture!Y262","v":0},{"$f":"Picture!Z262","v":0},{"$f":"Picture!AA262","v":0},{"$f":"Picture!AB262","v":0},{"$f":"Picture!AC262","v":0},{"$f":"Picture!AD262","v":0},{"$f":"Picture!AE262","v":0},{"$f":"Picture!AF262","v":0},{"$f":"Picture!AG262","v":0},{"$f":"Picture!AH262","v":0},{"$f":"Picture!AI262","v":0},{"$f":"Picture!AJ262","v":0},{"$f":"Picture!AK262","v":0},{"$f":"Picture!AL262","v":0},{"$f":"Picture!AM262","v":0},{"$f":"Picture!AN262","v":0},{"$f":"Picture!AO262","v":0},{"$f":"Picture!AP262","v":0},{"$f":"Picture!AQ262","v":0},{"$f":"Picture!AR262","v":0},{"$f":"Picture!AS262","v":0},{"$f":"Picture!AT262","v":0},{"$f":"Picture!AU262","v":0},{"$f":"Picture!AV262","v":0},{"$f":"Picture!AW262","v":0},{"$f":"Picture!AX262","v":0},{"$f":"Picture!AY262","v":0},{"$f":"Picture!AZ262","v":0}]
[{"$f":"Picture!A263","v":0},{"$f":"Picture!B263","v":0},{"$f":"Picture!C263","v":0},{"$f":"Picture!D263","v":0},{"$f":"Picture!E263","v":0},{"$f":"Picture!F263","v":0},{"$f":"Picture!G263","v":0},{"$f":"Picture!H263","v":0},{"$f":"Picture!I263","v":0},{"$f":"Picture!J263","v":0},{"$f":"Picture!K263","v":0},{"$f":"Picture!L263","v":0},{"$f":"Picture!M263","v":0},{"$f":"Picture!N263","v":0},{"$f":"Picture!O263","v":0},{"$f":"Picture!P263","v":0},{"$f":"Picture!Q263","v":0},{"$f":"Picture!R263","v":0},{"$f":"Picture!S263","v":0},{"$f":"Picture!T263","v":0},{"$f":"Picture!U263","v":0},{"$f":"Picture!V263","v":0},{"$f":"Picture!W263","v":0},{"$f":"Picture!X263","v":0},{"$f":"Picture!Y263","v":0},{"$f":"Picture!Z263","v":0},{"$f":"Picture!AA263","v":0},{"$f":"Picture!AB263","v":0},{"$f":"Picture!AC263","v":0},{"$f":"Picture!AD263","v":0},{"$f":"Picture!AE263","v":0},{"$f":"Picture!AF263","v":0},{"$f":"Picture!AG263","v":0},{"$f":"Picture!AH263","v":0},{"$f":"Picture!AI263","v":0},{"$f":"Picture!AJ263","v":0},{"$f":"Picture!AK263","v":0},{"$f":"Picture!AL263","v":0},{"$f":"Picture!AM263","v":0},{"$f":"Picture!AN263","v":0},{"$f":"Picture!AO263","v":0},{"$f":"Picture!AP263","v":0},{"$f":"Picture!AQ263","v":0},{"$f":"Picture!AR263","v":0},{"$f":"Picture!AS263","v":0},{"$f":"Picture!AT263","v":0},{"$f":"Picture!AU263","v":0},{"$f":"Picture!AV263","v":0},{"$f":"Picture!AW263","v":0},{"$f":"Picture!AX263","v":0},{"$f":"Picture!AY263","v":0},{"$f":"Picture!AZ263","v":0}]
[{"$f":"Picture!A264","v":0},{"$f":"Picture!B264","v":0},{"$f":"Picture!C264","v":0},{"$f":"Picture!D264","v":0},{"$f":"Picture!E264","v":0},{"$f":"Picture!F264","v":0},{"$f":"Picture!G264","v":0},{"$f":"Picture!H264","v":0},{"$f":"Picture!I264","v":0},{"$f":"Picture!J264","v":0},{"$f":"Picture!K264","v":0},{"$f":"Picture!L264","v":0},{"$f":"Picture!M264","v":0},{"$f":"Picture!N264","v":0},{"$f":"Picture!O264","v":0},{"$f":"Picture!P264","v":0},{"$f":"Picture!Q264","v":0},{"$f":"Picture!R264","v":0},{"$f":"Picture!S264","v":0},{"$f":"Picture!T264","v":0},{"$f":"Picture!U264","v":0},{"$f":"Picture!V264","v":0},{"$f":"Picture!W264","v":0},{"$f":"Picture!X264","v":0},{"$f":"Picture!Y264","v":0},{"$f":"Picture!Z264","v":0},{"$f":"Picture!AA264","v":0},{"$f":"Picture!AB264","v":0},{"$f":"Picture!AC264","v":0},{"$f":"Picture!AD264","v":0},{"$f":"Picture!AE264","v":0},{"$f":"Picture!AF264","v":0},{"$f":"Picture!AG264","v":0},{"$f":"Picture!AH264","v":0},{"$f":"Picture!AI264","v":0},{"$f":"Picture!AJ264","v":0},{"$f":"Picture!AK264","v":0},{"$f":"Picture!AL264","v":0},{"$f":"Picture!AM264","v":0},{"$f":"Picture!AN264","v":0},{"$f":"Picture!AO264","v":0},{"$f":"Picture!AP264","v":0},{"$f":"Picture!AQ264","v":0},{"$f":"Picture!AR264","v":0},{"$f":"Picture!AS264","v":0},{"$f":"Picture!AT264","v":0},{"$f":"Picture!AU264","v":0},{"$f":"Picture!AV264","v":0},{"$f":"Picture!AW264","v":0},{"$f":"Picture!AX264","v":0},{"$f":"Picture!AY264","v":0},{"$f":"Picture!AZ264","v":0}]
[{"$f":"Picture!A265","v":0},{"$f":"Picture!B265","v":0},{"$f":"Picture!C265","v":0},{"$f":"Picture!D265","v":0},{"$f":"Picture!E265","v":0},{"$f":"Picture!F265","v":0},{"$f":"Picture!G265","v":0},{"$f":"Picture!H265","v":0},{"$f":"Picture!I265","v":0},{"$f":"Picture!J265","v":0},{"$f":"Picture!K265","v":0},{"$f":"Picture!L265","v":0},{"$f":"Picture!M265","v":0},{"$f":"Picture!N265","v":0},{"$f":"Picture!O265","v":0},{"$f":"Picture!P265","v":0},{"$f":"Picture!Q265","v":0},{"$f":"Picture!R265","v":0},{"$f":"Picture!S265","v":0},{"$f":"Picture!T265","v":0},{"$f":"Picture!U265","v":0},{"$f":"Picture!V265","v":0},{"$f":"Picture!W265","v":0},{"$f":"Picture!X265","v":0},{"$f":"Picture!Y265","v":0},{"$f":"Picture!Z265","v":0},{"$f":"Picture!AA265","v":0},{"$f":"Picture!AB265","v":0},{"$f":"Picture!AC265","v":0},{"$f":"Picture!AD265","v":0},{"$f":"Picture!AE265","v":0},{"$f":"Picture!AF265","v":0},{"$f":"Picture!AG265","v":0},{"$f":"Picture!AH265","v":0},{"$f":"Picture!AI265","v":0},{"$f":"Picture!AJ265","v":0},{"$f":"Picture!AK265","v":0},{"$f":"Picture!AL265","v":0},{"$f":"Picture!AM265","v":0},{"$f":"Picture!AN265","v":0},{"$f":"Picture!AO265","v":0},{"$f":"Picture!AP265","v":0},{"$f":"Picture!AQ265","v":0},{"$f":"Picture!AR265","v":0},{"$f":"Picture!AS265","v":0},{"$f":"Picture!AT265","v":0},{"$f":"Picture!AU265","v":0},{"$f":"Picture!AV265","v":0},{"$f":"Picture!AW265","v":0},{"$f":"Picture!AX265","v":0},{"$f":"Picture!AY265","v":0},{"$f":"Picture!AZ265","v":0}]

{"sheet":"Picture","index":3,"n_rows":0,"n_cols":0,"rows_kept":0,"cut":false,"hidden":true,"merged":[]}